BEGIN:VCALENDAR
VERSION:2.0
PRODID:-//Transport for Ireland - ECPv6.15.20//NONSGML v1.0//EN
CALSCALE:GREGORIAN
METHOD:PUBLISH
X-WR-CALNAME:Transport for Ireland
X-ORIGINAL-URL:https://www.transportforireland.ie
X-WR-CALDESC:Events for Transport for Ireland
REFRESH-INTERVAL;VALUE=DURATION:PT1H
X-Robots-Tag:noindex
X-PUBLISHED-TTL:PT1H
BEGIN:VTIMEZONE
TZID:Europe/Dublin
BEGIN:STANDARD
TZOFFSETFROM:+0000
TZOFFSETTO:+0100
TZNAME:IST
DTSTART:20250330T010000
END:STANDARD
BEGIN:DAYLIGHT
TZOFFSETFROM:+0100
TZOFFSETTO:+0000
TZNAME:GMT
DTSTART:20251026T010000
END:DAYLIGHT
BEGIN:STANDARD
TZOFFSETFROM:+0000
TZOFFSETTO:+0100
TZNAME:IST
DTSTART:20260329T010000
END:STANDARD
BEGIN:DAYLIGHT
TZOFFSETFROM:+0100
TZOFFSETTO:+0000
TZNAME:GMT
DTSTART:20261025T010000
END:DAYLIGHT
BEGIN:STANDARD
TZOFFSETFROM:+0000
TZOFFSETTO:+0100
TZNAME:IST
DTSTART:20270328T010000
END:STANDARD
BEGIN:DAYLIGHT
TZOFFSETFROM:+0100
TZOFFSETTO:+0000
TZNAME:GMT
DTSTART:20271031T010000
END:DAYLIGHT
END:VTIMEZONE
BEGIN:VEVENT
DTSTART;TZID=Europe/Dublin:20260517T093000
DTEND;TZID=Europe/Dublin:20260517T120000
DTSTAMP:20260421T212635
CREATED:20260421T144722Z
LAST-MODIFIED:20260421T144722Z
UID:10001946-1779010200-1779019200@www.transportforireland.ie
SUMMARY:Ballyhoura Bike Week - MTB For All
DESCRIPTION:Try-A-Bike for kids and teenagers. Family and Social Group Rides for all ages and abilities.
URL:https://www.transportforireland.ie/bikeweek-event/ballyhoura-bike-week-mtb-for-all-5/
LOCATION:Ballyhoura Mountain Bike Centre\, Ballyhoura Mountain Bike Centre
CATEGORIES:Fun and Interactive,Leisure and Recreational
ATTACH;FMTTYPE=image/png:https://www.transportforireland.ie/wp-content/uploads/2026/04/Add-a-heading-Facebook-Profile-Frame-Facebook-Profile-Picture-1-3.png
END:VEVENT
BEGIN:VEVENT
DTSTART;TZID=Europe/Dublin:20260517T093000
DTEND;TZID=Europe/Dublin:20260517T170000
DTSTAMP:20260421T212635
CREATED:20260416T140517Z
LAST-MODIFIED:20260416T140517Z
UID:10001548-1779010200-1779037200@www.transportforireland.ie
SUMMARY:Cycle Freedom
DESCRIPTION:“Celebrate Bike Week with the wind in your hair and the freedom of two wheels! Our Cycle Freedom event invites everyone to explore the stunning landscapes of Cork Harbour and East Cork—completely free of charge. Whether you’re drawn to the sweeping views of the Cork Harbour Greenway or the peaceful paths of the Midleton-Youghal Greenway\, we’ve got you covered. Free standard bike hire will be available from our three convenient depots in Cork City\, Midleton\, and Youghal. It’s the perfect chance to grab a friend\, bring the family\, or enjoy some solo pedalling as you discover hidden gems and breathe in that fresh Cork air. Please note: e-bikes are not included as part of this promotion. With something for every kind of rider\, Cycle Freedom is about reconnecting with the outdoors\, embracing a healthier lifestyle\, and enjoying the simple joy of cycling.”
URL:https://www.transportforireland.ie/bikeweek-event/cycle-freedom/
LOCATION:Cork Bike Hire Marina Market Depot\, Cork Bike Hire Marina Market Depot
CATEGORIES:Leisure and Recreational
ATTACH;FMTTYPE=image/png:https://www.transportforireland.ie/wp-content/uploads/2026/04/Bike-Week-Image-34.png
END:VEVENT
BEGIN:VEVENT
DTSTART;TZID=Europe/Dublin:20260517T093000
DTEND;TZID=Europe/Dublin:20260517T170000
DTSTAMP:20260421T212635
CREATED:20260417T101609Z
LAST-MODIFIED:20260417T101609Z
UID:10001547-1779010200-1779037200@www.transportforireland.ie
SUMMARY:Cycle Freedom
DESCRIPTION:Celebrate Bike Week with the wind in your hair and the freedom of two wheels! Our Cycle Freedom event invites everyone to explore the stunning landscapes of Cork Harbour and East Cork—completely free of charge. Whether you’re drawn to the sweeping views of the Cork Harbour Greenway or the peaceful paths of the Midleton-Youghal Greenway\, we’ve got you covered. Free standard bike hire will be available from our three convenient depots in Cork City\, Midleton\, and Youghal. It’s the perfect chance to grab a friend\, bring the family\, or enjoy some solo pedalling as you discover hidden gems and breathe in that fresh Cork air. Please note: e-bikes are not included as part of this promotion. With something for every kind of rider\, Cycle Freedom is about reconnecting with the outdoors\, embracing a healthier lifestyle\, and enjoying the simple joy of cycling.
URL:https://www.transportforireland.ie/bikeweek-event/cycle-freedom-2/
LOCATION:Cork Bike Hire Midleton Depot\, Cork Bike Hire/Midleton Depot
CATEGORIES:Leisure and Recreational
ATTACH;FMTTYPE=image/png:https://www.transportforireland.ie/wp-content/uploads/2026/04/Bike-Week-Image-33.png
END:VEVENT
BEGIN:VEVENT
DTSTART;TZID=Europe/Dublin:20260517T100000
DTEND;TZID=Europe/Dublin:20260517T120000
DTSTAMP:20260421T212635
CREATED:20260417T091951Z
LAST-MODIFIED:20260417T091951Z
UID:10001549-1779012000-1779019200@www.transportforireland.ie
SUMMARY:Camino Cycle
DESCRIPTION:Cycle Challenge – Laps of the Great Island Cobh & refreshments after in the local rugby club. This event is for members only.
URL:https://www.transportforireland.ie/bikeweek-event/camino-cycle/
LOCATION:Cobh\, Cobh Pirates
CATEGORIES:Leisure and Recreational
ATTACH;FMTTYPE=image/png:https://www.transportforireland.ie/wp-content/uploads/2026/04/Bike-Week-Image-35.png
END:VEVENT
BEGIN:VEVENT
DTSTART;TZID=Europe/Dublin:20260517T110000
DTEND;TZID=Europe/Dublin:20260517T130000
DTSTAMP:20260421T212635
CREATED:20260420T151241Z
LAST-MODIFIED:20260420T151241Z
UID:10001854-1779015600-1779022800@www.transportforireland.ie
SUMMARY:Heritage Cycle around Ring\, Darrara
DESCRIPTION:Local storyteller and artist Mark Dougherty leads a cycle around some historical haunts giving insight and suspense to our fields and ditches. Cycle will be fully marshalled and supported with first aid and mechanical support. Accessible cycle- we will endeavour to make this cycle as accessible as possible. \nMeet and End Point at the bridge in Ring (under mackerel palace). Cycle goes around South Ring\, climbing along headland of Seven Heads before dropping back into Dararra. 10-15km.
URL:https://www.transportforireland.ie/bikeweek-event/heritage-cycle-around-ring-darrara/
LOCATION:Meet and End Point at the bridge in Ring (under mackerel palace). Cycle goes around South RIng\, climbing along headland of Seven Heads before dropping back into Dararra. 10-15km.\, Meet and End Point at the bridge in Ring (under mackerel palace). Cycle goes around South RIng\, climbing along headland of Seven Heads before dropping back into Dararra. 10-15km.
CATEGORIES:Leisure and Recreational
ATTACH;FMTTYPE=image/png:https://www.transportforireland.ie/wp-content/uploads/2026/04/Bike-Week-Image-50.png
END:VEVENT
BEGIN:VEVENT
DTSTART;TZID=Europe/Dublin:20260517T113000
DTEND;TZID=Europe/Dublin:20260517T133000
DTSTAMP:20260421T212635
CREATED:20260417T100626Z
LAST-MODIFIED:20260417T100626Z
UID:10001545-1779017400-1779024600@www.transportforireland.ie
SUMMARY:Courtmac & Back
DESCRIPTION:We will meet Ballinspittle and cycle to Courtmacsherry. Here we’ll do a stop for lunch (a picnic on the beach\, if weather allows!) before cycling back to Ballinspittle for the Bike Week prize raffle. Children attending must be 16+ and if they are under 18 they must be accompanied by an adult.
URL:https://www.transportforireland.ie/bikeweek-event/courtmac-back-2/
LOCATION:Ballinspittle\, Ballinspittle\, parking opposite church (Holy Trinity Catholic Church)
CATEGORIES:Leisure and Recreational
ATTACH;FMTTYPE=image/png:https://www.transportforireland.ie/wp-content/uploads/2026/04/Bike-Week-Image-31.png
END:VEVENT
BEGIN:VEVENT
DTSTART;TZID=Europe/Dublin:20260517T140000
DTEND;TZID=Europe/Dublin:20260517T160000
DTSTAMP:20260421T212635
CREATED:20260421T083727Z
LAST-MODIFIED:20260421T083727Z
UID:10001849-1779026400-1779033600@www.transportforireland.ie
SUMMARY:Cycle to Tragumna through the beautiful Liss Ard estate
DESCRIPTION:Enjoy a gentle cycle with off road locations through beautiful Liss Ard Estate and stunning Tragumna beach with an optional swim for the braver souls . Enjoy delicious food at the Skibbreen Eagle before a cycle back to Skibbereen on a mostly flat route. Route may be to far for children younger than 7.
URL:https://www.transportforireland.ie/bikeweek-event/cycle-to-tragumna-through-the-beautiful-liss-ard-estate/
LOCATION:Skibbereen\, 1 Cois Caol (near the back car park of Hegarty’s /Cost Cutters garage) 8.25am 2 Baltimore Road (at the Skibbereen end of the cycle lane) 8.30am 3 Townshend Street Car park 8.33am 4 Upper Bridge Street Car park (Heritage Centre) 8.36am 5 O’Donovan Rossa Park main entrance 8.40am 6 Footpath by Rugby club 8.45am 7 St Patrick’s BNS - Stop for Gaelscoil\, St Joseph's GNS and St Patrick’s BNS 8.50am 8 Cois Caol back of Hegerty’s garage 9am 9 Abbeystrewry NS 9.05am
CATEGORIES:Leisure and Recreational
ATTACH;FMTTYPE=image/png:https://www.transportforireland.ie/wp-content/uploads/2026/04/Bike-Week-Image-49.png
END:VEVENT
BEGIN:VEVENT
DTSTART;TZID=Europe/Dublin:20260517T140000
DTEND;TZID=Europe/Dublin:20260517T160000
DTSTAMP:20260421T212635
CREATED:20260421T144806Z
LAST-MODIFIED:20260421T144806Z
UID:10001856-1779026400-1779033600@www.transportforireland.ie
SUMMARY:Bike Week Bike Bop
DESCRIPTION:Disco on wheels around Cork City. Children must be accompanied by an adult.
URL:https://www.transportforireland.ie/bikeweek-event/bike-week-bike-bop/
LOCATION:Cork City Centre\, - Michael Collins statue\, Grand Parade.
CATEGORIES:Leisure and Recreational
ATTACH;FMTTYPE=image/png:https://www.transportforireland.ie/wp-content/uploads/2026/04/Bike-Week-Image-52.png
END:VEVENT
BEGIN:VEVENT
DTSTART;TZID=Europe/Dublin:20260518T070000
DTEND;TZID=Europe/Dublin:20260518T080000
DTSTAMP:20260421T212635
CREATED:20260416T094708Z
LAST-MODIFIED:20260416T094708Z
UID:10001551-1779087600-1779091200@www.transportforireland.ie
SUMMARY:Learn to Cycle for adults
DESCRIPTION:Safe and supportive environment for adults who would like to learn to cycle
URL:https://www.transportforireland.ie/bikeweek-event/learn-to-cycle-for-adults/
LOCATION:Skibbereen Sports Centre\, Skibbereen Sports Centre
CATEGORIES:Leisure and Recreational
ATTACH;FMTTYPE=image/jpeg:https://www.transportforireland.ie/wp-content/uploads/2026/04/bikeweek-2026-cork-400x225-1.jpg
END:VEVENT
END:VCALENDAR