BEGIN:VCALENDAR
VERSION:2.0
PRODID:-//Transport for Ireland - ECPv6.15.20//NONSGML v1.0//EN
CALSCALE:GREGORIAN
METHOD:PUBLISH
X-WR-CALNAME:Transport for Ireland
X-ORIGINAL-URL:https://www.transportforireland.ie
X-WR-CALDESC:Events for Transport for Ireland
REFRESH-INTERVAL;VALUE=DURATION:PT1H
X-Robots-Tag:noindex
X-PUBLISHED-TTL:PT1H
BEGIN:VTIMEZONE
TZID:Europe/Dublin
BEGIN:STANDARD
TZOFFSETFROM:+0000
TZOFFSETTO:+0100
TZNAME:IST
DTSTART:20250330T010000
END:STANDARD
BEGIN:DAYLIGHT
TZOFFSETFROM:+0100
TZOFFSETTO:+0000
TZNAME:GMT
DTSTART:20251026T010000
END:DAYLIGHT
BEGIN:STANDARD
TZOFFSETFROM:+0000
TZOFFSETTO:+0100
TZNAME:IST
DTSTART:20260329T010000
END:STANDARD
BEGIN:DAYLIGHT
TZOFFSETFROM:+0100
TZOFFSETTO:+0000
TZNAME:GMT
DTSTART:20261025T010000
END:DAYLIGHT
BEGIN:STANDARD
TZOFFSETFROM:+0000
TZOFFSETTO:+0100
TZNAME:IST
DTSTART:20270328T010000
END:STANDARD
BEGIN:DAYLIGHT
TZOFFSETFROM:+0100
TZOFFSETTO:+0000
TZNAME:GMT
DTSTART:20271031T010000
END:DAYLIGHT
END:VTIMEZONE
BEGIN:VEVENT
DTSTART;VALUE=DATE:20260516
DTEND;VALUE=DATE:20260517
DTSTAMP:20260421T143540
CREATED:20260416T161429Z
LAST-MODIFIED:20260416T161429Z
UID:10001453-1778889600-1778975999@www.transportforireland.ie
SUMMARY:Being Bike Ready
DESCRIPTION:🚲 Get Your Bike Summer-Ready! ☀️ \nJoin us to learn how to properly care for your bike and fix common minor issues\, so you can ride with confidence all season long. \nThe first 10 families will receive a fantastic Bike Pack—everything you need to make sure you’re never stuck without the essentials! \nDon’t miss out—get ready to ride! 🌟
URL:https://www.transportforireland.ie/bikeweek-event/being-bike-ready-2/
LOCATION:Dunfanaghy FRC\, Dunfanaghy\, Donegal
CATEGORIES:Education and Training
ORGANIZER;CN="Donegal County Council and Sports Partnership":MAILTO:@activedonegal.com
END:VEVENT
BEGIN:VEVENT
DTSTART;TZID=Europe/Dublin:20260516T080000
DTEND;TZID=Europe/Dublin:20260516T170000
DTSTAMP:20260421T143540
CREATED:20260420T105551Z
LAST-MODIFIED:20260420T105551Z
UID:10001679-1778918400-1778950800@www.transportforireland.ie
SUMMARY:Trip to Glenveagh
DESCRIPTION:A day of cycling in the stunning surroundings of Glenveagh. Bikes will be hired for the day\, giving participants the chance to explore the area and enjoy its scenic routes at a relaxed pace. \nThis is a fun\, social outing suitable for all abilities\, offering an opportunity to experience one of Ireland’s most beautiful landscapes on two wheels. The focus is on enjoyment\, fresh air\, and spending time outdoors in good company.
URL:https://www.transportforireland.ie/bikeweek-event/trip-to-glenveagh/
LOCATION:Glenveagh\, Glenveagh National Park\, Donegal
CATEGORIES:Fun and Interactive
ORGANIZER;CN="Donegal County Council and Sports Partnership":MAILTO:@activedonegal.com
END:VEVENT
BEGIN:VEVENT
DTSTART;TZID=Europe/Dublin:20260516T100000
DTEND;TZID=Europe/Dublin:20260516T140000
DTSTAMP:20260421T143540
CREATED:20260413T085615Z
LAST-MODIFIED:20260413T085615Z
UID:10001429-1778925600-1778940000@www.transportforireland.ie
SUMMARY:Bike Maintenance for Beginners
DESCRIPTION:We all remember mending punctures as a child\, putting the tube into water and searching for the bubbles. And the rest is a blur. Out on the road\, could you mend a puncture? Do you know how to put your chain back on? Deal with “soft” brakes?\nIf the answer to any of these is no\, then you need this event.\nWe will be running 2 sessions on Saturday 16th May\, at 10am and at 12 noon where you will learn about punctures\, wheels\, chains\, brakes and saddles. Feel free to bring your own bikes along\, or practice on ours.
URL:https://www.transportforireland.ie/bikeweek-event/bike-maintenance-for-beginners-2/
LOCATION:Market Hall\, Glenties\, Donegal
CATEGORIES:Education and Training,Workshops and Maintenance
ATTACH;FMTTYPE=image/jpeg:https://www.transportforireland.ie/wp-content/uploads/2026/04/FB_IMG_1775841804635.jpg
ORGANIZER;CN="Donegal County Council and Sports Partnership":MAILTO:@activedonegal.com
END:VEVENT
BEGIN:VEVENT
DTSTART;TZID=Europe/Dublin:20260516T120000
DTEND;TZID=Europe/Dublin:20260516T150000
DTSTAMP:20260421T143540
CREATED:20260416T113819Z
LAST-MODIFIED:20260416T113819Z
UID:10001452-1778932800-1778943600@www.transportforireland.ie
SUMMARY:Family Bike & Brunch Day
DESCRIPTION:We are hosting our Family Bike and Brunch day on Saturday 16th May at 12 noon. The event is community focused and we invite all families to get involved. The day is designed to get people outside and active during Bike Week. \nWe invite you to register at Ionad Naomh Fionnán at 12 noon\, before your family fun cycle along the scenic route. After your cycle you are welcome back to Ionad Naomh Fionnán for some soup\, sandwiches and refreshments.
URL:https://www.transportforireland.ie/bikeweek-event/family-bike-brunch-day/
LOCATION:Ionad Naomh Fionnán\, Falcarragh\, Donegal
CATEGORIES:Community Engagement
ORGANIZER;CN="Donegal County Council and Sports Partnership":MAILTO:@activedonegal.com
END:VEVENT
BEGIN:VEVENT
DTSTART;VALUE=DATE:20260517
DTEND;VALUE=DATE:20260518
DTSTAMP:20260421T143540
CREATED:20260420T105643Z
LAST-MODIFIED:20260420T105643Z
UID:10001415-1778976000-1779062399@www.transportforireland.ie
SUMMARY:Introduction to Mountain Biking
DESCRIPTION:Mountain biking is a big part of the Tír Chonaill GAP community\, and this Bike Week event is the perfect way to try it out. Starting and finishing at McCafferty’s Bar in Lettermacaward\, beginner riders will be guided off-road along gravel\, farm\, and mountain tracks\, enjoying spectacular scenery and stunning views along the way. Experienced cyclists will ride alongside to help manage the terrain\, and a limited number of bikes are available to borrow on a first-come\, first-served basis\, so be sure to book in advance. Whether you’re new to mountain biking or just looking for some off-road fun\, this event is open to all.
URL:https://www.transportforireland.ie/bikeweek-event/introduction-to-mountain-biking-3/
LOCATION:McCafferty’s\, Lettermacaward\, Donegal
CATEGORIES:Leisure and Recreational
ORGANIZER;CN="Donegal County Council and Sports Partnership":MAILTO:@activedonegal.com
END:VEVENT
BEGIN:VEVENT
DTSTART;TZID=Europe/Dublin:20260517T080000
DTEND;TZID=Europe/Dublin:20260517T170000
DTSTAMP:20260421T143540
CREATED:20260417T095446Z
LAST-MODIFIED:20260417T095446Z
UID:10001688-1779004800-1779037200@www.transportforireland.ie
SUMMARY:Community Bike Day with Barrack Hill
DESCRIPTION:Barrack Hill Town Park will host an action packed event on Sunday 17th May\, beginning with a friendly and informative talk on safe road cycling. This will be followed by a relaxed community cycle led by local cycling experts from Saddle Rock Cycling Club. The beginner-friendly 25km route is designed for adults and casual cyclists\, focusing on building confidence and enjoyment on the road. \nAfter the cycle\, participants will return to Barrack Hill for healthy refreshments and informal socialising. Carndonagh Cycle will run a fun and engaging bike obstacle course for children\, helping them develop cycling skills in a safe and supportive environment. A drop-in bike care clinic will also run throughout the event\, offering practical guidance for teenagers and adults on basic bike maintenance\, including puncture repairs and brake checks.
URL:https://www.transportforireland.ie/bikeweek-event/community-bike-day-with-barrack-hill/
LOCATION:Barrack Hill Town Park\, Carndonagh\, Donegal
CATEGORIES:Bike Festivals and Exhibitions,Community Engagement
ORGANIZER;CN="Donegal County Council and Sports Partnership":MAILTO:@activedonegal.com
END:VEVENT
BEGIN:VEVENT
DTSTART;TZID=Europe/Dublin:20260517T080000
DTEND;TZID=Europe/Dublin:20260517T170000
DTSTAMP:20260421T143540
CREATED:20260420T105310Z
LAST-MODIFIED:20260420T105310Z
UID:10001865-1779004800-1779037200@www.transportforireland.ie
SUMMARY:Clonmany Biking Together
DESCRIPTION:Clonmany Community Centre will deliver an inclusive Bike Week 2026 programme\, building on last year’s successful events and expanding opportunities for all ages and abilities. With a strong focus on accessibility\, the initiative will promote cycling as a healthy and environmentally friendly activity. \nFree workshops\, supported cycling experiences\, and access to equipment will help reduce barriers to participation\, particularly for older adults\, people with disabilities\, and families. The programme will also encourage community connection and highlight local amenities such as Glenevin Waterfall.
URL:https://www.transportforireland.ie/bikeweek-event/clonmany-biking-together/
LOCATION:Clonmany Community Centre\, Clonmany\, Donegal
CATEGORIES:Access and Inclusion,Community Engagement
ORGANIZER;CN="Donegal County Council and Sports Partnership":MAILTO:@activedonegal.com
END:VEVENT
BEGIN:VEVENT
DTSTART;TZID=Europe/Dublin:20260517T090000
DTEND;TZID=Europe/Dublin:20260517T130000
DTSTAMP:20260421T143540
CREATED:20260409T134400Z
LAST-MODIFIED:20260413T094956Z
UID:10001399-1779008400-1779022800@www.transportforireland.ie
SUMMARY:Introduction to Mountain Biking
DESCRIPTION:Mountain Biking is a big part of the Tír Chonaill GAP scene\, and we have attracted many new members to the club through mountain biking\, either directly from Bike Week or from seeing the photos on social media.\nThe event will start and finish at McCafferty’s Bar in Lettermacaward and we will take beginner cyclists off road on gravel\, farm and mountain tracks. The scenery is spectacular\, the views even better\, and the terrain even even better.\nIf you’ve never ridden a mountain bike but fancy a crack at this off road fun\, this is the event for you. You will be joined by experienced cyclists who will help you manage the terrain.\nWe have a few bikes available to lend\, but these will be allocated on a first come first served basis\, so please let us know in advance if you need one.
URL:https://www.transportforireland.ie/bikeweek-event/introduction-to-mountain-biking-2/
LOCATION:McCafferty’s Bar\, Lettermacaward\, Donegal\, F94 KW89
CATEGORIES:Leisure and Recreational
ATTACH;FMTTYPE=image/jpeg:https://www.transportforireland.ie/wp-content/uploads/2026/04/WhatsApp-Image-2026-03-26-at-16.37.22.jpeg
ORGANIZER;CN="Donegal County Council and Sports Partnership":MAILTO:@activedonegal.com
END:VEVENT
BEGIN:VEVENT
DTSTART;TZID=Europe/Dublin:20260517T090000
DTEND;TZID=Europe/Dublin:20260517T170000
DTSTAMP:20260421T143540
CREATED:20260417T100831Z
LAST-MODIFIED:20260417T100831Z
UID:10001687-1779008400-1779037200@www.transportforireland.ie
SUMMARY:CRCU - Bluestack Cycle and Climb
DESCRIPTION:On Sunday 17th May at 9am\, CRCU will host a cycle and climb event at the Bluestack Mountains\, it will consist of a 30km cycle with an optional climb\, followed by a BBQ in the Reelin Bar after.
URL:https://www.transportforireland.ie/bikeweek-event/crcu-bluestack-cycle-and-climb/
LOCATION:Reelin Bar\, Glenfin\, Donegal
CATEGORIES:Leisure and Recreational
ORGANIZER;CN="Donegal County Council and Sports Partnership":MAILTO:@activedonegal.com
END:VEVENT
END:VCALENDAR