BEGIN:VCALENDAR
VERSION:2.0
PRODID:-//Transport for Ireland - ECPv6.15.20//NONSGML v1.0//EN
CALSCALE:GREGORIAN
METHOD:PUBLISH
X-WR-CALNAME:Transport for Ireland
X-ORIGINAL-URL:https://www.transportforireland.ie
X-WR-CALDESC:Events for Transport for Ireland
REFRESH-INTERVAL;VALUE=DURATION:PT1H
X-Robots-Tag:noindex
X-PUBLISHED-TTL:PT1H
BEGIN:VTIMEZONE
TZID:Europe/Dublin
BEGIN:STANDARD
TZOFFSETFROM:+0000
TZOFFSETTO:+0100
TZNAME:IST
DTSTART:20250330T010000
END:STANDARD
BEGIN:DAYLIGHT
TZOFFSETFROM:+0100
TZOFFSETTO:+0000
TZNAME:GMT
DTSTART:20251026T010000
END:DAYLIGHT
BEGIN:STANDARD
TZOFFSETFROM:+0000
TZOFFSETTO:+0100
TZNAME:IST
DTSTART:20260329T010000
END:STANDARD
BEGIN:DAYLIGHT
TZOFFSETFROM:+0100
TZOFFSETTO:+0000
TZNAME:GMT
DTSTART:20261025T010000
END:DAYLIGHT
BEGIN:STANDARD
TZOFFSETFROM:+0000
TZOFFSETTO:+0100
TZNAME:IST
DTSTART:20270328T010000
END:STANDARD
BEGIN:DAYLIGHT
TZOFFSETFROM:+0100
TZOFFSETTO:+0000
TZNAME:GMT
DTSTART:20271031T010000
END:DAYLIGHT
END:VTIMEZONE
BEGIN:VEVENT
DTSTART;VALUE=DATE:20260509
DTEND;VALUE=DATE:20260518
DTSTAMP:20260425T170618
CREATED:20260420T145449Z
LAST-MODIFIED:20260420T145449Z
UID:10001673-1778284800-1779062399@www.transportforireland.ie
SUMMARY:Safe Cycle to School Training Initiative
DESCRIPTION:Royal and Prior Comprehensive will take part in Bike Week 2026 by promoting cycling to school and encouraging more students to cycle where possible. They will run cycle training sessions\, focus on students within a 5km radius of the school\, and share information about local cycling routes and safety. The school will also raise awareness of cycling in the wider school and local community and engage with nearby schools to promote participation in Bike Week activities.
URL:https://www.transportforireland.ie/bikeweek-event/safe-cycle-to-school-training-initiative/
LOCATION:Royal and Prior Comprehensive\, Raphoe\, Donegal
CATEGORIES:Awareness and Safety,Education and Training,Workshops and Maintenance
ORGANIZER;CN="Donegal County Council and Sports Partnership":MAILTO:@activedonegal.com
END:VEVENT
BEGIN:VEVENT
DTSTART;TZID=Europe/Dublin:20260509T080000
DTEND;TZID=Europe/Dublin:20260517T120000
DTSTAMP:20260425T170618
CREATED:20260417T091410Z
LAST-MODIFIED:20260421T144008Z
UID:10001583-1778313600-1779019200@www.transportforireland.ie
SUMMARY:Get On Your Bike
DESCRIPTION:Initiative to get people out cycling and help them gain confidence and skills required to cycle on the road and how to cycle in groups.  And to experience the enjoyment of cycling\, to make friends and find people they can cycle with.  Short spins and non competitive.\nIn Preparation for this we will have a introduction night at the Maldron Hotel to meet those who would like to join and discuss all aspects with them and address any concerns they might have and allow them to meet other cyclists.\nFirst cycle will be on Saturday 9th or 17th May depending on weather for safety reasons and will continue every Saturday for 6 weeks
URL:https://www.transportforireland.ie/bikeweek-event/get-on-your-bike/
LOCATION:Challenge Cycle Club\, Athenry\, Co. Galway.
CATEGORIES:Awareness and Safety,Education and Training,Fun and Interactive,Leisure and Recreational
END:VEVENT
BEGIN:VEVENT
DTSTART;TZID=Europe/Dublin:20260509T090000
DTEND;TZID=Europe/Dublin:20260509T163000
DTSTAMP:20260425T170618
CREATED:20260420T150554Z
LAST-MODIFIED:20260420T150554Z
UID:10001480-1778317200-1778344200@www.transportforireland.ie
SUMMARY:Introduction to Cycling Course - primary school teachers
DESCRIPTION:Cycling Ireland will deliver a one day Introduction to Cycling Course for primary school teachers
URL:https://www.transportforireland.ie/bikeweek-event/introduction-to-cycling-course-primary-school-teachers/
LOCATION:Clare Sports Partnership\, C/o Clare Education Centre\, Government Buildings\, Kilrush Rd\, Clare\, V95 F782
CATEGORIES:Awareness and Safety,Education and Training,Fun and Interactive
END:VEVENT
BEGIN:VEVENT
DTSTART;TZID=Europe/Dublin:20260509T090000
DTEND;TZID=Europe/Dublin:20260517T150000
DTSTAMP:20260425T170618
CREATED:20260422T080408Z
LAST-MODIFIED:20260422T080408Z
UID:10001588-1778317200-1779030000@www.transportforireland.ie
SUMMARY:Lawrencetown Lets Get Active
DESCRIPTION:Community Event \nCycling Without Age – Trishaw Demo\nA short trishaw demonstration for older adults\, with spins around the village and expressions of interest taken for future participation. (13th May 10.00am – 10.30am) \nLawrencetown National School will host a range of school‑based cycling events throughout bike week\, promoting bike skills\, road safety and fun for pupils.
URL:https://www.transportforireland.ie/bikeweek-event/lawrencetown-lets-get-active/
LOCATION:Lawrencetown Community Hall\, Ballinasloe\, Co. Galway.
CATEGORIES:Awareness and Safety,Education and Training,Fun and Interactive,Leisure and Recreational
END:VEVENT
BEGIN:VEVENT
DTSTART;TZID=Europe/Dublin:20260509T100000
DTEND;TZID=Europe/Dublin:20260509T110000
DTSTAMP:20260425T170618
CREATED:20260422T144812Z
LAST-MODIFIED:20260422T144812Z
UID:10002012-1778320800-1778324400@www.transportforireland.ie
SUMMARY:Inclusive Learn to Cycle Castlebar
DESCRIPTION:A 5-week inclusive learn to cycle programme for people with disabilities to develop awareness and safety while on the roads.
URL:https://www.transportforireland.ie/bikeweek-event/inclusive-learn-to-cycle-castlebar/
LOCATION:Castlebar Town Park\, Castlebar\, Mayo\, F23 H344
CATEGORIES:Access and Inclusion,Awareness and Safety,Community Engagement,Fun and Interactive
ATTACH;FMTTYPE=image/png:https://www.transportforireland.ie/wp-content/uploads/2026/04/MSP-Bike-Events-Graphic-1-8.png
END:VEVENT
BEGIN:VEVENT
DTSTART;TZID=Europe/Dublin:20260509T100000
DTEND;TZID=Europe/Dublin:20260509T120000
DTSTAMP:20260425T170618
CREATED:20260417T085459Z
LAST-MODIFIED:20260417T085459Z
UID:10001655-1778320800-1778328000@www.transportforireland.ie
SUMMARY:Bike Week 2026- Hanover Harps
DESCRIPTION:Please note: this event is only for members of Hanover Harps Juvenile Club.\nMorning of cycling and fun activities. Kids will be allowed to cycle around the track surrounding the soccer pitch.\nThey will learn how be safe on their bike and be given general safety tips for cycling.\nKids will enjoy an obstacle course and light refreshments on the morning.
URL:https://www.transportforireland.ie/bikeweek-event/bike-week-2026-hanover-harps/
LOCATION:Hanover Harps FC\, Carlow
CATEGORIES:Access and Inclusion,Awareness and Safety,Community Engagement,Fun and Interactive
ATTACH;FMTTYPE=image/png:https://www.transportforireland.ie/wp-content/uploads/2026/04/Active-Carlow-Drafts-Black-2-22.png
END:VEVENT
BEGIN:VEVENT
DTSTART;TZID=Europe/Dublin:20260509T100000
DTEND;TZID=Europe/Dublin:20260509T150000
DTSTAMP:20260425T170618
CREATED:20260401T080404Z
LAST-MODIFIED:20260422T151814Z
UID:10001376-1778320800-1778338800@www.transportforireland.ie
SUMMARY:Maynooth Cycling Club - Bike Week safety demonstration
DESCRIPTION:🔧 Want to feel more confident on your bike? Come to the Harbour Field this Bike Week! \nMaynooth Cycling Club will be at the Harbour Field on Saturday 9th May from 10am–3pm with free\, hands-on demos: \n✅ How to fix a flat tyre\n✅ Pre-ride checks — what to look out for before you head out \n📍 Harbour Field\, Maynooth\n🗓 Saturday 9th May | 10:00–15:00\n🆓 Free — no booking needed \nSee you there! 🚴 \n#BikeWeek2026 #MaynoothCyclingClub #SeachtainNaRothar #CyclingIreland #bikeweekkildare #bikeweek
URL:https://www.transportforireland.ie/bikeweek-event/maynooth-cycling-club-bike-week-safety-demonstration/
LOCATION:Harbour Field\, Leinster st\, Maynooth\, Kildare
CATEGORIES:Awareness and Safety,Education and Training,Workshops and Maintenance
ATTACH;FMTTYPE=image/png:https://www.transportforireland.ie/wp-content/uploads/2026/03/Gemini_Generated_Image_c5hpmyc5hpmyc5hp.png
END:VEVENT
BEGIN:VEVENT
DTSTART;TZID=Europe/Dublin:20260509T110000
DTEND;TZID=Europe/Dublin:20260509T150000
DTSTAMP:20260425T170618
CREATED:20260416T142154Z
LAST-MODIFIED:20260416T142154Z
UID:10001560-1778324400-1778338800@www.transportforireland.ie
SUMMARY:An Mheitheal Rothar Bike Repair Clinic
DESCRIPTION:“Got squeaky brakes or clunky gears? Come along and learn to fix your own bike with the help of our mechanics! We will be offering basic repairs with the option to learn how to do it yourself or have our experts handle it for you.\nThere will also be salvaged or new parts available if your bike needs them.
URL:https://www.transportforireland.ie/bikeweek-event/an-mheitheal-rothar-bike-repair-clinic/
LOCATION:An Mheitheal Rothar\, The Old Squash Court\, Unit 54\, University Road\, Galway\, H91 EF83
CATEGORIES:Awareness and Safety
END:VEVENT
BEGIN:VEVENT
DTSTART;TZID=Europe/Dublin:20260509T130000
DTEND;TZID=Europe/Dublin:20260509T150000
DTSTAMP:20260425T170618
CREATED:20260420T145721Z
LAST-MODIFIED:20260420T145721Z
UID:10001816-1778331600-1778338800@www.transportforireland.ie
SUMMARY:Inclusion Cycle
DESCRIPTION:Our inclusion cycle session for Bike Week will take place indoors in Longford Athletics Centre. This session will provide a fun\, enjoyable\, safe inclusive cycling session for people with additional needs.
URL:https://www.transportforireland.ie/bikeweek-event/inclusion-cycle/
LOCATION:Longford Athletics Centre\, Rear St Mel's Collage\,\, Co. Longford
CATEGORIES:Awareness and Safety
ATTACH;FMTTYPE=image/png:https://www.transportforireland.ie/wp-content/uploads/2026/04/Bike-Week-Longford-8.png
END:VEVENT
BEGIN:VEVENT
DTSTART;TZID=Europe/Dublin:20260509T180000
DTEND;TZID=Europe/Dublin:20260517T200000
DTSTAMP:20260425T170618
CREATED:20260422T081758Z
LAST-MODIFIED:20260422T081758Z
UID:10001630-1778349600-1779048000@www.transportforireland.ie
SUMMARY:Bike Week 2026 - Palatine G.A.A
DESCRIPTION:Please note: this event is only open to members of Palatine G.A.A\nPromotion of cycling to and from G.A.A events
URL:https://www.transportforireland.ie/bikeweek-event/bike-week-2026-palatine-g-a-a/
LOCATION:Palatine G.A.A Club\, Bennekerry\, Carlow
CATEGORIES:Awareness and Safety,Community Engagement
ATTACH;FMTTYPE=image/png:https://www.transportforireland.ie/wp-content/uploads/2026/04/Active-Carlow-Drafts-Black-2-14.png
END:VEVENT
BEGIN:VEVENT
DTSTART;TZID=Europe/Dublin:20260510T080000
DTEND;TZID=Europe/Dublin:20260515T160000
DTSTAMP:20260425T170618
CREATED:20260420T155813Z
LAST-MODIFIED:20260420T155813Z
UID:10001591-1778400000-1778860800@www.transportforireland.ie
SUMMARY:Bike Week 2026 - School Events
DESCRIPTION:As part of Bike Week 2026\, Presentation College Athenry will run a series of school‑based cycling and active travel events aimed at building confidence\, skills and awareness around cycling and road safety.\nActivities include:\nA Cycle Bus to School involving students\, parents and staff\nBike mechanic and maintenance sessions for students and parents\nSkill‑based cycling sessions focusing on balance\, control and confidence\nGirls‑only cycling initiatives to encourage participation and confidence\nRoad safety talks for students\nA fun\, inclusive Schoolathlon combining cycling and other activities
URL:https://www.transportforireland.ie/bikeweek-event/bike-week-2026-school-events/
LOCATION:Presentation Secondary School\, Athenry\, Co Galway
CATEGORIES:Awareness and Safety,Challenges and Competitions,Education and Training,Fun and Interactive,Leisure and Recreational,Workshops and Maintenance
END:VEVENT
BEGIN:VEVENT
DTSTART;TZID=Europe/Dublin:20260510T120000
DTEND;TZID=Europe/Dublin:20260510T130000
DTSTAMP:20260425T170618
CREATED:20260422T081930Z
LAST-MODIFIED:20260422T081930Z
UID:10001930-1778414400-1778418000@www.transportforireland.ie
SUMMARY:Talk on E-bike Safety
DESCRIPTION:This talk will provide information to the public on ebike safety including: \n– E-bike safety knowledge\n– how to operate controls on an E-bike and a test cycle\n– what specifications to look for when buying an E-bike that are most suitable to the buyer
URL:https://www.transportforireland.ie/bikeweek-event/talk-on-e-bike-safety-2/
LOCATION:PADDY & NELLY BIKE HIRE\, CHURCH STREET\, WESTPORT\, F28 A2N4
CATEGORIES:Awareness and Safety,Community Engagement,Education and Training
ATTACH;FMTTYPE=image/png:https://www.transportforireland.ie/wp-content/uploads/2026/04/MSP-Bike-Events-Graphic-1-2.png
END:VEVENT
BEGIN:VEVENT
DTSTART;VALUE=DATE:20260511
DTEND;VALUE=DATE:20260512
DTSTAMP:20260425T170618
CREATED:20260422T144955Z
LAST-MODIFIED:20260422T144955Z
UID:10001836-1778457600-1778543999@www.transportforireland.ie
SUMMARY:Cycle Right
DESCRIPTION:Children from two local national schools between the ages of 9-12 taught how to cycle safely by trainers from The Cycling Safety Skills School
URL:https://www.transportforireland.ie/bikeweek-event/cycle-right-2/
LOCATION:n/a\, South Dublin County Council
CATEGORIES:Awareness and Safety,Education and Training
END:VEVENT
BEGIN:VEVENT
DTSTART;VALUE=DATE:20260511
DTEND;VALUE=DATE:20260516
DTSTAMP:20260425T170618
CREATED:20260421T085411Z
LAST-MODIFIED:20260421T085411Z
UID:10001783-1778457600-1778889599@www.transportforireland.ie
SUMMARY:Ballymore Bikers
DESCRIPTION:Bike workshop & Cycle to school every morning to get people together in a safe and secure way in order to enjoy our locality by bicycle
URL:https://www.transportforireland.ie/bikeweek-event/ballymore-bikers/
LOCATION:Scoil Eoin Naofa\, Ballymore\, Mullingar\, CO.Westmeath\, Westmeath\, Ireland
CATEGORIES:Awareness and Safety,Challenges and Competitions,Community Engagement
ORGANIZER;CN="Westmeath County Council and Sports Partnership":MAILTO:info@westmeathsports.ie
END:VEVENT
BEGIN:VEVENT
DTSTART;VALUE=DATE:20260511
DTEND;VALUE=DATE:20260516
DTSTAMP:20260425T170618
CREATED:20260421T120329Z
LAST-MODIFIED:20260421T120329Z
UID:10001793-1778457600-1778889599@www.transportforireland.ie
SUMMARY:St Colmans NS- Bike Week
DESCRIPTION:To encourage children to cycle to school and discuss bike safety.\nCycle to school day \, Obstacle course\, Lunch time cycle \, Coloring competition \,Bike labelling & Poster competition
URL:https://www.transportforireland.ie/bikeweek-event/st-colmans-ns-bike-week/
LOCATION:St Colmans NS\, Delvin Road\, Belview\, Mullingar Westmeath\, Westmeath
CATEGORIES:Awareness and Safety,Challenges and Competitions,Fun and Interactive
ORGANIZER;CN="Westmeath County Council and Sports Partnership":MAILTO:info@westmeathsports.ie
END:VEVENT
BEGIN:VEVENT
DTSTART;VALUE=DATE:20260511
DTEND;VALUE=DATE:20260516
DTSTAMP:20260425T170618
CREATED:20260421T132642Z
LAST-MODIFIED:20260421T132642Z
UID:10001785-1778457600-1778889599@www.transportforireland.ie
SUMMARY:Pedal Power Week
DESCRIPTION:Event Aim: To encourage pupils and families of Scoil Chroí Naofa to adopt cycling as a healthy\, fun\, and environmentally friendly way to travel to school\, while promoting road safety\, confidence\, and community participation.\nMonday – Launch Day \n· Whole-school assembly \n· Explain rules: \no Cycle if you can \no Helmets encouraged \n· “Count Your Cyclists” board begins \nTuesday – Safety & Skills Day \n· Teachers note daily participation \n· Short safety talk (classroom or yard) \n· Demonstrate: \no Helmet fitting \no Hand signals \n· Optional: \no Simple obstacle course in yard \nSafety is key—helmets significantly reduce head injuries \nWednesday – “Bling Your Bike” Day \n· Children decorate bikes/helmets \n· Mini parade around yard \n· Colouring competition / Bike safety Poster competition \nThursday – Bike Challenge Day \n· Class vs class challenge: \no Which class has most cyclists? \nFriday – Celebration Day· Prize giving: \no Best effort \no Most cyclists \no Best decorated bike \no Competition \n· Certificates \n· Group photo
URL:https://www.transportforireland.ie/bikeweek-event/pedal-power-week-2/
LOCATION:Scoil Chroí Naofa\, Rochfortbridge\, Co. Westmeath.\, Co. Westmeath.
CATEGORIES:Awareness and Safety,Education and Training,Fun and Interactive
ORGANIZER;CN="Westmeath County Council and Sports Partnership":MAILTO:info@westmeathsports.ie
END:VEVENT
BEGIN:VEVENT
DTSTART;VALUE=DATE:20260511
DTEND;VALUE=DATE:20260516
DTSTAMP:20260425T170618
CREATED:20260421T132724Z
LAST-MODIFIED:20260421T132724Z
UID:10001794-1778457600-1778889599@www.transportforireland.ie
SUMMARY:Obstacle Course
DESCRIPTION:To encourage how easy is it to bring and use your bike. Bring the fun back into cycling for our students.\nFun relay obstacle courses on our astro pitch. Also we will encourage a cycle to school day and get students to showcase off their bikes and how to mind and maintain their bikes.
URL:https://www.transportforireland.ie/bikeweek-event/obstacle-course/
LOCATION:Loreto College Mullingar\, Mullingar\, Co. Westmeath\, Westmeath
CATEGORIES:Awareness and Safety,Challenges and Competitions,Fun and Interactive
ORGANIZER;CN="Westmeath County Council and Sports Partnership":MAILTO:info@westmeathsports.ie
END:VEVENT
BEGIN:VEVENT
DTSTART;VALUE=DATE:20260511
DTEND;VALUE=DATE:20260517
DTSTAMP:20260425T170618
CREATED:20260421T132744Z
LAST-MODIFIED:20260421T132744Z
UID:10001789-1778457600-1778975999@www.transportforireland.ie
SUMMARY:Cycle Safe to School
DESCRIPTION:Promote safe cycling amongst our school community. School talks-Raffle Helmet/Poster Competition Cycle Safe Training.
URL:https://www.transportforireland.ie/bikeweek-event/cycle-safe-to-school/
LOCATION:Presentation Junior School\, Harbour Street Mullingar\, Westmeath
CATEGORIES:Awareness and Safety,Fun and Interactive
ORGANIZER;CN="Westmeath County Council and Sports Partnership":MAILTO:info@westmeathsports.ie
END:VEVENT
BEGIN:VEVENT
DTSTART;TZID=Europe/Dublin:20260511T080000
DTEND;TZID=Europe/Dublin:20260511T170000
DTSTAMP:20260425T170618
CREATED:20260421T132855Z
LAST-MODIFIED:20260421T132855Z
UID:10001697-1778486400-1778518800@www.transportforireland.ie
SUMMARY:Ursuline College Cycling Event
DESCRIPTION:Students from Ursuline College will take part in a cycling and road safety skills session delivered by Green-Schools Travel in the nearby Finiskilin Park. A healthy snack will be provided following the activity.\nClosed Event
URL:https://www.transportforireland.ie/bikeweek-event/ursuline-college-cycling-event/
LOCATION:Ursuline College\, Finisklin Road\, Finisklin Rd\, Sligo\, F91 FW54\, Ireland
CATEGORIES:Awareness and Safety,Leisure and Recreational
ATTACH;FMTTYPE=image/png:https://www.transportforireland.ie/wp-content/uploads/2026/04/2.png
END:VEVENT
BEGIN:VEVENT
DTSTART;TZID=Europe/Dublin:20260511T080000
DTEND;TZID=Europe/Dublin:20260511T170000
DTSTAMP:20260425T170618
CREATED:20260421T134144Z
LAST-MODIFIED:20260421T134144Z
UID:10001866-1778486400-1778518800@www.transportforireland.ie
SUMMARY:Bike Safety Safety - Malin Head NS
DESCRIPTION:As part of Bike Safety Week 2026\, Scoil Naomh Mhuire plans to organise and host a number of events that align with the objectives of this active week: \n1. Bike Maintenance Workshop\n2. Motivational Talk on bike safety and cycling achievements from an elite cyclist\n3. Planned Cycle around locality with Senior Classes\n4. Bike Safety Poster Art Competition\n5. Photo Competition to encourage bike adventures\n6. Road Safety games
URL:https://www.transportforireland.ie/bikeweek-event/bike-safety-safety-malin-head-ns/
LOCATION:Malin Head NS
CATEGORIES:Awareness and Safety,Challenges and Competitions,Education and Training,Fun and Interactive
ORGANIZER;CN="Donegal County Council and Sports Partnership":MAILTO:@activedonegal.com
END:VEVENT
BEGIN:VEVENT
DTSTART;TZID=Europe/Dublin:20260511T080000
DTEND;TZID=Europe/Dublin:20260515T170000
DTSTAMP:20260425T170618
CREATED:20260421T134246Z
LAST-MODIFIED:20260423T115442Z
UID:10001657-1778486400-1778864400@www.transportforireland.ie
SUMMARY:Kerry Bike week in a Box
DESCRIPTION:For Bike Week 2026\, Cycling Ireland is partnering with Local Sports Partnerships to bring cycling into schools.\nWe want to encourage kids to learn about cycling\, get on their bike\, and have fun.
URL:https://www.transportforireland.ie/bikeweek-event/bike-week-in-a-box/
LOCATION:Kerry Primary Schools\, Dan Spring Road\, Tralee\, Kerry\, V92 T6TW.
CATEGORIES:Awareness and Safety,Education and Training,Fun and Interactive
ATTACH;FMTTYPE=image/png:https://www.transportforireland.ie/wp-content/uploads/2026/04/Poster-for-Bike-week-portal-1-1.png
END:VEVENT
BEGIN:VEVENT
DTSTART;TZID=Europe/Dublin:20260511T085500
DTEND;TZID=Europe/Dublin:20260515T154700
DTSTAMP:20260425T170618
CREATED:20260417T104734Z
LAST-MODIFIED:20260417T104734Z
UID:10001469-1778489700-1778860020@www.transportforireland.ie
SUMMARY:Safe Cycling Skills and Cycles.
DESCRIPTION:Learning how to cycle safely.
URL:https://www.transportforireland.ie/bikeweek-event/safe-cycling-skills-and-cycles/
LOCATION:Colaiste Bhaile Chlair\, Claregalway\, Co. Galway.
CATEGORIES:Awareness and Safety,Education and Training
END:VEVENT
BEGIN:VEVENT
DTSTART;TZID=Europe/Dublin:20260511T090000
DTEND;TZID=Europe/Dublin:20260515T140000
DTSTAMP:20260425T170619
CREATED:20260421T134842Z
LAST-MODIFIED:20260421T134842Z
UID:10001598-1778490000-1778853600@www.transportforireland.ie
SUMMARY:Bike Week- St. Joseph's N.S Carlow
DESCRIPTION:Please note: this event is only open to primary school students at St. Joseph’s N.S Carlow.\nPrompting cycling to school\, prompting bike and road safety\, bike week workshop.\nRSA road safety workshop and seminar\, colouring competition\, practice using balancing bikes\, prizes and refreshments
URL:https://www.transportforireland.ie/bikeweek-event/bike-week-st-josephs-n-s-carlow/
LOCATION:St. Joseph’s N.S\, Hacketstown\, Co. Carlow
CATEGORIES:Awareness and Safety,Education and Training,Fun and Interactive
ATTACH;FMTTYPE=image/png:https://www.transportforireland.ie/wp-content/uploads/2026/04/Active-Carlow-Drafts-Black-2-8.png
END:VEVENT
BEGIN:VEVENT
DTSTART;TZID=Europe/Dublin:20260511T090000
DTEND;TZID=Europe/Dublin:20260515T150000
DTSTAMP:20260425T170619
CREATED:20260421T141321Z
LAST-MODIFIED:20260421T141321Z
UID:10001590-1778490000-1778857200@www.transportforireland.ie
SUMMARY:Bike Week - Bishop Foley N.S
DESCRIPTION:Please note: this event is only open to primary school students at Bishop Foley N.S Carlow.\nEach teacher will deliver lessons on safe cycling practices for both roads and cycle paths.\nThe children in our special class will be included in these lessons and take part in the competition with their base classes.\nThe Cycling Safety Posters will be displayed throughout our school on noticeboards.\nA selection of posters and the winning students will appear on our school Instagram account.\nWe have a large Bike Week sign that we will include in the photographs.
URL:https://www.transportforireland.ie/bikeweek-event/bike-week-bishop-foley-n-s/
LOCATION:Bishop Foley N.S\, Carlow
CATEGORIES:Awareness and Safety,Challenges and Competitions,Education and Training
ATTACH;FMTTYPE=image/png:https://www.transportforireland.ie/wp-content/uploads/2026/04/Active-Carlow-Drafts-Black-2-5.png
END:VEVENT
BEGIN:VEVENT
DTSTART;TZID=Europe/Dublin:20260511T090000
DTEND;TZID=Europe/Dublin:20260515T150000
DTSTAMP:20260425T170619
CREATED:20260422T081642Z
LAST-MODIFIED:20260422T081642Z
UID:10001821-1778490000-1778857200@www.transportforireland.ie
SUMMARY:Primary Schools Safe Cycling Project for Bike Week
DESCRIPTION:Over the course of Bike Week all primary schools in County Longford will be invited to participate in a safe cycling project.
URL:https://www.transportforireland.ie/bikeweek-event/primary-schools-safe-cycling-project-for-bike-week/
LOCATION:Primary Schools\, Co. Longford
CATEGORIES:Awareness and Safety
ATTACH;FMTTYPE=image/png:https://www.transportforireland.ie/wp-content/uploads/2026/04/Bike-Week-Longford-10.png
END:VEVENT
BEGIN:VEVENT
DTSTART;TZID=Europe/Dublin:20260511T092000
DTEND;TZID=Europe/Dublin:20260515T150000
DTSTAMP:20260425T170619
CREATED:20260421T141713Z
LAST-MODIFIED:20260421T141713Z
UID:10001581-1778491200-1778857200@www.transportforireland.ie
SUMMARY:Bike Week - Clonegal N.S
DESCRIPTION:Please Note: this event is only open to primary school students at Clonegal N.S\nA week-long set of activities covering Bike Safety and different class events. Our aim is to get children pedalling more and to increase awareness of the benefits of cycling.\nDuring Bike week each class will have a day to cycle to school.\nA Bike safety workshop delivered by a member of the Garda.\nBike Maintenance workshop\nDesign your own bike workshop with Greens School Ireland.
URL:https://www.transportforireland.ie/bikeweek-event/bike-week-clonegal-n-s/
LOCATION:Clonegal N.S\, Clonegal\, Co. Carlow
CATEGORIES:Access and Inclusion,Awareness and Safety,Challenges and Competitions,Education and Training,Fun and Interactive,Workshops and Maintenance
ATTACH;FMTTYPE=image/png:https://www.transportforireland.ie/wp-content/uploads/2026/04/Active-Carlow-Drafts-Black-2-1.png
END:VEVENT
BEGIN:VEVENT
DTSTART;TZID=Europe/Dublin:20260511T093000
DTEND;TZID=Europe/Dublin:20260511T120000
DTSTAMP:20260425T170619
CREATED:20260421T142339Z
LAST-MODIFIED:20260421T142339Z
UID:10001721-1778491800-1778500800@www.transportforireland.ie
SUMMARY:Secondary Schools Royal Canal Greenway Cycle
DESCRIPTION:Our secondary school Royal Canal Greenway cycles take place right throughout bike week. School groups will get the opportunity to cycle along a scenic stretch of the Royal Canal Greenway in Longford. Each cycle will be guided by experienced cycling tutors. Safe cycling practice will be incorporated in to each cycle.
URL:https://www.transportforireland.ie/bikeweek-event/secondary-schools-royal-canal-greenway-cycle-4/
LOCATION:Royal Canal Greenway\, Ballymahon\, Co. Longford\, N39 YE68
CATEGORIES:Awareness and Safety,Education and Training,Leisure and Recreational
ATTACH;FMTTYPE=image/png:https://www.transportforireland.ie/wp-content/uploads/2026/04/Bike-Week-Longford.png
END:VEVENT
BEGIN:VEVENT
DTSTART;TZID=Europe/Dublin:20260511T093000
DTEND;TZID=Europe/Dublin:20260511T123000
DTSTAMP:20260425T170619
CREATED:20260422T081722Z
LAST-MODIFIED:20260422T081722Z
UID:10001942-1778491800-1778502600@www.transportforireland.ie
SUMMARY:Bike Safety Workshop St Francis NS
DESCRIPTION:We delivered this programme to teach the children about the road safety through bike skills while cycling to school and the importance of wearing a helmet and checking your bike before cycling.
URL:https://www.transportforireland.ie/bikeweek-event/bike-safety-workshop-st-francis-ns/
LOCATION:St Francis NS\, Blackrock\, Louth\, na
CATEGORIES:Awareness and Safety,Workshops and Maintenance
ATTACH;FMTTYPE=image/png:https://www.transportforireland.ie/wp-content/uploads/2026/04/Bike-week-poster-1-4.png
END:VEVENT
BEGIN:VEVENT
DTSTART;TZID=Europe/Dublin:20260511T093000
DTEND;TZID=Europe/Dublin:20260511T143000
DTSTAMP:20260425T170619
CREATED:20260421T142600Z
LAST-MODIFIED:20260421T142600Z
UID:10001596-1778491800-1778509800@www.transportforireland.ie
SUMMARY:Bike Safety\, Bike Maintenance & Bike Skills
DESCRIPTION:Please note: this event is only open to primary school students at St. Columba’s N.S.\nBike Safety\, Bike Skills and Bike Maintenance\, Competitions & Refreshments
URL:https://www.transportforireland.ie/bikeweek-event/bike-safety-bike-maintenance-bike-skills/
LOCATION:St. Columba’s N.S\, Tullow Co. Carlow
CATEGORIES:Awareness and Safety,Education and Training,Workshops and Maintenance
ATTACH;FMTTYPE=image/png:https://www.transportforireland.ie/wp-content/uploads/2026/04/Active-Carlow-Drafts-Black-2-7.png
END:VEVENT
BEGIN:VEVENT
DTSTART;TZID=Europe/Dublin:20260511T093000
DTEND;TZID=Europe/Dublin:20260511T170000
DTSTAMP:20260425T170619
CREATED:20260417T104525Z
LAST-MODIFIED:20260421T144035Z
UID:10001472-1778491800-1778518800@www.transportforireland.ie
SUMMARY:Bicycle Checks and Maitanance Workshops
DESCRIPTION:Meitheal will come into the school and do bike checks on all bikes and have the older children do a workshop during this time so they are able to look after their own bikes.  Parents of children who cycle to school and wish to cycle to school will be invited to join also.
URL:https://www.transportforireland.ie/bikeweek-event/bicycle-checks-and-maintenance-workshops/
LOCATION:Gaelscoil Riada\, Athenry\, Co. Galway.
CATEGORIES:Awareness and Safety,Education and Training,Workshops and Maintenance
END:VEVENT
END:VCALENDAR