BEGIN:VCALENDAR
VERSION:2.0
PRODID:-//Transport for Ireland - ECPv6.15.20//NONSGML v1.0//EN
CALSCALE:GREGORIAN
METHOD:PUBLISH
X-ORIGINAL-URL:https://www.transportforireland.ie
X-WR-CALDESC:Events for Transport for Ireland
REFRESH-INTERVAL;VALUE=DURATION:PT1H
X-Robots-Tag:noindex
X-PUBLISHED-TTL:PT1H
BEGIN:VTIMEZONE
TZID:Europe/Dublin
BEGIN:STANDARD
TZOFFSETFROM:+0000
TZOFFSETTO:+0100
TZNAME:IST
DTSTART:20250330T010000
END:STANDARD
BEGIN:DAYLIGHT
TZOFFSETFROM:+0100
TZOFFSETTO:+0000
TZNAME:GMT
DTSTART:20251026T010000
END:DAYLIGHT
BEGIN:STANDARD
TZOFFSETFROM:+0000
TZOFFSETTO:+0100
TZNAME:IST
DTSTART:20260329T010000
END:STANDARD
BEGIN:DAYLIGHT
TZOFFSETFROM:+0100
TZOFFSETTO:+0000
TZNAME:GMT
DTSTART:20261025T010000
END:DAYLIGHT
BEGIN:STANDARD
TZOFFSETFROM:+0000
TZOFFSETTO:+0100
TZNAME:IST
DTSTART:20270328T010000
END:STANDARD
BEGIN:DAYLIGHT
TZOFFSETFROM:+0100
TZOFFSETTO:+0000
TZNAME:GMT
DTSTART:20271031T010000
END:DAYLIGHT
END:VTIMEZONE
BEGIN:VEVENT
DTSTART;VALUE=DATE:20260509
DTEND;VALUE=DATE:20260518
DTSTAMP:20260425T010416
CREATED:20260420T145507Z
LAST-MODIFIED:20260420T145507Z
UID:10001740-1778284800-1779062399@www.transportforireland.ie
SUMMARY:Vintage Bicycle Exhibit – Arthur’s Quay
DESCRIPTION:The vintage bicycle exhibit by Bicycle Engineering Academy offers a chance to explore the history and development of cycling\, showing how bicycles have changed over time and the role they have played in everyday life. The display provides a visual insight into cycling heritage and how bicycles became a common and important means of transport. \nInstalled in the old tourism office at Arthur’s Quay\, the exhibit is designed to be enjoyed by people passing by. The building itself will not be open to the public.
URL:https://www.transportforireland.ie/bikeweek-event/vintage-bicycle-exhibit-arthurs-quay/
LOCATION:Arthur’s Quay (Old Tourism Office)\, Arthur's Quay\, Limerick
CATEGORIES:Bike Festivals and Exhibitions
ATTACH;FMTTYPE=image/png:https://www.transportforireland.ie/wp-content/uploads/2026/04/exhibition.png
END:VEVENT
BEGIN:VEVENT
DTSTART;TZID=Europe/Dublin:20260516T100000
DTEND;TZID=Europe/Dublin:20260516T160000
DTSTAMP:20260425T010416
CREATED:20260420T103159Z
LAST-MODIFIED:20260420T103159Z
UID:10001552-1778925600-1778947200@www.transportforireland.ie
SUMMARY:Bike Day for Families/ Lá na Rothar do Theaghlaigh la Gaeilge
DESCRIPTION:A range of events for families of children of primary school age at 10am there will be a guided cycle Meitheal Rothar along the cycle path near Nimmo’s Pier\, then at midday the juggler and artist Stephen McGinley will give a display of juggling bicycle theatre and fire followed by a party with refreshments and snacks. Meitheal Rothar will also provide a workshop on how to fix and repair bicycles. / Ócáid rothair i nGaeilge do teaghlaigh le páistí ag aois bunscoile. Ag 10.00 r.n. beidh turas rothair ar an gcósán rothair idir Nimmo’s pier agus Mutton Island faoi stiúir Meitheal Rothair. Ag meanlae in Aras na nGael\, cuirfidh Stephen McGinley & cairde taispeántais lámhchleasaíocht\, tine agus cleasaíocht rothar ar siúl Beidh Meitheal Rothar ar fáil chun ceardlann deisiúncháin a chur ar siúl agus beidh cóisir ann le sóláistí agus sproi.
URL:https://www.transportforireland.ie/bikeweek-event/bike-day-for-families-la-na-rothar-do-theaghlaigh-la-gaeilge/
LOCATION:Aras na Gael/ Nimmo’s Pier\, 45 Dominick Street Lower Gaillimh\, Galway\, H91 E1NY
CATEGORIES:Bike Festivals and Exhibitions,Community Engagement
END:VEVENT
BEGIN:VEVENT
DTSTART;TZID=Europe/Dublin:20260516T110000
DTEND;TZID=Europe/Dublin:20260516T130000
DTSTAMP:20260425T010416
CREATED:20260417T092106Z
LAST-MODIFIED:20260417T092106Z
UID:10001607-1778929200-1778936400@www.transportforireland.ie
SUMMARY:Cargo & Folding Bike Street Demo
DESCRIPTION:Find out all you need to know about e-bikes and folding bikes! WexBUG (Wexford Bicycle Users Group) and The Bike Shop will demonstrate Cargo bikes\, e-bikes and folding bikes on Selskar Street\, Wexford (at the Nicky Rackard statue).
URL:https://www.transportforireland.ie/bikeweek-event/cargo-folding-bike-street-demo/
LOCATION:Nicky Rackard Statue\, Selskar Street\, Wexford Town\, Wexford\, N/A
CATEGORIES:Bike Festivals and Exhibitions
ATTACH;FMTTYPE=image/png:https://www.transportforireland.ie/wp-content/uploads/2026/04/cargo-bike-demo.png
END:VEVENT
BEGIN:VEVENT
DTSTART;TZID=Europe/Dublin:20260516T110000
DTEND;TZID=Europe/Dublin:20260516T160000
DTSTAMP:20260425T010416
CREATED:20260409T135522Z
LAST-MODIFIED:20260409T135522Z
UID:10001402-1778929200-1778947200@www.transportforireland.ie
SUMMARY:Bremore Family Fun Day
DESCRIPTION:Come and join us at the Playground behind Bremore Castle for our Balbriggan Family Day. We’ll have bike safety checks\, street games\, the Fireride Cycling Skills Course and lots more for all the family. The event runs from 11am – 4pm. At 1pm we’ll have our Family Cycle around Harry Reynolds Road. Parking is available at Bremore Castle
URL:https://www.transportforireland.ie/bikeweek-event/bremore-family-fun-day/
LOCATION:Bremore Cardy Rock Playground\, Bremore Cardy Rock Playground\, Dublin
CATEGORIES:Bike Festivals and Exhibitions
ATTACH;FMTTYPE=image/jpeg:https://www.transportforireland.ie/wp-content/uploads/2026/04/Harry-Reynolds-Road-Community-Cycle.jpg
END:VEVENT
BEGIN:VEVENT
DTSTART;TZID=Europe/Dublin:20260516T110000
DTEND;TZID=Europe/Dublin:20260615T160000
DTSTAMP:20260425T010416
CREATED:20260423T114804Z
LAST-MODIFIED:20260423T114804Z
UID:10002063-1778929200-1781539200@www.transportforireland.ie
SUMMARY:Drop-in Mountain Bike Skills
DESCRIPTION:Come and give mountain biking a go in our drop-in skills area. This supervised space will include flat-ground skills practice along with features such as ramps and an MTB Hopper\, allowing riders to try out new skills in a safe and controlled environment. Just bring your bike and join in at any time during the day.
URL:https://www.transportforireland.ie/bikeweek-event/drop-in-mountain-bike-skills/
LOCATION:Ballyhoura Mountain Bike Trails\, Ardpatrick\, Kilmallock\, Limerick
CATEGORIES:Bike Festivals and Exhibitions,Community Engagement,Fun and Interactive,Leisure and Recreational
ATTACH;FMTTYPE=image/png:https://www.transportforireland.ie/wp-content/uploads/2026/04/Ballyhoura-Image.png
END:VEVENT
END:VCALENDAR