BEGIN:VCALENDAR
VERSION:2.0
PRODID:-//Transport for Ireland - ECPv6.15.20//NONSGML v1.0//EN
CALSCALE:GREGORIAN
METHOD:PUBLISH
X-ORIGINAL-URL:https://www.transportforireland.ie
X-WR-CALDESC:Events for Transport for Ireland
REFRESH-INTERVAL;VALUE=DURATION:PT1H
X-Robots-Tag:noindex
X-PUBLISHED-TTL:PT1H
BEGIN:VTIMEZONE
TZID:Europe/Dublin
BEGIN:STANDARD
TZOFFSETFROM:+0000
TZOFFSETTO:+0100
TZNAME:IST
DTSTART:20250330T010000
END:STANDARD
BEGIN:DAYLIGHT
TZOFFSETFROM:+0100
TZOFFSETTO:+0000
TZNAME:GMT
DTSTART:20251026T010000
END:DAYLIGHT
BEGIN:STANDARD
TZOFFSETFROM:+0000
TZOFFSETTO:+0100
TZNAME:IST
DTSTART:20260329T010000
END:STANDARD
BEGIN:DAYLIGHT
TZOFFSETFROM:+0100
TZOFFSETTO:+0000
TZNAME:GMT
DTSTART:20261025T010000
END:DAYLIGHT
BEGIN:STANDARD
TZOFFSETFROM:+0000
TZOFFSETTO:+0100
TZNAME:IST
DTSTART:20270328T010000
END:STANDARD
BEGIN:DAYLIGHT
TZOFFSETFROM:+0100
TZOFFSETTO:+0000
TZNAME:GMT
DTSTART:20271031T010000
END:DAYLIGHT
END:VTIMEZONE
BEGIN:VEVENT
DTSTART;VALUE=DATE:20260509
DTEND;VALUE=DATE:20260518
DTSTAMP:20260423T220607
CREATED:20260420T145449Z
LAST-MODIFIED:20260420T145449Z
UID:10001673-1778284800-1779062399@www.transportforireland.ie
SUMMARY:Safe Cycle to School Training Initiative
DESCRIPTION:Royal and Prior Comprehensive will take part in Bike Week 2026 by promoting cycling to school and encouraging more students to cycle where possible. They will run cycle training sessions\, focus on students within a 5km radius of the school\, and share information about local cycling routes and safety. The school will also raise awareness of cycling in the wider school and local community and engage with nearby schools to promote participation in Bike Week activities.
URL:https://www.transportforireland.ie/bikeweek-event/safe-cycle-to-school-training-initiative/
LOCATION:Royal and Prior Comprehensive\, Raphoe\, Donegal
CATEGORIES:Awareness and Safety,Education and Training,Workshops and Maintenance
ORGANIZER;CN="Donegal County Council and Sports Partnership":MAILTO:@activedonegal.com
END:VEVENT
BEGIN:VEVENT
DTSTART;TZID=Europe/Dublin:20260509T080000
DTEND;TZID=Europe/Dublin:20260517T170000
DTSTAMP:20260423T220607
CREATED:20260420T150354Z
LAST-MODIFIED:20260420T150354Z
UID:10001887-1778313600-1779037200@www.transportforireland.ie
SUMMARY:Free Bike Check
DESCRIPTION:Do you have a bike at home that requires a puncture repair or\nbrake checks ? \nIf so\, why not avail of this FREE Bike Check Offer (Value €15) \nVisit MONAGHAN HIRE\, CASTLEBLAYNEY – 042 97 40875\nOR\nSPIN DOCTOR\, EMYVALE – 042 70770
URL:https://www.transportforireland.ie/bikeweek-event/free-bike-check/
LOCATION:Monaghan Road\, Castleblayney\, Co. Monaghan\, A75 YR58
CATEGORIES:Workshops and Maintenance
ATTACH;FMTTYPE=image/jpeg:https://www.transportforireland.ie/wp-content/uploads/2026/04/BIKE-CHECK-POSTER.jpg
ORGANIZER;CN="Monaghan County Council and Sports Partnership":MAILTO:lduffy2@monaghancoco.ie
END:VEVENT
BEGIN:VEVENT
DTSTART;VALUE=DATE:20260516
DTEND;VALUE=DATE:20260517
DTSTAMP:20260423T220607
CREATED:20260416T114921Z
LAST-MODIFIED:20260423T075941Z
UID:10001456-1778889600-1778975999@www.transportforireland.ie
SUMMARY:Being Bike Ready
DESCRIPTION:🚲 Get Your Bike Summer-Ready! ☀️ \nJoin us to learn how to properly care for your bike and fix common minor issues\, so you can ride with confidence all season long. \nThe first 10 families will receive a fantastic Bike Pack—everything you need to make sure you’re never stuck without the essentials! \nDon’t miss out—get ready to ride! 🌟
URL:https://www.transportforireland.ie/bikeweek-event/being-bike-ready/
LOCATION:Dunfanaghy FRC\, Dunfanaghy\, Donegal
CATEGORIES:Education and Training,Workshops and Maintenance
ORGANIZER;CN="Donegal County Council and Sports Partnership":MAILTO:@activedonegal.com
END:VEVENT
BEGIN:VEVENT
DTSTART;VALUE=DATE:20260516
DTEND;VALUE=DATE:20260517
DTSTAMP:20260423T220607
CREATED:20260422T150814Z
LAST-MODIFIED:20260422T150902Z
UID:10002051-1778889600-1778975999@www.transportforireland.ie
SUMMARY:Lough Key Triathlon Club - Puncture Repair + Bike Workshop + 30km Cycle
DESCRIPTION:Puncture Repair\, Bike Workshop + 30km cycle\, for anyone who has ever been stuck with a flat tyre and had to rely on a buddy for help\, or for cyclists who want to ensure they are fully self-sufficient in the future.\nA community-focused 30km road cycle for approximately 30 cyclist to showcase the beautiful landscape of County Leitrim.\nFollowing the cycle\, participants will gather in the park to test and improve their bike-handling skills through a fun obstacle course featuring a slalom\, figure-of-eight\, bottle grab\, and more.\nFurther Details on the Lough Key Triathlon Club Facebook Page
URL:https://www.transportforireland.ie/bikeweek-event/lough-key-triathlon-club-puncture-repair-bike-workshop-30km-cycle/
LOCATION:Lough Key Triathlon Club\, Lough Key
CATEGORIES:Leisure and Recreational,Workshops and Maintenance
END:VEVENT
BEGIN:VEVENT
DTSTART;TZID=Europe/Dublin:20260516T100000
DTEND;TZID=Europe/Dublin:20260516T120000
DTSTAMP:20260423T220607
CREATED:20260421T143838Z
LAST-MODIFIED:20260421T144017Z
UID:10001483-1778925600-1778932800@www.transportforireland.ie
SUMMARY:Intro To Trail Cycling: Bike Maintenance
DESCRIPTION:The event comprises of a bike maintenance workshop & short cycle on the first session and a cycle through Clonbur woods to Cong on the 2nd session. The event is to encourage people to get their bikes out of the sheds\, get the confidence to fix them up and cycle in the local woodland cycle trails.
URL:https://www.transportforireland.ie/bikeweek-event/intro-to-trail-cycling-bike-maintenance-2/
LOCATION:Petersburg Outdoor Education & Training Centre\, Petersburg\, Clonbur\, Co Galway.
CATEGORIES:Community Engagement,Education and Training,Fun and Interactive,Leisure and Recreational,Workshops and Maintenance
END:VEVENT
BEGIN:VEVENT
DTSTART;TZID=Europe/Dublin:20260516T100000
DTEND;TZID=Europe/Dublin:20260516T120000
DTSTAMP:20260423T220608
CREATED:20260422T143547Z
LAST-MODIFIED:20260422T143547Z
UID:10002041-1778925600-1778932800@www.transportforireland.ie
SUMMARY:Balance Bike Event
DESCRIPTION:The Drumshanbo Sports Hub will host a 2 hour Balance Bike Event led by Balance Bike Instructors on Saturday 16th May for toddlers 3-5 years old. The programme will take place on the Mayflower Astro Turf or Indoors subject to weather conditions.
URL:https://www.transportforireland.ie/bikeweek-event/balance-bike-event/
LOCATION:Drumshanbo Community Sports Hub\, Mayflower\, Drumshanbo\, Co. Leitrim\, N41 Y8P6
CATEGORIES:Workshops and Maintenance
END:VEVENT
BEGIN:VEVENT
DTSTART;TZID=Europe/Dublin:20260516T100000
DTEND;TZID=Europe/Dublin:20260516T140000
DTSTAMP:20260423T220608
CREATED:20260413T085615Z
LAST-MODIFIED:20260413T085615Z
UID:10001429-1778925600-1778940000@www.transportforireland.ie
SUMMARY:Bike Maintenance for Beginners
DESCRIPTION:We all remember mending punctures as a child\, putting the tube into water and searching for the bubbles. And the rest is a blur. Out on the road\, could you mend a puncture? Do you know how to put your chain back on? Deal with “soft” brakes?\nIf the answer to any of these is no\, then you need this event.\nWe will be running 2 sessions on Saturday 16th May\, at 10am and at 12 noon where you will learn about punctures\, wheels\, chains\, brakes and saddles. Feel free to bring your own bikes along\, or practice on ours.
URL:https://www.transportforireland.ie/bikeweek-event/bike-maintenance-for-beginners-2/
LOCATION:Market Hall\, Glenties\, Donegal
CATEGORIES:Education and Training,Workshops and Maintenance
ATTACH;FMTTYPE=image/jpeg:https://www.transportforireland.ie/wp-content/uploads/2026/04/FB_IMG_1775841804635.jpg
ORGANIZER;CN="Donegal County Council and Sports Partnership":MAILTO:@activedonegal.com
END:VEVENT
BEGIN:VEVENT
DTSTART;TZID=Europe/Dublin:20260516T153000
DTEND;TZID=Europe/Dublin:20260516T153000
DTSTAMP:20260423T220608
CREATED:20260420T132800Z
LAST-MODIFIED:20260420T132800Z
UID:10001899-1778945400-1778945400@www.transportforireland.ie
SUMMARY:Down Syndrome Carlow - Bike Week workshop
DESCRIPTION:Please note: this event is only open to members of Down Syndrome Carlow.\nBalance Bike Buddies (ages 4 to 7)\nRoad Rebels (ages 8+)
URL:https://www.transportforireland.ie/bikeweek-event/down-syndrome-carlow-bike-week-workshop/
LOCATION:St. Fiacc’s Hall\, Graiguecullen\, Carlow
CATEGORIES:Access and Inclusion,Awareness and Safety,Fun and Interactive,Workshops and Maintenance
ATTACH;FMTTYPE=image/png:https://www.transportforireland.ie/wp-content/uploads/2026/04/Active-Carlow-Drafts-Black-2-15.png
END:VEVENT
END:VCALENDAR