BEGIN:VCALENDAR
VERSION:2.0
PRODID:-//Transport for Ireland - ECPv6.15.20//NONSGML v1.0//EN
CALSCALE:GREGORIAN
METHOD:PUBLISH
X-ORIGINAL-URL:https://www.transportforireland.ie
X-WR-CALDESC:Events for Transport for Ireland
REFRESH-INTERVAL;VALUE=DURATION:PT1H
X-Robots-Tag:noindex
X-PUBLISHED-TTL:PT1H
BEGIN:VTIMEZONE
TZID:Europe/Dublin
BEGIN:STANDARD
TZOFFSETFROM:+0000
TZOFFSETTO:+0100
TZNAME:IST
DTSTART:20250330T010000
END:STANDARD
BEGIN:DAYLIGHT
TZOFFSETFROM:+0100
TZOFFSETTO:+0000
TZNAME:GMT
DTSTART:20251026T010000
END:DAYLIGHT
BEGIN:STANDARD
TZOFFSETFROM:+0000
TZOFFSETTO:+0100
TZNAME:IST
DTSTART:20260329T010000
END:STANDARD
BEGIN:DAYLIGHT
TZOFFSETFROM:+0100
TZOFFSETTO:+0000
TZNAME:GMT
DTSTART:20261025T010000
END:DAYLIGHT
BEGIN:STANDARD
TZOFFSETFROM:+0000
TZOFFSETTO:+0100
TZNAME:IST
DTSTART:20270328T010000
END:STANDARD
BEGIN:DAYLIGHT
TZOFFSETFROM:+0100
TZOFFSETTO:+0000
TZNAME:GMT
DTSTART:20271031T010000
END:DAYLIGHT
END:VTIMEZONE
BEGIN:VEVENT
DTSTART;TZID=Europe/Dublin:20260513T080000
DTEND;TZID=Europe/Dublin:20260513T150000
DTSTAMP:20260421T155706
CREATED:20260421T133220Z
LAST-MODIFIED:20260421T133220Z
UID:10001468-1778659200-1778684400@www.transportforireland.ie
SUMMARY:Bonny Glen Cycle
DESCRIPTION:Bonny Glen Cycle – a community cycling event designed to explore and appreciate the natural beauty on our doorstep. Participants will enjoy a scenic ride through Bonny Glen\, taking in the surrounding landscapes at a relaxed and welcoming pace. The event is suitable for a range of abilities and encourages everyone to get outdoors\, stay active\, and experience the local area by bike.
URL:https://www.transportforireland.ie/bikeweek-event/bonny-glen-cycle/
LOCATION:Scoil Mhuire\, Bonny Glen\, Co.Donegal\, Donegal
CATEGORIES:Leisure and Recreational
ORGANIZER;CN="Donegal County Council and Sports Partnership":MAILTO:@activedonegal.com
END:VEVENT
BEGIN:VEVENT
DTSTART;TZID=Europe/Dublin:20260513T080000
DTEND;TZID=Europe/Dublin:20260513T150000
DTSTAMP:20260421T155706
CREATED:20260421T133243Z
LAST-MODIFIED:20260421T133243Z
UID:10001471-1778659200-1778684400@www.transportforireland.ie
SUMMARY:Cycle to School
DESCRIPTION:St Joseph’s NS are having a Cycle to School event which will take place in Rathmullan on Wednesday 13th May 2026. Meet up will be at the beach car park and the cycle will follow the route to Joseph’s NS. All will be marshalled by teachers and volunteers. The pupils will take part in a Safety Awareness Session followed by treats. An invitation will be sent to all children and their families.
URL:https://www.transportforireland.ie/bikeweek-event/cycle-to-school-4/
LOCATION:St Joseph’s NS\, Rathmullan\, Donegal
CATEGORIES:Leisure and Recreational
ORGANIZER;CN="Donegal County Council and Sports Partnership":MAILTO:@activedonegal.com
END:VEVENT
BEGIN:VEVENT
DTSTART;TZID=Europe/Dublin:20260513T080000
DTEND;TZID=Europe/Dublin:20260513T170000
DTSTAMP:20260421T155706
CREATED:20260416T113438Z
LAST-MODIFIED:20260416T113438Z
UID:10001448-1778659200-1778691600@www.transportforireland.ie
SUMMARY:Bike Safety and Repair Clinic
DESCRIPTION:Bring your bike along for a check-up with Bees Cycles\, then join our Cycle Ireland instructors for a safety briefing. Afterwards\, enjoy a guided cycle along the greenway in a safe and supportive environment.
URL:https://www.transportforireland.ie/bikeweek-event/bike-safety-and-repair-clinic/
LOCATION:Memorial Park Ture\, Muff\, Donegal
CATEGORIES:Fun and Interactive,Workshops and Maintenance
ORGANIZER;CN="Donegal County Council and Sports Partnership":MAILTO:@activedonegal.com
END:VEVENT
BEGIN:VEVENT
DTSTART;TZID=Europe/Dublin:20260513T080000
DTEND;TZID=Europe/Dublin:20260513T170000
DTSTAMP:20260421T155706
CREATED:20260420T102616Z
LAST-MODIFIED:20260420T102616Z
UID:10001873-1778659200-1778691600@www.transportforireland.ie
SUMMARY:Ascain Bike Day
DESCRIPTION:ASCÁIN will host a Bike Week event at Letterkenny Community Centre for approximately 25–30 service users\, promoting inclusion\, wellbeing\, and active participation through cycling. Bikes and safety gear will be provided through Grass Routes\, Termon\, ensuring all participants can take part in a safe and supported environment. \nThe day will begin with a safety information talk before participants enjoy guided cycling on a track using props to support confidence and engagement. After a lunch break\, cycling activities will continue\, followed by evaluation and reflection. The event will conclude with a presentation of medals to celebrate participation and achievement.
URL:https://www.transportforireland.ie/bikeweek-event/ascain-bike-day/
LOCATION:Letterkenny Community Centre\, Co. Donegal
CATEGORIES:Access and Inclusion
ORGANIZER;CN="Donegal County Council and Sports Partnership":MAILTO:@activedonegal.com
END:VEVENT
BEGIN:VEVENT
DTSTART;TZID=Europe/Dublin:20260513T080000
DTEND;TZID=Europe/Dublin:20260513T170000
DTSTAMP:20260421T155706
CREATED:20260420T115120Z
LAST-MODIFIED:20260420T115120Z
UID:10001872-1778659200-1778691600@www.transportforireland.ie
SUMMARY:Cycle to the Sea
DESCRIPTION:Scoil na Croise Naofa will deliver a Bike Week programme focused on road safety and building pupils’ confidence on their bicycles. Over six lessons\, pupils will practice essential cycling and road safety skills in a controlled\, closed-off environment\, helping them develop safe habits in a supportive setting. \nThe programme will conclude with a community cycle event involving local Gardaí and parents\, where pupils will safely cycle to a nearby beach. The day will finish with a celebratory picnic on the beach\, marking their achievements and encouraging a lifelong enjoyment of cycling and active travel.
URL:https://www.transportforireland.ie/bikeweek-event/cycle-to-the-sea/
LOCATION:Scoil Na Croise Naofa\, Dunfanaghy\, Donegal
CATEGORIES:Awareness and Safety,Bike Festivals and Exhibitions,Education and Training
ORGANIZER;CN="Donegal County Council and Sports Partnership":MAILTO:@activedonegal.com
END:VEVENT
BEGIN:VEVENT
DTSTART;TZID=Europe/Dublin:20260513T080000
DTEND;TZID=Europe/Dublin:20260513T170000
DTSTAMP:20260421T155706
CREATED:20260421T133327Z
LAST-MODIFIED:20260421T133327Z
UID:10001859-1778659200-1778691600@www.transportforireland.ie
SUMMARY:Falcarragh NS Cycle
DESCRIPTION:Students from St. Finian’s Primary School in Falcarragh will take part in a fun and active Bike Week adventure\, cycling together to the beach for a hands-on clean-up. After helping care for their local environment\, the group will enjoy a well-earned picnic by the sea before cycling back to school. \nAhead of the trip\, a visiting bike mechanic will ensure all bikes are safe and road-ready\, helping students build confidence and basic maintenance skills for the journey.
URL:https://www.transportforireland.ie/bikeweek-event/falcarragh-ns-cycle/
LOCATION:St Finian’s NS\, Falcarragh\, Donegal
CATEGORIES:Community Engagement,Fun and Interactive
ORGANIZER;CN="Donegal County Council and Sports Partnership":MAILTO:@activedonegal.com
END:VEVENT
BEGIN:VEVENT
DTSTART;TZID=Europe/Dublin:20260513T080000
DTEND;TZID=Europe/Dublin:20260513T170000
DTSTAMP:20260421T155706
CREATED:20260421T133344Z
LAST-MODIFIED:20260421T133344Z
UID:10001861-1778659200-1778691600@www.transportforireland.ie
SUMMARY:Trentagh NS and Gartan NS Cycle
DESCRIPTION:Trentagh NS and Gartan NS will come together for a shared Bike Week event\, exploring their local area on two wheels and building connections between both school communities. Students will enjoy a guided cycle\, discovering nearby routes and landmarks while promoting active travel and road safety. \nIn advance of the event\, both schools will host bike mechanic workshops\, helping pupils learn essential maintenance skills and ensuring all bikes are safe and ready for the day.
URL:https://www.transportforireland.ie/bikeweek-event/trentagh-ns-and-gartan-ns-cycle/
LOCATION:Gartan\, Donegal
CATEGORIES:Challenges and Competitions,Community Engagement
ORGANIZER;CN="Donegal County Council and Sports Partnership":MAILTO:@activedonegal.com
END:VEVENT
BEGIN:VEVENT
DTSTART;TZID=Europe/Dublin:20260513T080000
DTEND;TZID=Europe/Dublin:20260513T170000
DTSTAMP:20260421T155706
CREATED:20260421T133354Z
LAST-MODIFIED:20260421T133354Z
UID:10001868-1778659200-1778691600@www.transportforireland.ie
SUMMARY:St Safan's NS - School Cycle
DESCRIPTION:St. Safan’s NS will organise a National Bike Week event for senior pupils\, promoting active travel\, outdoor learning\, and healthy lifestyles. The project will involve a guided cycle along the local greenway\, supported by qualified instructors and teaching staff to ensure safety and accessibility for all participants.
URL:https://www.transportforireland.ie/bikeweek-event/st-safans-ns-school-cycle/
LOCATION:St Safan’s NS
CATEGORIES:Leisure and Recreational
ORGANIZER;CN="Donegal County Council and Sports Partnership":MAILTO:@activedonegal.com
END:VEVENT
BEGIN:VEVENT
DTSTART;TZID=Europe/Dublin:20260513T083000
DTEND;TZID=Europe/Dublin:20260513T085000
DTSTAMP:20260421T155706
CREATED:20260421T135944Z
LAST-MODIFIED:20260421T135944Z
UID:10001573-1778661000-1778662200@www.transportforireland.ie
SUMMARY:Bike Week 2026 – Scoil Íde – COW
DESCRIPTION:COW Cycle on Wednesday! – Pupils/Parents/ Staff and local Gardaí will cycle from Promenade to Scoil Íde\, Ardnamara.
URL:https://www.transportforireland.ie/bikeweek-event/bike-week-2026-scoil-ide-cow/
LOCATION:Scoil Íde\, Salthill
CATEGORIES:Bike Festivals and Exhibitions
END:VEVENT
BEGIN:VEVENT
DTSTART;TZID=Europe/Dublin:20260513T090000
DTEND;TZID=Europe/Dublin:20260513T130000
DTSTAMP:20260421T155706
CREATED:20260421T133428Z
LAST-MODIFIED:20260421T133428Z
UID:10001575-1778662800-1778677200@www.transportforireland.ie
SUMMARY:Bike Week 2026 – Scoil Íde – Meitheal Rothar Bike Maintenance Workshops
DESCRIPTION:Bike Maintenance Workshops with 4th/5th/6th class pupils in Scoil Íde
URL:https://www.transportforireland.ie/bikeweek-event/bike-week-2026-scoil-ide-meitheal-rothar-bike-maintenance-workshops/
LOCATION:Scoil Íde\, Galway
CATEGORIES:Workshops and Maintenance
END:VEVENT
BEGIN:VEVENT
DTSTART;TZID=Europe/Dublin:20260513T090000
DTEND;TZID=Europe/Dublin:20260513T143000
DTSTAMP:20260421T155706
CREATED:20260421T133436Z
LAST-MODIFIED:20260421T133436Z
UID:10001576-1778662800-1778682600@www.transportforireland.ie
SUMMARY:Bike Week 2026 – Scoil Íde – Cycle Right Training
DESCRIPTION:Cycle Right Training\, 6th Class Pupils
URL:https://www.transportforireland.ie/bikeweek-event/bike-week-2026-scoil-ide-cycle-right-training/
LOCATION:Scoil Íde\, Salthill
CATEGORIES:Bike Festivals and Exhibitions
END:VEVENT
BEGIN:VEVENT
DTSTART;TZID=Europe/Dublin:20260513T090000
DTEND;TZID=Europe/Dublin:20260513T150000
DTSTAMP:20260421T155706
CREATED:20260421T133447Z
LAST-MODIFIED:20260421T133447Z
UID:10001489-1778662800-1778684400@www.transportforireland.ie
SUMMARY:Tubber NS Bike Week - Private School Event
DESCRIPTION:Set up a cycling skills & games session using the space available: \nObstacle course \nSlow cycling races \nBalance and control challenges \nTeam relay races \n“Bike check” station (basic safety awareness)”
URL:https://www.transportforireland.ie/bikeweek-event/tubber-ns-bike-week-private-school-event/
LOCATION:Tubber GAA Pitch\, Tubber\, Clare
CATEGORIES:Education and Training,Fun and Interactive,Leisure and Recreational,Workshops and Maintenance
END:VEVENT
BEGIN:VEVENT
DTSTART;TZID=Europe/Dublin:20260513T090000
DTEND;TZID=Europe/Dublin:20260513T150000
DTSTAMP:20260421T155706
CREATED:20260421T133449Z
LAST-MODIFIED:20260421T133449Z
UID:10001589-1778662800-1778684400@www.transportforireland.ie
SUMMARY:Bike Week - Scoil Moling
DESCRIPTION:Please note: this event is only open to primary school students at Scoil Moling\, Glynn\, Co. Carlow.\nA fun\, school-led cycling event where pupils from Junior Infants to 6th Class will take part in a variety of bike skill activities.\nThe day will focus on developing confidence\, balance\, coordination\, and safe cycling practices in an enjoyable and inclusive environment.
URL:https://www.transportforireland.ie/bikeweek-event/bike-week-scoil-moling/
LOCATION:Scoil Moling\, Glynn\, Co. Carlow
CATEGORIES:Awareness and Safety,Education and Training,Fun and Interactive
ATTACH;FMTTYPE=image/png:https://www.transportforireland.ie/wp-content/uploads/2026/04/Active-Carlow-Drafts-Black-2-4.png
END:VEVENT
BEGIN:VEVENT
DTSTART;TZID=Europe/Dublin:20260513T090000
DTEND;TZID=Europe/Dublin:20260513T150000
DTSTAMP:20260421T155706
CREATED:20260421T133453Z
LAST-MODIFIED:20260421T133453Z
UID:10001600-1778662800-1778684400@www.transportforireland.ie
SUMMARY:St. Joseph's Cycle
DESCRIPTION:Please note: this event is only open to primary school students at St. Joseph’s N.S Hacketstown\, Co. Carlow\nA 5k cycle for students from 3rd – 6th class. Every child will be encouraged to take part with an emphasis on safety\, fitness and fun.\nA ”bling your bike’ and art competition will be organised for Junior Infants to 2nd class.\nWe also hope to have a bike maintenance demonstration for our senior classes.
URL:https://www.transportforireland.ie/bikeweek-event/st-josephs-cycle/
LOCATION:St. Joseph’s N.S\, Hacketstown\, Co. Carlow
CATEGORIES:Awareness and Safety,Fun and Interactive,Workshops and Maintenance
ATTACH;FMTTYPE=image/png:https://www.transportforireland.ie/wp-content/uploads/2026/04/Active-Carlow-Drafts-Black-2-10.png
END:VEVENT
BEGIN:VEVENT
DTSTART;TZID=Europe/Dublin:20260513T090000
DTEND;TZID=Europe/Dublin:20260514T100000
DTSTAMP:20260421T155706
CREATED:20260421T133519Z
LAST-MODIFIED:20260421T133519Z
UID:10001474-1778662800-1778752800@www.transportforireland.ie
SUMMARY:Road Safety and Bike Maintenance
DESCRIPTION:Speaker from the RSA to talk about road safety and bike maintenance.
URL:https://www.transportforireland.ie/bikeweek-event/road-safety-and-bike-maintenance/
LOCATION:Gaelscoil Riada\, Athenry\, Co. Galway.
CATEGORIES:Awareness and Safety,Education and Training,Workshops and Maintenance
END:VEVENT
BEGIN:VEVENT
DTSTART;TZID=Europe/Dublin:20260513T093000
DTEND;TZID=Europe/Dublin:20260513T113000
DTSTAMP:20260421T155706
CREATED:20260420T113219Z
LAST-MODIFIED:20260420T113219Z
UID:10001770-1778664600-1778671800@www.transportforireland.ie
SUMMARY:COW - Cycle on Wednesday
DESCRIPTION:To encourage as many of our school community to cycle more often where possible\nChildren from 3rd – 6th class will cycle approx 5km along the N4 and onto Loughlinstown Lane. Children from Junior Infants – 2nd class will cycle around a track in the school playground made by teachers in the school.
URL:https://www.transportforireland.ie/bikeweek-event/cow-cycle-on-wednesday/
LOCATION:St.Mary’s N.S. Rathowen\, Rathowen Co.Westmeath N91TV25
CATEGORIES:Community Engagement,Education and Training,Fun and Interactive
ORGANIZER;CN="Westmeath County Council and Sports Partnership":MAILTO:info@westmeathsports.ie
END:VEVENT
BEGIN:VEVENT
DTSTART;TZID=Europe/Dublin:20260513T093000
DTEND;TZID=Europe/Dublin:20260513T123000
DTSTAMP:20260421T155706
CREATED:20260421T133718Z
LAST-MODIFIED:20260421T133718Z
UID:10001811-1778664600-1778675400@www.transportforireland.ie
SUMMARY:Schools Greenway Cycle
DESCRIPTION:We are engaging with two local Primary Schools adjacent to the Greenway\, encouraging the local school children to get more active. The Greenway is a safe way to cycle to school from the local area. We have engaged a local cycle right tutor to deliver bike safety and a bike check on the children’s bikes before they set off on their cycle. Children and adults a cycle to Marina for refreshments provided by Rabelo Cafe at the Marina\, ice cream for the children and coffee and tea for the adults.
URL:https://www.transportforireland.ie/bikeweek-event/schools-greenway-cycle/
LOCATION:Omeath Pier\, Omeath\,\, Louth\, na
CATEGORIES:Fun and Interactive
ATTACH;FMTTYPE=image/jpeg:https://www.transportforireland.ie/wp-content/uploads/2026/04/bike-week-logo-7.jpg
END:VEVENT
BEGIN:VEVENT
DTSTART;TZID=Europe/Dublin:20260513T100000
DTEND;TZID=Europe/Dublin:20260513T120000
DTSTAMP:20260421T155706
CREATED:20260421T140012Z
LAST-MODIFIED:20260421T140012Z
UID:10001532-1778666400-1778673600@www.transportforireland.ie
SUMMARY:Pop-up bike fitting for commuter cyclists
DESCRIPTION:Pop-up bike fitting stand outside Penrose Dock for three days during bike week. Commuter cyclists bring themselves and their bike to the pop-up stand. Participants will then cycle on a trainer and make the necessary changes to their bike set up in order to resolve their cycling related symptoms. e.g. saddle up or down\, forward or back\, handle bar height and stem length etc.
URL:https://www.transportforireland.ie/bikeweek-event/pop-up-bike-fitting-for-commuter-cyclists/
LOCATION:Penrose Dock\, Penrose Dock
CATEGORIES:Leisure and Recreational
ATTACH;FMTTYPE=image/png:https://www.transportforireland.ie/wp-content/uploads/2026/04/Bike-Week-Image-19.png
END:VEVENT
BEGIN:VEVENT
DTSTART;TZID=Europe/Dublin:20260513T100000
DTEND;TZID=Europe/Dublin:20260513T120000
DTSTAMP:20260421T155706
CREATED:20260421T140019Z
LAST-MODIFIED:20260421T140019Z
UID:10001696-1778666400-1778673600@www.transportforireland.ie
SUMMARY:Cycling Skills & Safety Talk in Primary Schools
DESCRIPTION:Safety talk & tips on how to cycle safely.\nImportance of correct bike size\, importance of helmets.\nPractical drills\, activities and obstacle course races.
URL:https://www.transportforireland.ie/bikeweek-event/cycling-skills-safety-talk-in-primary-schools-2/
LOCATION:Annalitten National School\, Castleblayney\, Co Monaghan\, Monaghan\, A75 YX46
CATEGORIES:Fun and Interactive
ATTACH;FMTTYPE=image/jpeg:https://www.transportforireland.ie/wp-content/uploads/2026/04/Primary-Schools-Cycle-2.jpg
ORGANIZER;CN="Monaghan County Council and Sports Partnership":MAILTO:lduffy2@monaghancoco.ie
END:VEVENT
BEGIN:VEVENT
DTSTART;TZID=Europe/Dublin:20260513T100000
DTEND;TZID=Europe/Dublin:20260513T120000
DTSTAMP:20260421T155706
CREATED:20260421T140028Z
LAST-MODIFIED:20260421T140028Z
UID:10001805-1778666400-1778673600@www.transportforireland.ie
SUMMARY:Secondary Schools Royal Canal Greenway Cycle
DESCRIPTION:Our secondary school Royal Canal Greenway cycles take place right throughout bike week. School groups will get the opportunity to cycle along a scenic stretch of the Royal Canal Greenway in Longford. Each cycle will be guided by experienced cycling tutors. Safe cycling practice will be incorporated in to each cycle session. Our cycles on the 13th will take place along the Royal Canal Greenway from Longford Town
URL:https://www.transportforireland.ie/bikeweek-event/secondary-schools-royal-canal-greenway-cycle/
LOCATION:Market Square\, Longford Town\, Longford
CATEGORIES:Awareness and Safety,Leisure and Recreational
ATTACH;FMTTYPE=image/png:https://www.transportforireland.ie/wp-content/uploads/2026/04/Bike-Week-Longford-3.png
END:VEVENT
BEGIN:VEVENT
DTSTART;TZID=Europe/Dublin:20260513T100000
DTEND;TZID=Europe/Dublin:20260513T120000
DTSTAMP:20260421T155706
CREATED:20260421T140047Z
LAST-MODIFIED:20260421T140047Z
UID:10001839-1778666400-1778673600@www.transportforireland.ie
SUMMARY:Leisure Cycle to Kilcrea Abbey
DESCRIPTION:St. Olivers Cemetery\, onwards to Kilcrea Abbey\, Return via Kilumney. Approx 40km.
URL:https://www.transportforireland.ie/bikeweek-event/leisure-cycle-to-kilcrea-abbey/
LOCATION:Opera House\, Opera House\, Ireland
CATEGORIES:Leisure and Recreational
ATTACH;FMTTYPE=image/png:https://www.transportforireland.ie/wp-content/uploads/2026/04/Bike-Week-Image-40.png
END:VEVENT
BEGIN:VEVENT
DTSTART;TZID=Europe/Dublin:20260513T100000
DTEND;TZID=Europe/Dublin:20260513T120000
DTSTAMP:20260421T155706
CREATED:20260421T140107Z
LAST-MODIFIED:20260421T140107Z
UID:10001860-1778666400-1778673600@www.transportforireland.ie
SUMMARY:Bike Maintenance for All – With Sign & Cycle Mechanics & Irish Sign Language Interpreter
DESCRIPTION:Join us for a fun\, family-friendly Bike Maintenance Workshop led by the expert team at Sign & Cycle Mechanics! This hands-on event is open to all ages and experience levels—whether you’re new to cycling or just want to brush up on the basics. You’ll learn how to check your bike for safety\, and we’ll also be able to carry out some minor repairs during the event. To ensure everyone feels welcome\, an Irish Sign Language (ISL) interpreter will be present throughout the workshop. Bring your bike\, your questions\, and the whole family — we’ll take care of the rest!
URL:https://www.transportforireland.ie/bikeweek-event/bike-maintenance-for-all-with-sign-cycle-mechanics-irish-sign-language-interpreter/
LOCATION:Marina (next to Cortado Coffee)\, Marina (next to Cortado Coffee)
CATEGORIES:Leisure and Recreational
ATTACH;FMTTYPE=image/png:https://www.transportforireland.ie/wp-content/uploads/2026/04/Bike-Week-Image-55.png
END:VEVENT
BEGIN:VEVENT
DTSTART;TZID=Europe/Dublin:20260513T100000
DTEND;TZID=Europe/Dublin:20260513T140000
DTSTAMP:20260421T155706
CREATED:20260421T140112Z
LAST-MODIFIED:20260421T140112Z
UID:10001761-1778666400-1778680800@www.transportforireland.ie
SUMMARY:Cycling for all
DESCRIPTION:To introduce pupils who have never had the opportunity because of their disability to ride a bike.\nThrough hiring speciaist bikes such as trikes\, cargo bikes\, tandams pupils will have an opportunity to partcipate in a traesure hunt around our new school grounds
URL:https://www.transportforireland.ie/bikeweek-event/cycling-for-all/
LOCATION:Scared Heart Special School formerly St Mary’s Special School\, Old Longford Rd\, Mullingar
CATEGORIES:Community Engagement,Education and Training,Fun and Interactive
ORGANIZER;CN="Westmeath County Council and Sports Partnership":MAILTO:info@westmeathsports.ie
END:VEVENT
BEGIN:VEVENT
DTSTART;TZID=Europe/Dublin:20260513T100000
DTEND;TZID=Europe/Dublin:20260513T150000
DTSTAMP:20260421T155706
CREATED:20260421T140119Z
LAST-MODIFIED:20260421T140119Z
UID:10001674-1778666400-1778684400@www.transportforireland.ie
SUMMARY:Bonny Glen Cycle
DESCRIPTION:A relaxed and enjoyable cycling experience celebrating the natural beauty right on our doorstep. This event is all about getting out on the bike\, exploring local routes\, and taking in the scenery at a comfortable and social pace. \nOpen to all abilities\, the focus is on enjoyment\, fresh air\, and discovering the landscapes around us while sharing the experience with others. Whether you’re a regular cyclist or just getting started\, this is a great opportunity to connect with the outdoors and enjoy cycling in good company.
URL:https://www.transportforireland.ie/bikeweek-event/bonny-glen-cycle-2/
LOCATION:Scoil Mhuire\, Bonny Glen\, Co.Donegal\, Donegal
CATEGORIES:Leisure and Recreational
ORGANIZER;CN="Donegal County Council and Sports Partnership":MAILTO:@activedonegal.com
END:VEVENT
BEGIN:VEVENT
DTSTART;TZID=Europe/Dublin:20260513T103000
DTEND;TZID=Europe/Dublin:20260513T113000
DTSTAMP:20260421T155706
CREATED:20260417T092954Z
LAST-MODIFIED:20260417T092954Z
UID:10001602-1778668200-1778671800@www.transportforireland.ie
SUMMARY:Celbridge Storytime-Pedal and Tales
DESCRIPTION:Join the Celbridge Library team for a fun and interactive preschool storytime! We’ll enjoy lively stories all about bikes and cycling\, followed by a creative craft where little ones can explore the theme a little more. \nPerfect for children aged 3–5 years and a lovely way to combine stories\, imagination\, and hands-on fun. \nNo booking required – just come along and join the fun!
URL:https://www.transportforireland.ie/bikeweek-event/celbridge-storytime-pedal-and-tales/
LOCATION:Celbridge Library\, St. Patricks Park\, Celbridge\, W23 VA47
CATEGORIES:Community Engagement,Fun and Interactive
ATTACH;FMTTYPE=image/jpeg:https://www.transportforireland.ie/wp-content/uploads/2026/04/Celbridge-Library-Event.jpeg
END:VEVENT
BEGIN:VEVENT
DTSTART;TZID=Europe/Dublin:20260513T110000
DTEND;TZID=Europe/Dublin:20260513T130000
DTSTAMP:20260421T155706
CREATED:20260421T140150Z
LAST-MODIFIED:20260421T140150Z
UID:10001884-1778670000-1778677200@www.transportforireland.ie
SUMMARY:Cycling Skills & Safety Talk in Primary Schools
DESCRIPTION:Safety talk & tips on how to cycle safely.\nCorrect bike size\, importance of helmets.\nPractical drills\, activities and obstacle course races.
URL:https://www.transportforireland.ie/bikeweek-event/cycling-skills-safety-talk-in-primary-schools-3/
LOCATION:Killeevan Central National School\, Guardhill\, Newbliss\,\, Co. Monaghan\, H18 H735
CATEGORIES:Fun and Interactive
ATTACH;FMTTYPE=image/jpeg:https://www.transportforireland.ie/wp-content/uploads/2026/04/Primary-Schools-Cycle-2-3.jpg
ORGANIZER;CN="Monaghan County Council and Sports Partnership":MAILTO:lduffy2@monaghancoco.ie
END:VEVENT
BEGIN:VEVENT
DTSTART;TZID=Europe/Dublin:20260513T110000
DTEND;TZID=Europe/Dublin:20260513T133000
DTSTAMP:20260421T155706
CREATED:20260416T114817Z
LAST-MODIFIED:20260416T114817Z
UID:10001457-1778670000-1778679000@www.transportforireland.ie
SUMMARY:Carnaun Cycle Day 2026
DESCRIPTION:Cycle/scoot from Carnaun N.S.\, Athenry to St. Marys GAA pitch\, laps of the track and then return to the school on bikes/scooters. Followed by a bike buffet for children (fruit and ice lollies) and tea/coffee for adults.
URL:https://www.transportforireland.ie/bikeweek-event/carnaun-cycle-day-2026/
LOCATION:Carnaun N.S and St Marys GAA pitch\, Athenry\, Galway
CATEGORIES:Fun and Interactive,Leisure and Recreational
END:VEVENT
BEGIN:VEVENT
DTSTART;TZID=Europe/Dublin:20260513T120000
DTEND;TZID=Europe/Dublin:20260513T150000
DTSTAMP:20260421T155706
CREATED:20260421T140155Z
LAST-MODIFIED:20260421T140155Z
UID:10001535-1778673600-1778684400@www.transportforireland.ie
SUMMARY:Lunch Time Spins
DESCRIPTION:Take a break from the desk and pedal your way through Cork’s Greenway! This lunchtime cycle is a perfect mix of fresh air\, scenic views\, and gentle exercise—ideal for clearing your mind and boosting your afternoon energy
URL:https://www.transportforireland.ie/bikeweek-event/lunch-time-spins/
LOCATION:Marina Market Cork Bike Hire Depot\, Marina Market Cork Bike Hire Depot
CATEGORIES:Leisure and Recreational
ATTACH;FMTTYPE=image/png:https://www.transportforireland.ie/wp-content/uploads/2026/04/Bike-Week-Image-21.png
END:VEVENT
BEGIN:VEVENT
DTSTART;TZID=Europe/Dublin:20260513T123000
DTEND;TZID=Europe/Dublin:20260513T140000
DTSTAMP:20260421T155706
CREATED:20260421T140214Z
LAST-MODIFIED:20260421T140214Z
UID:10001584-1778675400-1778680800@www.transportforireland.ie
SUMMARY:Lunch
DESCRIPTION:Cycle for Lunch – Dungarvan to Clonea with lunch and picnic included.
URL:https://www.transportforireland.ie/bikeweek-event/lunch/
LOCATION:Walton Park\, Dungarvan\, Waterford
CATEGORIES:Leisure and Recreational
END:VEVENT
BEGIN:VEVENT
DTSTART;TZID=Europe/Dublin:20260513T124500
DTEND;TZID=Europe/Dublin:20260513T140000
DTSTAMP:20260421T155706
CREATED:20260417T090333Z
LAST-MODIFIED:20260417T090333Z
UID:10001605-1778676300-1778680800@www.transportforireland.ie
SUMMARY:Bikers' Lunch
DESCRIPTION:BIKERS’ LUNCH for Bike Week 2026 \nJoin us for our #BikeWeek workers guided cycle around Longford Town\, followed by some lunch al fresco on Wednesday May 13 at 12:45pm. \nStarting from the Rear of the Market Square in Longford Town\, our bikers’ lunch cycle will follow a route around town and onto the Royal Canal Greenway loop. It will be 7km in distance. A limited number of bikes will be available for anybody that needs one. \nThis is a free event as part of Bike Week
URL:https://www.transportforireland.ie/bikeweek-event/bikers-lunch/
LOCATION:Market Square\, Longford Town\, Longford
CATEGORIES:Leisure and Recreational
ATTACH;FMTTYPE=image/png:https://www.transportforireland.ie/wp-content/uploads/2026/04/BIKERS-LUNCH.png
END:VEVENT
END:VCALENDAR