BEGIN:VCALENDAR
VERSION:2.0
PRODID:-//Transport for Ireland - ECPv6.15.20//NONSGML v1.0//EN
CALSCALE:GREGORIAN
METHOD:PUBLISH
X-WR-CALNAME:Transport for Ireland
X-ORIGINAL-URL:https://www.transportforireland.ie
X-WR-CALDESC:Events for Transport for Ireland
REFRESH-INTERVAL;VALUE=DURATION:PT1H
X-Robots-Tag:noindex
X-PUBLISHED-TTL:PT1H
BEGIN:VTIMEZONE
TZID:Europe/Dublin
BEGIN:STANDARD
TZOFFSETFROM:+0000
TZOFFSETTO:+0100
TZNAME:IST
DTSTART:20250330T010000
END:STANDARD
BEGIN:DAYLIGHT
TZOFFSETFROM:+0100
TZOFFSETTO:+0000
TZNAME:GMT
DTSTART:20251026T010000
END:DAYLIGHT
BEGIN:STANDARD
TZOFFSETFROM:+0000
TZOFFSETTO:+0100
TZNAME:IST
DTSTART:20260329T010000
END:STANDARD
BEGIN:DAYLIGHT
TZOFFSETFROM:+0100
TZOFFSETTO:+0000
TZNAME:GMT
DTSTART:20261025T010000
END:DAYLIGHT
BEGIN:STANDARD
TZOFFSETFROM:+0000
TZOFFSETTO:+0100
TZNAME:IST
DTSTART:20270328T010000
END:STANDARD
BEGIN:DAYLIGHT
TZOFFSETFROM:+0100
TZOFFSETTO:+0000
TZNAME:GMT
DTSTART:20271031T010000
END:DAYLIGHT
END:VTIMEZONE
BEGIN:VEVENT
DTSTART;TZID=Europe/Dublin:20260509T110000
DTEND;TZID=Europe/Dublin:20260509T130000
DTSTAMP:20260426T022755
CREATED:20260417T100504Z
LAST-MODIFIED:20260417T100504Z
UID:10001533-1778324400-1778331600@www.transportforireland.ie
SUMMARY:Family Friendly Greenway Cycle – Cork Harbour
DESCRIPTION:Participants will meet on St Patrick’s Quay in Cork City before setting out on a relaxed guided cycle towards Marina Park using the city cycle lanes. From there the group will join the Cork Harbour Greenway and follow the old Blackrock railway line through Blackrock and Mahon. The cycle will pass several well-known locations including Blackrock Castle and the Marina before returning to the city. The route uses cycle lanes and greenways and is approximately 95% traffic free. Bikes and helmets can be provided for participants who need them.
URL:https://www.transportforireland.ie/bikeweek-event/family-friendly-greenway-cycle-cork-harbour/
LOCATION:St Patricks Quay\, Cork City\, Cork
CATEGORIES:Leisure and Recreational
ATTACH;FMTTYPE=image/png:https://www.transportforireland.ie/wp-content/uploads/2026/04/Add-a-heading-Facebook-Profile-Frame-Facebook-Profile-Picture-1-5.png
END:VEVENT
BEGIN:VEVENT
DTSTART;TZID=Europe/Dublin:20260509T110000
DTEND;TZID=Europe/Dublin:20260509T130000
DTSTAMP:20260426T022755
CREATED:20260417T100237Z
LAST-MODIFIED:20260417T100237Z
UID:10001509-1778324400-1778331600@www.transportforireland.ie
SUMMARY:Down the Line for a 99
DESCRIPTION:We’ll meet at Parc ui Chaoimh (Marina entrance) and cycle along ‘The Line’ to Passage West for an ice cream and back. 16km round trip. The event will finish with a raffle for Bike Week goodies.
URL:https://www.transportforireland.ie/bikeweek-event/down-the-line-for-a-99/
LOCATION:Parc ui Chaoimh\, Parc Ui Chaoimh\, Monahan Road side.\, Ireland
CATEGORIES:Leisure and Recreational
END:VEVENT
BEGIN:VEVENT
DTSTART;TZID=Europe/Dublin:20260509T110000
DTEND;TZID=Europe/Dublin:20260509T120000
DTSTAMP:20260426T022755
CREATED:20260422T080615Z
LAST-MODIFIED:20260422T080615Z
UID:10001929-1778324400-1778328000@www.transportforireland.ie
SUMMARY:Slang Greenway - Heritage Cycle (From Dundrum to Marlay Park)
DESCRIPTION:Join us for an easy guided cycle exploring the heritage along the Slang Greenway from Dundrum to Marlay Park. \nJoin the dlr Heritage Officer\, Deirdre Black\, on an easy guided cycle along the Slang Greenway from Dundrum to Marlay Park. Enjoy new viewpoints on this part of Dublin and hear about the creative innovation of Dun Emer Industries\, Slang River nature\, local cycling champions\, views to mountain top monuments and historic Marlay House. Assemble at the Ardglas entrance to the Slang Greenway and finish at Marlay Park. \nLink for bookings: https://www.eventbrite.ie/e/slang-greenway-heritage-cycle-tickets-1987674784788?aff=oddtdtcreator&keep_tld=true
URL:https://www.transportforireland.ie/bikeweek-event/slang-greenway-heritage-cycle-from-dundrum-to-marlay-park/
LOCATION:Ardglas entrance
CATEGORIES:Leisure and Recreational
ATTACH;FMTTYPE=image/jpeg:https://www.transportforireland.ie/wp-content/uploads/2026/04/1000001618-1-scaled.jpg
END:VEVENT
BEGIN:VEVENT
DTSTART;TZID=Europe/Dublin:20260509T110000
DTEND;TZID=Europe/Dublin:20260509T120000
DTSTAMP:20260426T022756
CREATED:20260420T105136Z
LAST-MODIFIED:20260420T105136Z
UID:10001828-1778324400-1778328000@www.transportforireland.ie
SUMMARY:Celbridge Heritage Cycle
DESCRIPTION:Join us on Saturday 9th May at 11.00am for the Celbridge Heritage Cycle\, a relaxed and enjoyable cycle exploring the rich history and heritage of Celbridge. \nA great opportunity to learn about local landmarks while enjoying a relaxed guided cycle as part of Bike Week. \nThe cycle starts and finishes at the pedestrian entrance to Castletown House at the north end of Main St\, Celbridge \nAll cyclists welcome — come along and enjoy Celbridge on two wheels!
URL:https://www.transportforireland.ie/bikeweek-event/celbridge-heritage-cycle/
LOCATION:Pedestrian Entrance to Castletown House\, North end of Main St\,\, Celbridge
CATEGORIES:Community Engagement,Fun and Interactive,Leisure and Recreational
ATTACH;FMTTYPE=image/png:https://www.transportforireland.ie/wp-content/uploads/2026/04/Celbridge-Hertiage-Cycle.png
END:VEVENT
BEGIN:VEVENT
DTSTART;TZID=Europe/Dublin:20260509T104500
DTEND;TZID=Europe/Dublin:20260509T170000
DTSTAMP:20260426T022756
CREATED:20260417T095745Z
LAST-MODIFIED:20260417T095745Z
UID:10001491-1778323500-1778346000@www.transportforireland.ie
SUMMARY:West Clare Way
DESCRIPTION:The west Clare peninsula is best enjoyed by E bike. Starting in Kilkee at 11 am \, cycle to Querrin shore\, Doonaha\, Carrigaholt \, rinvella\, kilclogher kilbaha and reach Loophead lighthouse for walk and visit to spectacular cliffs. Return to Kilkee via Fodera Bridges of Ross\, cross village \, Bella and on to cliff road via the goleen\, approx 80k. Optional swim at glasheen in Doonaha. Max 10 people
URL:https://www.transportforireland.ie/bikeweek-event/west-clare-way/
LOCATION:Meeting Point: East End Car Park\, Kilkee\, Clare
CATEGORIES:Community Engagement,Education and Training,Fun and Interactive
END:VEVENT
BEGIN:VEVENT
DTSTART;TZID=Europe/Dublin:20260509T103000
DTEND;TZID=Europe/Dublin:20260509T160000
DTSTAMP:20260426T022756
CREATED:20260423T114040Z
LAST-MODIFIED:20260423T114040Z
UID:10002071-1778322600-1778342400@www.transportforireland.ie
SUMMARY:Advanced Mountain Bike Sessions
DESCRIPTION:Advanced Skills Sessions – Own Bike Essential\nThese focused sessions are for more experienced riders who want to work on specific technical skills. \nSession Options: \nTabletops / Introduction to Jumps — 10:30am – 12:00pm\nPump and Flow — 12:30pm – 2:00pm\nTechnical / Fast Cornering — 2:30pm – 4:00pm\nAdvance booking required.
URL:https://www.transportforireland.ie/bikeweek-event/advanced-mountain-bike-sessions/
LOCATION:Ballyhoura Mountain Bike Trails\, Ardpatrick\, Kilmallock\, Limerick
CATEGORIES:Bike Festivals and Exhibitions,Fun and Interactive,Leisure and Recreational
ATTACH;FMTTYPE=image/png:https://www.transportforireland.ie/wp-content/uploads/2026/04/Ballyhoura-Image-2.png
END:VEVENT
BEGIN:VEVENT
DTSTART;TZID=Europe/Dublin:20260509T103000
DTEND;TZID=Europe/Dublin:20260509T123000
DTSTAMP:20260426T022756
CREATED:20260417T095341Z
LAST-MODIFIED:20260417T095341Z
UID:10001515-1778322600-1778329800@www.transportforireland.ie
SUMMARY:Cycling Event for kids with a physical disability
DESCRIPTION:We will organise a cycling event on a Saturday morning as part of our Saturday Morning down the Marina Walkway. We will bring along various options handcycles\, para running bike trikes etc and have some members and siblings on their own bikes. We want to allow kids try out the various options and explore what suits them best and then have a fun family cycles where all are included followed by treats and a picnic. In advance we have Triathlon Ireland coming to club running sessions with the members teaching them some drills\, building up to having a mini triathlon and explaining the importance of bike safety\, proper fitting helmets etc. Suitable for Families who are members of an IWA Sports Club – this is for insurance reasons
URL:https://www.transportforireland.ie/bikeweek-event/cycling-event-for-kids-with-a-physical-disability/
LOCATION:Marina Walkway Cork\, Marina Walkway Cork
CATEGORIES:Leisure and Recreational
ATTACH;FMTTYPE=image/png:https://www.transportforireland.ie/wp-content/uploads/2026/04/Bike-Week-Image-5.png
END:VEVENT
BEGIN:VEVENT
DTSTART;TZID=Europe/Dublin:20260509T103000
DTEND;TZID=Europe/Dublin:20260509T120000
DTSTAMP:20260426T022756
CREATED:20260421T083435Z
LAST-MODIFIED:20260421T083435Z
UID:10001892-1778322600-1778328000@www.transportforireland.ie
SUMMARY:Dr Cycles Bike Clinic - Cloughjordan
DESCRIPTION:Cloughjordan Community Cycling will host free bike check workshops as part of Dr Cycles Bike Clinics. The sessions will help people ensure their bikes are safe and roadworthy\, with practical demonstrations on puncture repair and carrying out minor bike repairs. The workshops are aimed at encouraging more people to cycle by giving them the confidence and basic skills to look after their bikes\, and will take place with participants meeting on Main Street at 10.30am
URL:https://www.transportforireland.ie/bikeweek-event/dr-cycles-bike-clinic-cloughjordan/
LOCATION:Main Street\, Cloughjordan\, Munster
CATEGORIES:Workshops and Maintenance
END:VEVENT
BEGIN:VEVENT
DTSTART;TZID=Europe/Dublin:20260509T100000
DTEND;TZID=Europe/Dublin:20260509T170000
DTSTAMP:20260426T022756
CREATED:20260417T084453Z
LAST-MODIFIED:20260417T084453Z
UID:10001693-1778320800-1778346000@www.transportforireland.ie
SUMMARY:Bike Maintenance and Safety Inspection
DESCRIPTION:Bike Maintenance and Safety Inspection for people whose bikes need checking/ minor maintenance and family cycle from Navan Fairgreen to Simonstown GFC for Climate Action day on 10th May
URL:https://www.transportforireland.ie/bikeweek-event/bike-maintenance-and-safety-inspection/
LOCATION:Claremont Stadium\,\, Commons Road\, Navan\, Meath
CATEGORIES:Workshops and Maintenance
ATTACH;FMTTYPE=image/jpeg:https://www.transportforireland.ie/wp-content/uploads/2026/04/NCI-Bike-Week-2026.jpg
END:VEVENT
BEGIN:VEVENT
DTSTART;TZID=Europe/Dublin:20260509T100000
DTEND;TZID=Europe/Dublin:20260509T160000
DTSTAMP:20260426T022756
CREATED:20260420T151128Z
LAST-MODIFIED:20260422T080606Z
UID:10001742-1778320800-1778342400@www.transportforireland.ie
SUMMARY:Free Mechanic service - Seán Moore Park
DESCRIPTION:Start Bike Week the right way with our free mechanic service for the public! Bring your bike to Sean Moore park where the guys Cycle Clinic will do basic repairs free of charge.
URL:https://www.transportforireland.ie/bikeweek-event/free-mechanic-service-sean-moore-park/
LOCATION:Seán Moore Park\, Sandymount\, Dublin 4\, Dublin\, NA
CATEGORIES:Workshops and Maintenance
ATTACH;FMTTYPE=image/png:https://www.transportforireland.ie/wp-content/uploads/2026/04/bike_mechanic_resized-3.png
END:VEVENT
BEGIN:VEVENT
DTSTART;TZID=Europe/Dublin:20260509T100000
DTEND;TZID=Europe/Dublin:20260509T160000
DTSTAMP:20260426T022756
CREATED:20260420T151051Z
LAST-MODIFIED:20260422T080555Z
UID:10001726-1778320800-1778342400@www.transportforireland.ie
SUMMARY:Free Mechanic Service - Brickfield Park
DESCRIPTION:Start Bike Week the right way with our free mechanic service for the public! Bring your bike to Brickfield where the guys Cycle Clinic will do basic repairs free of charge.
URL:https://www.transportforireland.ie/bikeweek-event/free-mechanic-service-brickfield-park/
LOCATION:Brickfield Park\, Drimnagh\, Dublin 12\, Dublin\, NA
CATEGORIES:Access and Inclusion,Community Engagement,Workshops and Maintenance
ATTACH;FMTTYPE=image/png:https://www.transportforireland.ie/wp-content/uploads/2026/04/bike_mechanic_resized-2.png
END:VEVENT
BEGIN:VEVENT
DTSTART;TZID=Europe/Dublin:20260509T100000
DTEND;TZID=Europe/Dublin:20260509T160000
DTSTAMP:20260426T022756
CREATED:20260417T110030Z
LAST-MODIFIED:20260417T110030Z
UID:10001724-1778320800-1778342400@www.transportforireland.ie
SUMMARY:Free Mechanic Service - Ballymun Plaza
DESCRIPTION:Start Bike Week the right way with our free mechanic service for the public! Bring your bike to Ballymun Plaza where the Rediscovery Centre guys will do basic repairs free of charge.
URL:https://www.transportforireland.ie/bikeweek-event/free-mechanic-service-ballymun-plaza/
LOCATION:Ballymun Plaza\, Ballymun\, Dublin 11\, Dublin 11\, Dublin\, NA\, Ireland
CATEGORIES:Community Engagement,Workshops and Maintenance
ATTACH;FMTTYPE=image/png:https://www.transportforireland.ie/wp-content/uploads/2026/04/bike_mechanic_resized.png
END:VEVENT
BEGIN:VEVENT
DTSTART;TZID=Europe/Dublin:20260509T100000
DTEND;TZID=Europe/Dublin:20260509T150000
DTSTAMP:20260426T022756
CREATED:20260420T145805Z
LAST-MODIFIED:20260420T145805Z
UID:10001455-1778320800-1778338800@www.transportforireland.ie
SUMMARY:Intro to Mountain Biking for Teenagers
DESCRIPTION:Mountain Bike Intro Session for teenagers with expert tuition from Shielbaggan Outdoor Education Centre. No previous experience required and bikes and safety equipment will be provided. The session will run from 10am till 3pm and will cover basic skills\, mountain biking safety and take in a mountain bike trail. The session will start at Carrigfoyle car park\, Forth Mountain\, Wexford.
URL:https://www.transportforireland.ie/bikeweek-event/intro-to-mountain-biking-for-teenagers/
LOCATION:Carrigfoyle Activity Centre\, Forth Mountain\, Wexford\, Wexford\, N/A
CATEGORIES:Leisure and Recreational
ATTACH;FMTTYPE=image/jpeg:https://www.transportforireland.ie/wp-content/uploads/2026/04/MountainBikePoster.jpg
END:VEVENT
BEGIN:VEVENT
DTSTART;TZID=Europe/Dublin:20260509T100000
DTEND;TZID=Europe/Dublin:20260509T150000
DTSTAMP:20260426T022756
CREATED:20260401T080604Z
LAST-MODIFIED:20260416T084313Z
UID:10001379-1778320800-1778338800@www.transportforireland.ie
SUMMARY:Maynooth Cycling Club - Bike Week introduction to cycling
DESCRIPTION:An introduction to cycling held in a secure\, closed-off environment\, including a dedicated females-only session. Space is limited\, so please check Maynooth Cycling Club’s social media for updates!\n*You will need your own bike\,
URL:https://www.transportforireland.ie/bikeweek-event/maynooth-cycling-club-bike-week-introduction-to-cycling/
LOCATION:Maynooth\, Maynooth\, Kildare
CATEGORIES:Education and Training,Fun and Interactive
ATTACH;FMTTYPE=image/png:https://www.transportforireland.ie/wp-content/uploads/2026/03/Gemini_Generated_Image_10745w10745w1074.png
END:VEVENT
BEGIN:VEVENT
DTSTART;TZID=Europe/Dublin:20260509T100000
DTEND;TZID=Europe/Dublin:20260509T150000
DTSTAMP:20260426T022756
CREATED:20260401T080404Z
LAST-MODIFIED:20260422T151814Z
UID:10001376-1778320800-1778338800@www.transportforireland.ie
SUMMARY:Maynooth Cycling Club - Bike Week safety demonstration
DESCRIPTION:🔧 Want to feel more confident on your bike? Come to the Harbour Field this Bike Week! \nMaynooth Cycling Club will be at the Harbour Field on Saturday 9th May from 10am–3pm with free\, hands-on demos: \n✅ How to fix a flat tyre\n✅ Pre-ride checks — what to look out for before you head out \n📍 Harbour Field\, Maynooth\n🗓 Saturday 9th May | 10:00–15:00\n🆓 Free — no booking needed \nSee you there! 🚴 \n#BikeWeek2026 #MaynoothCyclingClub #SeachtainNaRothar #CyclingIreland #bikeweekkildare #bikeweek
URL:https://www.transportforireland.ie/bikeweek-event/maynooth-cycling-club-bike-week-safety-demonstration/
LOCATION:Harbour Field\, Leinster st\, Maynooth\, Kildare
CATEGORIES:Awareness and Safety,Education and Training,Workshops and Maintenance
ATTACH;FMTTYPE=image/png:https://www.transportforireland.ie/wp-content/uploads/2026/03/Gemini_Generated_Image_c5hpmyc5hpmyc5hp.png
END:VEVENT
BEGIN:VEVENT
DTSTART;TZID=Europe/Dublin:20260509T100000
DTEND;TZID=Europe/Dublin:20260509T140000
DTSTAMP:20260426T022756
CREATED:20260422T144823Z
LAST-MODIFIED:20260422T144823Z
UID:10001971-1778320800-1778335200@www.transportforireland.ie
SUMMARY:Passage Cycle
DESCRIPTION:A social cycle out to Passage out the old railway greenway. There will be a break for a picnic in Passage before beginning the journey back to the city.
URL:https://www.transportforireland.ie/bikeweek-event/passage-cycle-3/
LOCATION:Meeting point Michael Coilin on a bike statue on the Grand Parade\, Meeting point Michael Coilin on a bike statue on the Grand Parade
CATEGORIES:Leisure and Recreational
ATTACH;FMTTYPE=image/png:https://www.transportforireland.ie/wp-content/uploads/2026/04/Bike-Week-Image-72.png
END:VEVENT
BEGIN:VEVENT
DTSTART;TZID=Europe/Dublin:20260509T100000
DTEND;TZID=Europe/Dublin:20260509T140000
DTSTAMP:20260426T022756
CREATED:20260422T081705Z
LAST-MODIFIED:20260423T144820Z
UID:10001901-1778320800-1778335200@www.transportforireland.ie
SUMMARY:Adaptive Mountain Bike Social Spin
DESCRIPTION:Cycling Ireland are hosting a beginner friendly adaptive mountain bike ride in Ballinastoe Woods\, Wicklow on Saturday 9th May. Bikes and helmets will be provided but numbers will be limited. Please contact Paul Norton in Cycling Ireland to register your interest – paul.norton@cyclingireland.ie \n#BikeWeekWicklow \n#BikeWeekCyclingIreland
URL:https://www.transportforireland.ie/bikeweek-event/adaptive-mountain-bike-social-spin/
LOCATION:Biking.ie\, Ballinastoe Woods\, Wicklow\, D15 AC8C
CATEGORIES:Access and Inclusion,Community Engagement,Leisure and Recreational
ATTACH;FMTTYPE=image/jpeg:https://www.transportforireland.ie/wp-content/uploads/2026/04/Headline-Image.jpg
END:VEVENT
BEGIN:VEVENT
DTSTART;TZID=Europe/Dublin:20260509T100000
DTEND;TZID=Europe/Dublin:20260509T140000
DTSTAMP:20260426T022756
CREATED:20260420T150716Z
LAST-MODIFIED:20260423T144601Z
UID:10001485-1778320800-1778335200@www.transportforireland.ie
SUMMARY:Pedal & Pamper: Blessington Greenway Sauna Ride
DESCRIPTION:Celebrate Bike Week 2026 with a unique blend of activity and relaxation on the Pamper & Pedal: Blessington Greenway Sauna Ride — a self-led cycle followed by a free\, well-earned sauna session overlooking the lake. \nTake in the stunning scenery of the Blessington Greenway at your own pace\, then check in with our team to collect your token for a free 50-minute session in Tinteán Sauna. It’s the perfect reward for getting out on the bike. \n#BikeWeekWicklow
URL:https://www.transportforireland.ie/bikeweek-event/pedal-pamper-blessington-greenway-sauna-ride-2/
LOCATION:Tinteán Sauna\, https://wicklowlsp.ie/
CATEGORIES:Leisure and Recreational
ATTACH;FMTTYPE=image/png:https://www.transportforireland.ie/wp-content/uploads/2026/04/Pedal-Pamper.png
ORGANIZER;CN="Wicklow County Council and Sports Partnership":MAILTO:wicklowlsp@wicklowcoco.ie
END:VEVENT
BEGIN:VEVENT
DTSTART;TZID=Europe/Dublin:20260509T100000
DTEND;TZID=Europe/Dublin:20260509T140000
DTSTAMP:20260426T022756
CREATED:20260420T133327Z
LAST-MODIFIED:20260420T133327Z
UID:10001720-1778320800-1778335200@www.transportforireland.ie
SUMMARY:Women's Gravel Spin for Bike Week
DESCRIPTION:Women’s Gravel Spin for Bike Week is organized by Longford Racing and Cycling Club and supported by Cycling Ireland and Longford Sports partnership. The cycle will be social and take place over many of the off road trails across South Longford.
URL:https://www.transportforireland.ie/bikeweek-event/womens-gravel-spin-for-bike-week/
LOCATION:St. Dominic’s Hall\, Kenagh\,\, Co. Longford\, N39 YE68
CATEGORIES:Leisure and Recreational
ATTACH;FMTTYPE=image/png:https://www.transportforireland.ie/wp-content/uploads/2026/04/gravel-cycle.png
END:VEVENT
BEGIN:VEVENT
DTSTART;TZID=Europe/Dublin:20260509T100000
DTEND;TZID=Europe/Dublin:20260509T133000
DTSTAMP:20260426T022756
CREATED:20260422T080542Z
LAST-MODIFIED:20260422T080542Z
UID:10001933-1778320800-1778333400@www.transportforireland.ie
SUMMARY:Greenway Community Bike Ride
DESCRIPTION:Promote fun and social family cycling along the Greenway for the whole community for both children and adults. Cycling to Narrow Water Bridge and back to Omeath. Approx. 20km Ice-cream for children at Carlingford Marina for refreshments.
URL:https://www.transportforireland.ie/bikeweek-event/greenway-community-bike-ride/
LOCATION:An Tain Cafe at Greers Quay Omeath\, Greers Quay\, Louth\, na
CATEGORIES:Community Engagement,Fun and Interactive
ATTACH;FMTTYPE=image/png:https://www.transportforireland.ie/wp-content/uploads/2026/04/Bike-week-poster-.png
END:VEVENT
BEGIN:VEVENT
DTSTART;TZID=Europe/Dublin:20260509T100000
DTEND;TZID=Europe/Dublin:20260509T130000
DTSTAMP:20260426T022756
CREATED:20260416T142346Z
LAST-MODIFIED:20260416T142346Z
UID:10001500-1778320800-1778331600@www.transportforireland.ie
SUMMARY:Ashburners CC Social Cycle
DESCRIPTION:The Club Social Cycle for Bike Week is for current members to cycle together socially\, but primarily\, is open to all to encourage cycling in the local community of Ashbourne. This is simply a 50KM cycle starting and finishing at Ashbourne with refreshments provided by the club at the Hill of Tara\, as done in previous years.
URL:https://www.transportforireland.ie/bikeweek-event/ashburners-cc-social-cycle/
LOCATION:Ashbourne Retail Park\, 1 Ballybin Rd\, Cookstown\, Ashbourne\, Co. Meath\, Meath
CATEGORIES:Community Engagement,Leisure and Recreational
END:VEVENT
BEGIN:VEVENT
DTSTART;TZID=Europe/Dublin:20260509T100000
DTEND;TZID=Europe/Dublin:20260509T120000
DTSTAMP:20260426T022756
CREATED:20260422T080527Z
LAST-MODIFIED:20260422T080527Z
UID:10001903-1778320800-1778328000@www.transportforireland.ie
SUMMARY:Intro to Trail Cycling & Bike Maintenance
DESCRIPTION:The event comprises a bike maintenance workshop & short cycle on the first session and a cycle through Clonbur Woods to Cong on the 2nd session. The event is to encourage people to get their bikes out of the sheds\, get the confidence to fix them up and cycle in the local woodland cycle trails.
URL:https://www.transportforireland.ie/bikeweek-event/intro-to-trail-cycling-bike-maintenance-3/
LOCATION:Petersburg Outdoor Education & Training Centre\, Petersburg\, Clonbur\, Co Galway.
CATEGORIES:Community Engagement,Education and Training,Fun and Interactive,Leisure and Recreational,Workshops and Maintenance
END:VEVENT
BEGIN:VEVENT
DTSTART;TZID=Europe/Dublin:20260509T100000
DTEND;TZID=Europe/Dublin:20260509T120000
DTSTAMP:20260426T022756
CREATED:20260420T150707Z
LAST-MODIFIED:20260420T150707Z
UID:10001897-1778320800-1778328000@www.transportforireland.ie
SUMMARY:Introduction to Mountain Biking - Scarragh Woods
DESCRIPTION:South Tipperary Cycling Club will host an Introductory Mountain Biking session on Saturday 9th May at 10:00am in Scarragh Woods\, near Cahir.\nThis session is aimed at beginners\, with a focus on basic mountain biking skills\, trail awareness\, and safe riding techniques. Participants will ride on established trails under the guidance of experienced club leaders.\nThe session is suitable for teenagers (parental consent required) and young adults who are interested in trying mountain biking in a supported environment.\nNo advance registration is required. Participants can simply attend on the day with a suitable bike and helmet.
URL:https://www.transportforireland.ie/bikeweek-event/introduction-to-mountain-biking-scarragh-woods/
LOCATION:Scarragh Woods\, Lissava\, Cahir\, Munster
CATEGORIES:Fun and Interactive,Leisure and Recreational
END:VEVENT
BEGIN:VEVENT
DTSTART;TZID=Europe/Dublin:20260509T100000
DTEND;TZID=Europe/Dublin:20260509T120000
DTSTAMP:20260426T022756
CREATED:20260420T150635Z
LAST-MODIFIED:20260420T150635Z
UID:10001481-1778320800-1778328000@www.transportforireland.ie
SUMMARY:Intro to Trail Cycling & Bike Maintenance
DESCRIPTION:The event comprises of a bike maintenance workshop & short cycle on the first session and a cycle through Clonbur Woods to Cong on the 2nd session. The event is to encourage people to get their bikes out of the sheds\, get the confidence to fix them up and cycle in the local woodland cycle trails.
URL:https://www.transportforireland.ie/bikeweek-event/intro-to-trail-cycling-bike-maintenance/
LOCATION:Petersburg Outdoor Education & Training Centre\, Petersburg\, Clonbur\, Co Galway.
CATEGORIES:Community Engagement,Education and Training,Fun and Interactive,Leisure and Recreational,Workshops and Maintenance
END:VEVENT
BEGIN:VEVENT
DTSTART;TZID=Europe/Dublin:20260509T100000
DTEND;TZID=Europe/Dublin:20260509T120000
DTSTAMP:20260426T022756
CREATED:20260417T085459Z
LAST-MODIFIED:20260417T085459Z
UID:10001655-1778320800-1778328000@www.transportforireland.ie
SUMMARY:Bike Week 2026- Hanover Harps
DESCRIPTION:Please note: this event is only for members of Hanover Harps Juvenile Club.\nMorning of cycling and fun activities. Kids will be allowed to cycle around the track surrounding the soccer pitch.\nThey will learn how be safe on their bike and be given general safety tips for cycling.\nKids will enjoy an obstacle course and light refreshments on the morning.
URL:https://www.transportforireland.ie/bikeweek-event/bike-week-2026-hanover-harps/
LOCATION:Hanover Harps FC\, Carlow
CATEGORIES:Access and Inclusion,Awareness and Safety,Community Engagement,Fun and Interactive
ATTACH;FMTTYPE=image/png:https://www.transportforireland.ie/wp-content/uploads/2026/04/Active-Carlow-Drafts-Black-2-22.png
END:VEVENT
BEGIN:VEVENT
DTSTART;TZID=Europe/Dublin:20260509T100000
DTEND;TZID=Europe/Dublin:20260509T120000
DTSTAMP:20260426T022756
CREATED:20260413T085540Z
LAST-MODIFIED:20260413T085540Z
UID:10001426-1778320800-1778328000@www.transportforireland.ie
SUMMARY:BlanchWheelies: Couch to 50k
DESCRIPTION:Want to try out group cycling? The BlanchWheelies will be running beginners’ social ‘Couch to 50k’ spins as part of Bike Week 2026. Spins are aimed at those wanting to improve fitness or experience club riding. The cycle will take approximately 1 hour at a comfortable pace for all\, and we’ll finish with a coffee stop! All welcome!
URL:https://www.transportforireland.ie/bikeweek-event/blanchwheelies-couch-to-50k/
LOCATION:Cyclezone\, Main Street Blanchardstown\, Dublin\, Dublin 15
CATEGORIES:Challenges and Competitions,Community Engagement,Education and Training,Fun and Interactive,Leisure and Recreational
ATTACH;FMTTYPE=image/jpeg:https://www.transportforireland.ie/wp-content/uploads/2026/04/Couch-to-50Km_2026-copy-1.jpg
END:VEVENT
BEGIN:VEVENT
DTSTART;TZID=Europe/Dublin:20260509T100000
DTEND;TZID=Europe/Dublin:20260509T110000
DTSTAMP:20260426T022756
CREATED:20260422T144812Z
LAST-MODIFIED:20260422T144812Z
UID:10002012-1778320800-1778324400@www.transportforireland.ie
SUMMARY:Inclusive Learn to Cycle Castlebar
DESCRIPTION:A 5-week inclusive learn to cycle programme for people with disabilities to develop awareness and safety while on the roads.
URL:https://www.transportforireland.ie/bikeweek-event/inclusive-learn-to-cycle-castlebar/
LOCATION:Castlebar Town Park\, Castlebar\, Mayo\, F23 H344
CATEGORIES:Access and Inclusion,Awareness and Safety,Community Engagement,Fun and Interactive
ATTACH;FMTTYPE=image/png:https://www.transportforireland.ie/wp-content/uploads/2026/04/MSP-Bike-Events-Graphic-1-8.png
END:VEVENT
BEGIN:VEVENT
DTSTART;TZID=Europe/Dublin:20260509T093000
DTEND;TZID=Europe/Dublin:20260509T113000
DTSTAMP:20260426T022756
CREATED:20260422T144748Z
LAST-MODIFIED:20260422T144748Z
UID:10002011-1778319000-1778326200@www.transportforireland.ie
SUMMARY:Bike Doctor @ Coal Quay Market
DESCRIPTION:Mechanics from Cork Community Bikes will thoroughly check your bike and carry out any small repairs as needed. We’ll explain and give advice on looking after your bike.
URL:https://www.transportforireland.ie/bikeweek-event/bike-doctor-coal-quay-market-2/
LOCATION:Coal Quay Market\, Cornmarket Street\, Cork City. T12 X9Y9\, Coal Quay Market\, Cornmarket Street\, Cork City. T12 X9Y9\, T12 X9Y9
CATEGORIES:Leisure and Recreational
ATTACH;FMTTYPE=image/png:https://www.transportforireland.ie/wp-content/uploads/2026/04/Bike-Week-Image-105.png
END:VEVENT
BEGIN:VEVENT
DTSTART;TZID=Europe/Dublin:20260509T093000
DTEND;TZID=Europe/Dublin:20260509T113000
DTSTAMP:20260426T022756
CREATED:20260420T150549Z
LAST-MODIFIED:20260420T150549Z
UID:10001841-1778319000-1778326200@www.transportforireland.ie
SUMMARY:Ballyhoura Bike Week - MTB for all
DESCRIPTION:Try-A-Bike for kids and teenagers / Family and Social Group Rides for all ages and abilities.
URL:https://www.transportforireland.ie/bikeweek-event/ballyhoura-bike-week-mtb-for-all-3/
LOCATION:Ballyhoura Mountain Bike Centre\, Ballyhoura Mountain Bike Centre
CATEGORIES:Leisure and Recreational
ATTACH;FMTTYPE=image/png:https://www.transportforireland.ie/wp-content/uploads/2026/04/Bike-Week-Image-42.png
END:VEVENT
BEGIN:VEVENT
DTSTART;TZID=Europe/Dublin:20260509T090000
DTEND;TZID=Europe/Dublin:20260509T163000
DTSTAMP:20260426T022756
CREATED:20260420T150554Z
LAST-MODIFIED:20260420T150554Z
UID:10001480-1778317200-1778344200@www.transportforireland.ie
SUMMARY:Introduction to Cycling Course - primary school teachers
DESCRIPTION:Cycling Ireland will deliver a one day Introduction to Cycling Course for primary school teachers
URL:https://www.transportforireland.ie/bikeweek-event/introduction-to-cycling-course-primary-school-teachers/
LOCATION:Clare Sports Partnership\, C/o Clare Education Centre\, Government Buildings\, Kilrush Rd\, Clare\, V95 F782
CATEGORIES:Awareness and Safety,Education and Training,Fun and Interactive
END:VEVENT
END:VCALENDAR