BEGIN:VCALENDAR
VERSION:2.0
PRODID:-//Transport for Ireland - ECPv6.15.20//NONSGML v1.0//EN
CALSCALE:GREGORIAN
METHOD:PUBLISH
X-ORIGINAL-URL:https://www.transportforireland.ie
X-WR-CALDESC:Events for Transport for Ireland
REFRESH-INTERVAL;VALUE=DURATION:PT1H
X-Robots-Tag:noindex
X-PUBLISHED-TTL:PT1H
BEGIN:VTIMEZONE
TZID:Europe/Dublin
BEGIN:STANDARD
TZOFFSETFROM:+0000
TZOFFSETTO:+0100
TZNAME:IST
DTSTART:20250330T010000
END:STANDARD
BEGIN:DAYLIGHT
TZOFFSETFROM:+0100
TZOFFSETTO:+0000
TZNAME:GMT
DTSTART:20251026T010000
END:DAYLIGHT
BEGIN:STANDARD
TZOFFSETFROM:+0000
TZOFFSETTO:+0100
TZNAME:IST
DTSTART:20260329T010000
END:STANDARD
BEGIN:DAYLIGHT
TZOFFSETFROM:+0100
TZOFFSETTO:+0000
TZNAME:GMT
DTSTART:20261025T010000
END:DAYLIGHT
BEGIN:STANDARD
TZOFFSETFROM:+0000
TZOFFSETTO:+0100
TZNAME:IST
DTSTART:20270328T010000
END:STANDARD
BEGIN:DAYLIGHT
TZOFFSETFROM:+0100
TZOFFSETTO:+0000
TZNAME:GMT
DTSTART:20271031T010000
END:DAYLIGHT
END:VTIMEZONE
BEGIN:VEVENT
DTSTART;TZID=Europe/Dublin:20260517T111500
DTEND;TZID=Europe/Dublin:20260517T120000
DTSTAMP:20260422T124041
CREATED:20260409T135131Z
LAST-MODIFIED:20260409T135131Z
UID:10001404-1779016500-1779019200@www.transportforireland.ie
SUMMARY:Malahide Pedal Parade
DESCRIPTION:Join us on New Street in Malahide at 11:15am for our annual Malahide Pedal Parade. The Green Roots Project will be there to help decorate children’s bikes and lead us on a short family cycle from New Street to the Family Fun Day taking place at Malahide Castle. The event is open to all ages\, abilities and bikes. No need to register\, just turn up on the day\, For more Information\, email active.travel@fingal.ie
URL:https://www.transportforireland.ie/bikeweek-event/malahide-pedal-parade-2/
LOCATION:New Street Malahide\, New Street Malahide\, Dublin
CATEGORIES:Bike Festivals and Exhibitions
ATTACH;FMTTYPE=image/jpeg:https://www.transportforireland.ie/wp-content/uploads/2026/04/Malahide-Pedal-Parade.jpg
END:VEVENT
BEGIN:VEVENT
DTSTART;TZID=Europe/Dublin:20260517T113000
DTEND;TZID=Europe/Dublin:20260517T133000
DTSTAMP:20260422T124041
CREATED:20260417T100626Z
LAST-MODIFIED:20260417T100626Z
UID:10001545-1779017400-1779024600@www.transportforireland.ie
SUMMARY:Courtmac & Back
DESCRIPTION:We will meet Ballinspittle and cycle to Courtmacsherry. Here we’ll do a stop for lunch (a picnic on the beach\, if weather allows!) before cycling back to Ballinspittle for the Bike Week prize raffle. Children attending must be 16+ and if they are under 18 they must be accompanied by an adult.
URL:https://www.transportforireland.ie/bikeweek-event/courtmac-back-2/
LOCATION:Ballinspittle\, Ballinspittle\, parking opposite church (Holy Trinity Catholic Church)
CATEGORIES:Leisure and Recreational
ATTACH;FMTTYPE=image/png:https://www.transportforireland.ie/wp-content/uploads/2026/04/Bike-Week-Image-31.png
END:VEVENT
BEGIN:VEVENT
DTSTART;TZID=Europe/Dublin:20260517T120000
DTEND;TZID=Europe/Dublin:20260517T130000
DTSTAMP:20260422T124041
CREATED:20260421T144751Z
LAST-MODIFIED:20260421T144751Z
UID:10001931-1779019200-1779022800@www.transportforireland.ie
SUMMARY:Talk on E-bike safety
DESCRIPTION:This talk will provide information to the public on ebike safety including:\nwhat specifications to look for when buying an ebike that are most suitable to the buyer\nhow to operate controls on an ebike and a test cycle\nebike safety knowledge
URL:https://www.transportforireland.ie/bikeweek-event/talk-on-e-bike-safety/
LOCATION:PADDY & NELLY BIKE HIRE\, CHURCH STREET\, WESTPORT\, F28 A2N4
CATEGORIES:Awareness and Safety,Community Engagement,Education and Training
ATTACH;FMTTYPE=image/png:https://www.transportforireland.ie/wp-content/uploads/2026/04/MSP-Bike-Events-Graphic-1-3.png
END:VEVENT
BEGIN:VEVENT
DTSTART;TZID=Europe/Dublin:20260517T120000
DTEND;TZID=Europe/Dublin:20260517T140000
DTSTAMP:20260422T124041
CREATED:20260409T135049Z
LAST-MODIFIED:20260409T135049Z
UID:10001408-1779019200-1779026400@www.transportforireland.ie
SUMMARY:Teen Cycle
DESCRIPTION:Teen Cycle in Killykeen Forest Park
URL:https://www.transportforireland.ie/bikeweek-event/teen-cycle/
LOCATION:Killykeen Forest Park\, Cavan\, Co Cavan\, H16 HC83\, Ireland
CATEGORIES:Leisure and Recreational
END:VEVENT
BEGIN:VEVENT
DTSTART;TZID=Europe/Dublin:20260517T120000
DTEND;TZID=Europe/Dublin:20260517T140000
DTSTAMP:20260422T124041
CREATED:20260409T154053Z
LAST-MODIFIED:20260409T154053Z
UID:10001423-1779019200-1779026400@www.transportforireland.ie
SUMMARY:Family Fun Cycle with DB Cycling Club
DESCRIPTION:Family Fun Cycle and club event.
URL:https://www.transportforireland.ie/bikeweek-event/family-fun-cycle-with-db-cycling-club/
LOCATION:Haltons Amenity Cootehill\, Monaghan Road\, Cootehill\, Co Cavan\, H16 HC83
CATEGORIES:Leisure and Recreational
END:VEVENT
BEGIN:VEVENT
DTSTART;TZID=Europe/Dublin:20260517T120000
DTEND;TZID=Europe/Dublin:20260517T140000
DTSTAMP:20260422T124041
CREATED:20260421T144801Z
LAST-MODIFIED:20260421T144801Z
UID:10001927-1779019200-1779026400@www.transportforireland.ie
SUMMARY:Tullaghan Bay Rowing Club group cycle
DESCRIPTION:A group cycle to promote exercise and raise awareness of road safety for cyclists. All ages are invited to participate and there will be a short route and longer route. Our Local Bike Shop will supply bikes free of charge for anyone wishing to take part who does not own a bike.
URL:https://www.transportforireland.ie/bikeweek-event/tullaghan-bay-rowing-club-group-cycle/
LOCATION:Doohoma\, Doohoma\, Mayo\, F26 V9V3
CATEGORIES:Community Engagement,Fun and Interactive,Leisure and Recreational
ATTACH;FMTTYPE=image/png:https://www.transportforireland.ie/wp-content/uploads/2026/04/MSP-Bike-Events-Graphic-1-1.png
END:VEVENT
BEGIN:VEVENT
DTSTART;TZID=Europe/Dublin:20260517T123000
DTEND;TZID=Europe/Dublin:20260517T123000
DTSTAMP:20260422T124041
CREATED:20260421T083535Z
LAST-MODIFIED:20260421T083535Z
UID:10001913-1779021000-1779021000@www.transportforireland.ie
SUMMARY:Community Cycle
DESCRIPTION:Join us for a relaxed community cycle. All ages and abilities welcome. Cycle at your own pace with a focus on fun.\nA great opportunity to stay active and join a Family Friendly Community Event
URL:https://www.transportforireland.ie/bikeweek-event/community-cycle-3/
LOCATION:St Josephs Resource Centre\, Abbeytown\, Boyle\, F52N260
CATEGORIES:Leisure and Recreational
END:VEVENT
BEGIN:VEVENT
DTSTART;TZID=Europe/Dublin:20260517T123000
DTEND;TZID=Europe/Dublin:20260517T140000
DTSTAMP:20260422T124041
CREATED:20260417T105528Z
LAST-MODIFIED:20260420T102751Z
UID:10001747-1779021000-1779026400@www.transportforireland.ie
SUMMARY:Athy Triathlon Club Family Blueway Cycle
DESCRIPTION:Families and cyclists of all ages are invited to join Athy Triathlon Club for a Family Fun Cycle from Castlemitchell GAA Club to Vicarstown and back along the beautiful Barrow Blueway. \nEnjoy a relaxed and enjoyable cycle through scenic surrounds\, perfect for children\, parents\, and anyone who wants to experience the Blueway at an easy pace. This is a great opportunity to get active\, spend time together\, and enjoy one of Kildare’s finest recreational routes as part of Bike Week. \n📍 Start & Finish: Castlemitchell GAA Club \nKeep an eye out on the Athy Triathlon Club’s Social Media pages for updates on the event in relation to start and finish times. \nBring the family\, bring the bikes\, and enjoy a fun day out on two wheels!
URL:https://www.transportforireland.ie/bikeweek-event/athy-triathlon-club-family-blueway-cycle/
LOCATION:CASTLEMITCHELL GAA CLUB\, CASTLEREBAN SOUTH\, ATHY CO. KILDARE\, R14 HD80
CATEGORIES:Community Engagement,Fun and Interactive,Leisure and Recreational
ATTACH;FMTTYPE=image/png:https://www.transportforireland.ie/wp-content/uploads/2026/04/Athy-Triathlon.png
END:VEVENT
BEGIN:VEVENT
DTSTART;TZID=Europe/Dublin:20260517T123000
DTEND;TZID=Europe/Dublin:20260517T143000
DTSTAMP:20260422T124041
CREATED:20260409T141114Z
LAST-MODIFIED:20260409T141114Z
UID:10001419-1779021000-1779028200@www.transportforireland.ie
SUMMARY:Family Fun Cycling Festival – Doorly Park
DESCRIPTION:A fun-filled cycling day for families with games\, skills sessions\, workshops\, and treats for all ages and abilities!\nJoin us for a Bike Week Family Fun Cycling Festival\, delivered in partnership with Sligo County Council\, Cycling Ireland and SSRP. It is a great opportunity for families to get active\, build confidence on bikes\, and enjoy a relaxed day outdoors together.\nThis event is suitable for all ages and abilities\, whether you’re new to cycling or looking to improve your skills in a fun and supportive environment.\nWhat to expect:\n• Skills & drills sessions and fun cycling games\n• Bike maintenance workshops and safety talks\n• Bike decorating station\n• Ice cream van on site\nImportant Information:\n• This is a family event – parents/guardians must remain on site and are responsible for their children at all times\n• All activities will be supervised by qualified coaches and volunteers\n• Participants should bring their own bikes where possible\n• A limited number of bikes will be available to borrow for games and activities\nSafety:\n• Helmets must be worn at all times while cycling (for both children and adults)\n• All bikes must be roadworthy with working brakes\nCome along\, get involved\, and enjoy a great day of cycling\, fun\, and community!
URL:https://www.transportforireland.ie/bikeweek-event/family-fun-cycling-festival-doorly-park/
LOCATION:Doorly Park\, Playground Car Park\, Sligo
CATEGORIES:Awareness and Safety,Bike Festivals and Exhibitions,Community Engagement,Fun and Interactive
ATTACH;FMTTYPE=image/jpeg:https://www.transportforireland.ie/wp-content/uploads/2026/04/Family-Funday.jpg
END:VEVENT
BEGIN:VEVENT
DTSTART;TZID=Europe/Dublin:20260517T130000
DTEND;TZID=Europe/Dublin:20260517T170000
DTSTAMP:20260422T124041
CREATED:20260421T083727Z
LAST-MODIFIED:20260422T075316Z
UID:10001849-1779022800-1779037200@www.transportforireland.ie
SUMMARY:Cycle to Tragumna through the beautiful Liss Ard estate
DESCRIPTION:Enjoy a gentle cycle with off road locations through beautiful Liss Ard Estate and stunning Tragumna beach with an optional swim for the braver souls . Enjoy delicious food at the Skibbreen Eagle before a cycle back to Skibbereen on a mostly flat route. Route may be too far for children younger than 7.
URL:https://www.transportforireland.ie/bikeweek-event/cycle-to-tragumna-through-the-beautiful-liss-ard-estate/
LOCATION:Abbeystrewry NS\, Castletownshend Rd\, Skibbereen\, Abbeystrewry NS\, Castletownshend Rd\, Skibbereen\, Munster\, Ireland
CATEGORIES:Leisure and Recreational
ATTACH;FMTTYPE=image/png:https://www.transportforireland.ie/wp-content/uploads/2026/04/Bike-Week-Image-49.png
END:VEVENT
BEGIN:VEVENT
DTSTART;TZID=Europe/Dublin:20260517T140000
DTEND;TZID=Europe/Dublin:20260517T160000
DTSTAMP:20260422T124041
CREATED:20260421T144806Z
LAST-MODIFIED:20260421T144806Z
UID:10001856-1779026400-1779033600@www.transportforireland.ie
SUMMARY:Bike Week Bike Bop
DESCRIPTION:Disco on wheels around Cork City. Children must be accompanied by an adult.
URL:https://www.transportforireland.ie/bikeweek-event/bike-week-bike-bop/
LOCATION:Cork City Centre\, - Michael Collins statue\, Grand Parade.
CATEGORIES:Leisure and Recreational
ATTACH;FMTTYPE=image/png:https://www.transportforireland.ie/wp-content/uploads/2026/04/Bike-Week-Image-52.png
END:VEVENT
BEGIN:VEVENT
DTSTART;TZID=Europe/Dublin:20260517T140000
DTEND;TZID=Europe/Dublin:20260517T170000
DTSTAMP:20260422T124041
CREATED:20260416T134456Z
LAST-MODIFIED:20260421T145028Z
UID:10001505-1779026400-1779037200@www.transportforireland.ie
SUMMARY:Abbeyknockmoy Village Cycle
DESCRIPTION:Join us for the Abbeyknockmoy Village Cycle\, a fun and inclusive community cycling event for all ages and abilities. The cycle will begin at Abbeyknockmoy Community Centre and follow a 5km village loop. Following the cycle\, participants can enjoy prizes and cycling goodies\, with a children’s quiz taking place afterwards.
URL:https://www.transportforireland.ie/bikeweek-event/abbeyknockmoy-village-cycle/
LOCATION:Abbeyknockmoy Community Centre\, Abbeyknockmoy\, Co Galway.
CATEGORIES:Community Engagement,Fun and Interactive,Leisure and Recreational
ATTACH;FMTTYPE=image/png:https://www.transportforireland.ie/wp-content/uploads/2026/04/ABBEYKNOCKMOY_VILLAGE_CYCLE_1280x720-1.png
END:VEVENT
BEGIN:VEVENT
DTSTART;TZID=Europe/Dublin:20260517T143000
DTEND;TZID=Europe/Dublin:20260517T163000
DTSTAMP:20260422T124041
CREATED:20260421T145047Z
LAST-MODIFIED:20260421T145047Z
UID:10001895-1779028200-1779035400@www.transportforireland.ie
SUMMARY:Cycle of Nature – Cloughjordan
DESCRIPTION:Cloughjordan Community Development Association will host Cycles of Nature\, a guided cycle through Emmel West along the Beara–Breifne National Cycle Route. The cycle will include a number of stops to explore and learn about the area’s natural heritage\, offering participants an opportunity to experience the landscape in an informative and relaxed way. Participants will meet at the Middle Country Café on Main Street at 2.30pm before setting off on the guided cycle.
URL:https://www.transportforireland.ie/bikeweek-event/cycle-of-nature-cloughjordan/
LOCATION:Main Street\, Cloughjordan\, Munster
CATEGORIES:Community Engagement,Leisure and Recreational
END:VEVENT
BEGIN:VEVENT
DTSTART;TZID=Europe/Dublin:20260518T070000
DTEND;TZID=Europe/Dublin:20260518T080000
DTSTAMP:20260422T124041
CREATED:20260416T094708Z
LAST-MODIFIED:20260416T094708Z
UID:10001551-1779087600-1779091200@www.transportforireland.ie
SUMMARY:Learn to Cycle for adults
DESCRIPTION:Safe and supportive environment for adults who would like to learn to cycle
URL:https://www.transportforireland.ie/bikeweek-event/learn-to-cycle-for-adults/
LOCATION:Skibbereen Sports Centre\, Skibbereen Sports Centre
CATEGORIES:Leisure and Recreational
ATTACH;FMTTYPE=image/jpeg:https://www.transportforireland.ie/wp-content/uploads/2026/04/bikeweek-2026-cork-400x225-1.jpg
END:VEVENT
BEGIN:VEVENT
DTSTART;TZID=Europe/Dublin:20260519T100000
DTEND;TZID=Europe/Dublin:20260519T103000
DTSTAMP:20260422T124041
CREATED:20260417T102043Z
LAST-MODIFIED:20260417T102043Z
UID:10001660-1779184800-1779186600@www.transportforireland.ie
SUMMARY:Cycle Safety Webinar
DESCRIPTION:County Kerry Primary Schools Road Safety Webinar\nKerry Recreation & Sports Partnership\, Kerry County Council Road Safety\, Cycling Ireland\, Cycle Right and An Garda Síochána\nRoad Safety Webinar Content:\nSafe Thinking | Observation Skills | Decision Making | Supervision | Behaviour | Role Modelling Safety With Younger Members Of Your School | Community & Family |\nWebinar Details:\nDuration: 30 mins\nWhich Classes: 2nd-6th classes\nDelivered: Live Online via Zoom\nAudience: Primary Schools
URL:https://www.transportforireland.ie/bikeweek-event/cycle-safety-webinar/
LOCATION:Online\, Kerry
CATEGORIES:Awareness and Safety
ATTACH;FMTTYPE=image/png:https://www.transportforireland.ie/wp-content/uploads/2026/04/Poster-for-Bike-Week-Portal-1-2.png
END:VEVENT
END:VCALENDAR