BEGIN:VCALENDAR
VERSION:2.0
PRODID:-//Transport for Ireland - ECPv6.15.20//NONSGML v1.0//EN
CALSCALE:GREGORIAN
METHOD:PUBLISH
X-WR-CALNAME:Transport for Ireland
X-ORIGINAL-URL:https://www.transportforireland.ie
X-WR-CALDESC:Events for Transport for Ireland
REFRESH-INTERVAL;VALUE=DURATION:PT1H
X-Robots-Tag:noindex
X-PUBLISHED-TTL:PT1H
BEGIN:VTIMEZONE
TZID:Europe/Dublin
BEGIN:STANDARD
TZOFFSETFROM:+0000
TZOFFSETTO:+0100
TZNAME:IST
DTSTART:20250330T010000
END:STANDARD
BEGIN:DAYLIGHT
TZOFFSETFROM:+0100
TZOFFSETTO:+0000
TZNAME:GMT
DTSTART:20251026T010000
END:DAYLIGHT
BEGIN:STANDARD
TZOFFSETFROM:+0000
TZOFFSETTO:+0100
TZNAME:IST
DTSTART:20260329T010000
END:STANDARD
BEGIN:DAYLIGHT
TZOFFSETFROM:+0100
TZOFFSETTO:+0000
TZNAME:GMT
DTSTART:20261025T010000
END:DAYLIGHT
BEGIN:STANDARD
TZOFFSETFROM:+0000
TZOFFSETTO:+0100
TZNAME:IST
DTSTART:20270328T010000
END:STANDARD
BEGIN:DAYLIGHT
TZOFFSETFROM:+0100
TZOFFSETTO:+0000
TZNAME:GMT
DTSTART:20271031T010000
END:DAYLIGHT
END:VTIMEZONE
BEGIN:VEVENT
DTSTART;TZID=Europe/Dublin:20260511T080000
DTEND;TZID=Europe/Dublin:20260515T170000
DTSTAMP:20260423T111543
CREATED:20260421T155649Z
LAST-MODIFIED:20260421T155649Z
UID:10001749-1778486400-1778864400@www.transportforireland.ie
SUMMARY:Bike Week in a Box - Teacher's Toolkit
DESCRIPTION:Cycling Ireland is partnering with Local Sports Partnerships to bring cycling into schools. We want to encourage kids to learn about cycling\, get on their bike\, and have fun. Bike Week in a Box is an easy-to-follow\, practical guide for schools and teachers who want to celebrate cycling through fun\, engaging in-class and yard activities.
URL:https://www.transportforireland.ie/bikeweek-event/bike-week-in-a-box-teachers-toolkit/
LOCATION:Country Wide\, Dublin
CATEGORIES:Education and Training,Fun and Interactive
ATTACH;FMTTYPE=image/png:https://www.transportforireland.ie/wp-content/uploads/2026/04/Screenshot-2026-04-17-110110.png
END:VEVENT
BEGIN:VEVENT
DTSTART;TZID=Europe/Dublin:20260511T084500
DTEND;TZID=Europe/Dublin:20260513T154700
DTSTAMP:20260423T111543
CREATED:20260422T082530Z
LAST-MODIFIED:20260422T082530Z
UID:10001464-1778489100-1778687220@www.transportforireland.ie
SUMMARY:Bike Maintenance Workshops
DESCRIPTION:Bike repair workshops.
URL:https://www.transportforireland.ie/bikeweek-event/bike-maintenance-workshops/
LOCATION:Colaiste Bhaile Chlair\, Claregalway\, Co. Galway.
CATEGORIES:Workshops and Maintenance
END:VEVENT
BEGIN:VEVENT
DTSTART;TZID=Europe/Dublin:20260511T085500
DTEND;TZID=Europe/Dublin:20260515T154700
DTSTAMP:20260423T111543
CREATED:20260417T104734Z
LAST-MODIFIED:20260417T104734Z
UID:10001469-1778489700-1778860020@www.transportforireland.ie
SUMMARY:Safe Cycling Skills and Cycles.
DESCRIPTION:Learning how to cycle safely.
URL:https://www.transportforireland.ie/bikeweek-event/safe-cycling-skills-and-cycles/
LOCATION:Colaiste Bhaile Chlair\, Claregalway\, Co. Galway.
CATEGORIES:Awareness and Safety,Education and Training
END:VEVENT
BEGIN:VEVENT
DTSTART;TZID=Europe/Dublin:20260511T090000
DTEND;TZID=Europe/Dublin:20260511T110000
DTSTAMP:20260423T111543
CREATED:20260421T134409Z
LAST-MODIFIED:20260421T134409Z
UID:10001506-1778490000-1778497200@www.transportforireland.ie
SUMMARY:Greenway cycle of members of Castlemartyr Men's Shed
DESCRIPTION:Cycle from Mogeely to Youghal on the greenway\, stopping for a coffee in Killeagh. Some of our elderly members may require e -bikes.
URL:https://www.transportforireland.ie/bikeweek-event/greenway-cycle-of-members-of-castlemartyr-mens-shed/
LOCATION:Mogeely\, Mogeely\, Cork
CATEGORIES:Leisure and Recreational
ATTACH;FMTTYPE=image/png:https://www.transportforireland.ie/wp-content/uploads/2026/04/Bike-Week-Image.png
END:VEVENT
BEGIN:VEVENT
DTSTART;TZID=Europe/Dublin:20260511T090000
DTEND;TZID=Europe/Dublin:20260511T113000
DTSTAMP:20260423T111543
CREATED:20260421T134442Z
LAST-MODIFIED:20260421T134442Z
UID:10001755-1778490000-1778499000@www.transportforireland.ie
SUMMARY:Wheels Day
DESCRIPTION:The aims of our whole school event are: focus on relationship building\, encouraging lifelong cycling\, promoting active travel\, environmental awareness\, road safety awareness\, keeping fit\, being active and having fun. The event will provide opportunities for pupils of all abilities to develop confidence\, coordination and cycling skills through structured activities. Funding will also support the long-term promotion of physical activity within the school\, as equipment purchased will be reused for future initiatives.\nOur “Wheels Day” event during Bike Week 2026 will be a fun\, inclusive\, non-competitive cycling day where pupils are encouraged to bring tricycles\, bicycles\, scooters\, and other wheeled equipment to school. The event will be planned and delivered by school staff\, ensuring it is tailored to the needs and abilities of all pupils. Activities will be organised into stations\, rotations and courses. Activities will include a cycling obstacle course\, slow bike races\, skills challenges\, and a group cycle around the school grounds. The event aims to promote active travel\, improve cycling confidence\, and encourage participation from all pupils\, including beginners and those who do not usually cycle. The event will be free of charge and open to all pupils. We will also have Road Safety lessons throughout the week. Our local guard will come to the school during the week to talk to the children about road safety.
URL:https://www.transportforireland.ie/bikeweek-event/wheels-day/
LOCATION:Scoil Mhuire\, Coole\, Coole\, Mullingar\, Westmeath
CATEGORIES:Community Engagement,Education and Training,Fun and Interactive
ORGANIZER;CN="Westmeath County Council and Sports Partnership":MAILTO:info@westmeathsports.ie
END:VEVENT
BEGIN:VEVENT
DTSTART;TZID=Europe/Dublin:20260511T090000
DTEND;TZID=Europe/Dublin:20260511T120000
DTSTAMP:20260423T111543
CREATED:20260422T081623Z
LAST-MODIFIED:20260422T081623Z
UID:10001938-1778490000-1778500800@www.transportforireland.ie
SUMMARY:Bike Safety Workshop Presentation NS Drogheda
DESCRIPTION:We delivered this programme to teach the children about the road safety through bike skills while cycling to school and the importance of wearing a helmet and checking your bike before cycling.
URL:https://www.transportforireland.ie/bikeweek-event/bike-safety-workshop-presentation-ns-drogheda/
LOCATION:Presentation NS Drogheda\, Presentation NS Drogheda\, Louth\, na
CATEGORIES:Education and Training
ATTACH;FMTTYPE=image/png:https://www.transportforireland.ie/wp-content/uploads/2026/04/Bike-week-poster-1-1.png
END:VEVENT
BEGIN:VEVENT
DTSTART;TZID=Europe/Dublin:20260511T090000
DTEND;TZID=Europe/Dublin:20260511T144000
DTSTAMP:20260423T111543
CREATED:20260421T134532Z
LAST-MODIFIED:20260421T134532Z
UID:10001765-1778490000-1778510400@www.transportforireland.ie
SUMMARY:Taghmon NS - Bike Week 2026
DESCRIPTION:The aim is to enhance children’s physical fitness\, coordination and wellbeing. We want children to enjoy cycling and become proficient\, confident and safe at using a bike.\nWe will ask each student to create a “bike project” as homework for the week. The children will present these to the whole school on the Friday. Children will bring bikes or scooters (with helmets) on the Friday also and will use different obstacles to practice cycling around the school grounds. We have discussed with Niall Fagan about the possibility of coming to do a lesson on cycling proficiency.
URL:https://www.transportforireland.ie/bikeweek-event/taghmon-ns-bike-week-2026/
LOCATION:Taghmon NS\, Parsonstown\, Crookedwood\, Mullingar\, County Westmeath
CATEGORIES:Community Engagement,Education and Training,Fun and Interactive
ORGANIZER;CN="Westmeath County Council and Sports Partnership":MAILTO:info@westmeathsports.ie
END:VEVENT
BEGIN:VEVENT
DTSTART;TZID=Europe/Dublin:20260511T090000
DTEND;TZID=Europe/Dublin:20260511T150000
DTSTAMP:20260423T111543
CREATED:20260413T085316Z
LAST-MODIFIED:20260413T085316Z
UID:10001435-1778490000-1778511600@www.transportforireland.ie
SUMMARY:Cloneyhurke National School
DESCRIPTION:Bike Skills workshop for pupils
URL:https://www.transportforireland.ie/bikeweek-event/cloneyhurke-national-school-3/
LOCATION:Cloneyhurke National School
CATEGORIES:Workshops and Maintenance
END:VEVENT
BEGIN:VEVENT
DTSTART;TZID=Europe/Dublin:20260511T090000
DTEND;TZID=Europe/Dublin:20260511T150000
DTSTAMP:20260423T111544
CREATED:20260420T113618Z
LAST-MODIFIED:20260420T113618Z
UID:10001632-1778490000-1778511600@www.transportforireland.ie
SUMMARY:Cycle around Dunfanaghy
DESCRIPTION:The senior Room students along with teachers and parents will go on a cycle around the local back roads near the school. We will cycle to a selected destination where we will then have a little picnic before returning to the school. We will then have a little draw where students can win spot prizes related to cycling (Helmet\, bottle\, vest\, etc)
URL:https://www.transportforireland.ie/bikeweek-event/cycle-around-dunfanaghy/
LOCATION:Murroe National School\, Murroe Upper\, Donegal
CATEGORIES:Leisure and Recreational
ORGANIZER;CN="Donegal County Council and Sports Partnership":MAILTO:@activedonegal.com
END:VEVENT
BEGIN:VEVENT
DTSTART;TZID=Europe/Dublin:20260511T090000
DTEND;TZID=Europe/Dublin:20260511T150000
DTSTAMP:20260423T111544
CREATED:20260421T134804Z
LAST-MODIFIED:20260421T134804Z
UID:10001776-1778490000-1778511600@www.transportforireland.ie
SUMMARY:Rothaíocht ar Scoil
DESCRIPTION:To get as many children as possible cycling to school\nPractice skills at school\nCycle to school\nWhole school cycle (loop around the school 4.5K)
URL:https://www.transportforireland.ie/bikeweek-event/rothaiocht-ar-scoil/
LOCATION:Gaelscoil an Mhuilinn\, Ashe Road\, Mullingar\, Co. Westmeath
CATEGORIES:Community Engagement,Fun and Interactive
ORGANIZER;CN="Westmeath County Council and Sports Partnership":MAILTO:info@westmeathsports.ie
END:VEVENT
BEGIN:VEVENT
DTSTART;TZID=Europe/Dublin:20260511T090000
DTEND;TZID=Europe/Dublin:20260515T140000
DTSTAMP:20260423T111544
CREATED:20260421T134842Z
LAST-MODIFIED:20260421T134842Z
UID:10001598-1778490000-1778853600@www.transportforireland.ie
SUMMARY:Bike Week- St. Joseph's N.S Carlow
DESCRIPTION:Please note: this event is only open to primary school students at St. Joseph’s N.S Carlow.\nPrompting cycling to school\, prompting bike and road safety\, bike week workshop.\nRSA road safety workshop and seminar\, colouring competition\, practice using balancing bikes\, prizes and refreshments
URL:https://www.transportforireland.ie/bikeweek-event/bike-week-st-josephs-n-s-carlow/
LOCATION:St. Joseph’s N.S\, Hacketstown\, Co. Carlow
CATEGORIES:Awareness and Safety,Education and Training,Fun and Interactive
ATTACH;FMTTYPE=image/png:https://www.transportforireland.ie/wp-content/uploads/2026/04/Active-Carlow-Drafts-Black-2-8.png
END:VEVENT
BEGIN:VEVENT
DTSTART;TZID=Europe/Dublin:20260511T090000
DTEND;TZID=Europe/Dublin:20260515T150000
DTSTAMP:20260423T111544
CREATED:20260421T141304Z
LAST-MODIFIED:20260421T141304Z
UID:10001568-1778490000-1778857200@www.transportforireland.ie
SUMMARY:Lá Rothaíocht Timpeall Mionloch
DESCRIPTION:Week-long event: Community cycle around the village of Menlo with Gardaí\, Breakfast morning encouraging parents to cycle to school with children\, art competitions creating safety slogans for bike week\, design a bike helmet\, spin art\, bike treasure hunts and a show from Nancy the clown.
URL:https://www.transportforireland.ie/bikeweek-event/la-rothaiocht-timpeall-mionloch/
LOCATION:Scoil Bhride Mionloch
CATEGORIES:Bike Festivals and Exhibitions
END:VEVENT
BEGIN:VEVENT
DTSTART;TZID=Europe/Dublin:20260511T090000
DTEND;TZID=Europe/Dublin:20260515T150000
DTSTAMP:20260423T111544
CREATED:20260421T141321Z
LAST-MODIFIED:20260421T141321Z
UID:10001590-1778490000-1778857200@www.transportforireland.ie
SUMMARY:Bike Week - Bishop Foley N.S
DESCRIPTION:Please note: this event is only open to primary school students at Bishop Foley N.S Carlow.\nEach teacher will deliver lessons on safe cycling practices for both roads and cycle paths.\nThe children in our special class will be included in these lessons and take part in the competition with their base classes.\nThe Cycling Safety Posters will be displayed throughout our school on noticeboards.\nA selection of posters and the winning students will appear on our school Instagram account.\nWe have a large Bike Week sign that we will include in the photographs.
URL:https://www.transportforireland.ie/bikeweek-event/bike-week-bishop-foley-n-s/
LOCATION:Bishop Foley N.S\, Carlow
CATEGORIES:Awareness and Safety,Challenges and Competitions,Education and Training
ATTACH;FMTTYPE=image/png:https://www.transportforireland.ie/wp-content/uploads/2026/04/Active-Carlow-Drafts-Black-2-5.png
END:VEVENT
BEGIN:VEVENT
DTSTART;TZID=Europe/Dublin:20260511T090000
DTEND;TZID=Europe/Dublin:20260515T150000
DTSTAMP:20260423T111544
CREATED:20260421T141352Z
LAST-MODIFIED:20260421T141352Z
UID:10001758-1778490000-1778857200@www.transportforireland.ie
SUMMARY:Edmonton NS - Bike Week 2026
DESCRIPTION:To encourage students to cycle and become confident in cycling to school.\nPart 1:\nFull week long cycle festival. Children who can\, are encouraged to cycle to school for the whole week. There will be treats for those who do.\nPart 2:\nBike day: A one day event where students can bring their bike to school. There will be a course set up around the school grounds for children to cycle around the yard.\nThere will be a bike mechanic in from the local bike shop/club to instruct children on bike maintainence and repairs.\nThere will be some refreshments and treats organised for the students.”
URL:https://www.transportforireland.ie/bikeweek-event/edmonton-ns-bike-week-2026/
LOCATION:Edmonton NS\, Edmonton \, Killucan\, Westmeath
CATEGORIES:Community Engagement,Education and Training,Fun and Interactive
ORGANIZER;CN="Westmeath County Council and Sports Partnership":MAILTO:info@westmeathsports.ie
END:VEVENT
BEGIN:VEVENT
DTSTART;TZID=Europe/Dublin:20260511T090000
DTEND;TZID=Europe/Dublin:20260515T150000
DTSTAMP:20260423T111544
CREATED:20260421T141421Z
LAST-MODIFIED:20260421T141421Z
UID:10001767-1778490000-1778857200@www.transportforireland.ie
SUMMARY:St. Michael's NS - Bike week 2026
DESCRIPTION:To get the children active and back on their bikes and scooters after a long wet winter. To develop an interest and love for cycling and being active and enjoying themselves.\nCycle to school\, scoot to school\, park and cycle\, park and scoot\, learning about bikes\, annual bike competition with prizes\, poems and stories and classroom activities about bikes including bike safety in SPHE and artwork based on bikes.
URL:https://www.transportforireland.ie/bikeweek-event/st-michaels-ns-bike-week-2026/
LOCATION:St. Michael’s NS\, Castletown Geoghegan\, County Westmeath\, N91X659
CATEGORIES:Community Engagement,Education and Training,Fun and Interactive
ORGANIZER;CN="Westmeath County Council and Sports Partnership":MAILTO:info@westmeathsports.ie
END:VEVENT
BEGIN:VEVENT
DTSTART;TZID=Europe/Dublin:20260511T090000
DTEND;TZID=Europe/Dublin:20260515T150000
DTSTAMP:20260423T111544
CREATED:20260421T141435Z
LAST-MODIFIED:20260421T141435Z
UID:10001772-1778490000-1778857200@www.transportforireland.ie
SUMMARY:Whole School Community Summer Cycle
DESCRIPTION:To encourage Mums and Dads to cycle to school with their children for the summer months of May and June.\nWe will have a week of events for pupils for Bike week:\nBike Ownership Survey.\nTreasure Hunt.\nBike Week Crosswords./Crosfhocal\nBike Track Obstacle Course.\nSlow Bicycle Race.\nBike Voucher Raffle.\nGarda Visit and Bike Safety Talk.\nCycle to School with parents/guardians.\n“”Bling My Bike”” Colouring competition”
URL:https://www.transportforireland.ie/bikeweek-event/whole-school-community-summer-cycle/
LOCATION:St. Mary’s N.S.\, Raharney\, Co. Westmeath\, N91 AV61
CATEGORIES:Challenges and Competitions,Community Engagement,Education and Training,Fun and Interactive
ORGANIZER;CN="Westmeath County Council and Sports Partnership":MAILTO:info@westmeathsports.ie
END:VEVENT
BEGIN:VEVENT
DTSTART;TZID=Europe/Dublin:20260511T090000
DTEND;TZID=Europe/Dublin:20260515T150000
DTSTAMP:20260423T111544
CREATED:20260422T081642Z
LAST-MODIFIED:20260422T081642Z
UID:10001821-1778490000-1778857200@www.transportforireland.ie
SUMMARY:Primary Schools Safe Cycling Project for Bike Week
DESCRIPTION:Over the course of Bike Week all primary schools in County Longford will be invited to participate in a safe cycling project.
URL:https://www.transportforireland.ie/bikeweek-event/primary-schools-safe-cycling-project-for-bike-week/
LOCATION:Primary Schools\, Co. Longford
CATEGORIES:Awareness and Safety
ATTACH;FMTTYPE=image/png:https://www.transportforireland.ie/wp-content/uploads/2026/04/Bike-Week-Longford-10.png
END:VEVENT
BEGIN:VEVENT
DTSTART;TZID=Europe/Dublin:20260511T090000
DTEND;TZID=Europe/Dublin:20260515T160000
DTSTAMP:20260423T111544
CREATED:20260421T141742Z
LAST-MODIFIED:20260421T141742Z
UID:10001569-1778490000-1778860800@www.transportforireland.ie
SUMMARY:Bike Week 2026 – Scoil Chatríona Senior
DESCRIPTION:Cycle to School Day\, Road and cycle safety workshops provided by RSA. Design a bike activity\, Design a promotional poster for Bike week
URL:https://www.transportforireland.ie/bikeweek-event/bike-week-2026-scoil-chatriona-senior/
LOCATION:Scoil Chaitríona Senior\, Galway
CATEGORIES:Bike Festivals and Exhibitions,Fun and Interactive,Workshops and Maintenance
END:VEVENT
BEGIN:VEVENT
DTSTART;TZID=Europe/Dublin:20260511T090000
DTEND;TZID=Europe/Dublin:20260515T160000
DTSTAMP:20260423T111544
CREATED:20260422T081703Z
LAST-MODIFIED:20260422T081703Z
UID:10001936-1778490000-1778860800@www.transportforireland.ie
SUMMARY:Bike Week 2026 – Scoil Chatríona Senior
DESCRIPTION:Cycle to School Day\, Road and cycle safety workshops provided by RSA. Design a bike activity\, Design a promotional poster for Bike week
URL:https://www.transportforireland.ie/bikeweek-event/bike-week-2026-scoil-chatriona-senior-2/
LOCATION:Scoil Chaitríona Senior\, Galway
CATEGORIES:Bike Festivals and Exhibitions,Fun and Interactive,Workshops and Maintenance
END:VEVENT
BEGIN:VEVENT
DTSTART;TZID=Europe/Dublin:20260511T092000
DTEND;TZID=Europe/Dublin:20260515T150000
DTSTAMP:20260423T111544
CREATED:20260421T141713Z
LAST-MODIFIED:20260421T141713Z
UID:10001581-1778491200-1778857200@www.transportforireland.ie
SUMMARY:Bike Week - Clonegal N.S
DESCRIPTION:Please Note: this event is only open to primary school students at Clonegal N.S\nA week-long set of activities covering Bike Safety and different class events. Our aim is to get children pedalling more and to increase awareness of the benefits of cycling.\nDuring Bike week each class will have a day to cycle to school.\nA Bike safety workshop delivered by a member of the Garda.\nBike Maintenance workshop\nDesign your own bike workshop with Greens School Ireland.
URL:https://www.transportforireland.ie/bikeweek-event/bike-week-clonegal-n-s/
LOCATION:Clonegal N.S\, Clonegal\, Co. Carlow
CATEGORIES:Access and Inclusion,Awareness and Safety,Challenges and Competitions,Education and Training,Fun and Interactive,Workshops and Maintenance
ATTACH;FMTTYPE=image/png:https://www.transportforireland.ie/wp-content/uploads/2026/04/Active-Carlow-Drafts-Black-2-1.png
END:VEVENT
BEGIN:VEVENT
DTSTART;TZID=Europe/Dublin:20260511T093000
DTEND;TZID=Europe/Dublin:20260511T120000
DTSTAMP:20260423T111544
CREATED:20260421T142339Z
LAST-MODIFIED:20260421T142339Z
UID:10001721-1778491800-1778500800@www.transportforireland.ie
SUMMARY:Secondary Schools Royal Canal Greenway Cycle
DESCRIPTION:Our secondary school Royal Canal Greenway cycles take place right throughout bike week. School groups will get the opportunity to cycle along a scenic stretch of the Royal Canal Greenway in Longford. Each cycle will be guided by experienced cycling tutors. Safe cycling practice will be incorporated in to each cycle.
URL:https://www.transportforireland.ie/bikeweek-event/secondary-schools-royal-canal-greenway-cycle-4/
LOCATION:Royal Canal Greenway\, Ballymahon\, Co. Longford\, N39 YE68
CATEGORIES:Awareness and Safety,Education and Training,Leisure and Recreational
ATTACH;FMTTYPE=image/png:https://www.transportforireland.ie/wp-content/uploads/2026/04/Bike-Week-Longford.png
END:VEVENT
BEGIN:VEVENT
DTSTART;TZID=Europe/Dublin:20260511T093000
DTEND;TZID=Europe/Dublin:20260511T123000
DTSTAMP:20260423T111544
CREATED:20260422T081722Z
LAST-MODIFIED:20260422T081722Z
UID:10001942-1778491800-1778502600@www.transportforireland.ie
SUMMARY:Bike Safety Workshop St Francis NS
DESCRIPTION:We delivered this programme to teach the children about the road safety through bike skills while cycling to school and the importance of wearing a helmet and checking your bike before cycling.
URL:https://www.transportforireland.ie/bikeweek-event/bike-safety-workshop-st-francis-ns/
LOCATION:St Francis NS\, Blackrock\, Louth\, na
CATEGORIES:Awareness and Safety,Workshops and Maintenance
ATTACH;FMTTYPE=image/png:https://www.transportforireland.ie/wp-content/uploads/2026/04/Bike-week-poster-1-4.png
END:VEVENT
BEGIN:VEVENT
DTSTART;TZID=Europe/Dublin:20260511T093000
DTEND;TZID=Europe/Dublin:20260511T130000
DTSTAMP:20260423T111544
CREATED:20260421T142540Z
LAST-MODIFIED:20260421T142540Z
UID:10001476-1778491800-1778504400@www.transportforireland.ie
SUMMARY:Headford Women's Cycling Club - Picnic on the Pier Spin
DESCRIPTION:A gentle social spin to Kilbeg pier and back to Headford\, followed by refreshments or a picnic on the pier.
URL:https://www.transportforireland.ie/bikeweek-event/headford-womens-cycling-club-picnic-on-the-pier-spin/
LOCATION:Headford\, Headford Co Galway\, Galway\, H91
CATEGORIES:Community Engagement,Fun and Interactive,Leisure and Recreational
END:VEVENT
BEGIN:VEVENT
DTSTART;TZID=Europe/Dublin:20260511T093000
DTEND;TZID=Europe/Dublin:20260511T143000
DTSTAMP:20260423T111544
CREATED:20260421T142600Z
LAST-MODIFIED:20260421T142600Z
UID:10001596-1778491800-1778509800@www.transportforireland.ie
SUMMARY:Bike Safety\, Bike Maintenance & Bike Skills
DESCRIPTION:Please note: this event is only open to primary school students at St. Columba’s N.S.\nBike Safety\, Bike Skills and Bike Maintenance\, Competitions & Refreshments
URL:https://www.transportforireland.ie/bikeweek-event/bike-safety-bike-maintenance-bike-skills/
LOCATION:St. Columba’s N.S\, Tullow Co. Carlow
CATEGORIES:Awareness and Safety,Education and Training,Workshops and Maintenance
ATTACH;FMTTYPE=image/png:https://www.transportforireland.ie/wp-content/uploads/2026/04/Active-Carlow-Drafts-Black-2-7.png
END:VEVENT
BEGIN:VEVENT
DTSTART;TZID=Europe/Dublin:20260511T093000
DTEND;TZID=Europe/Dublin:20260511T150000
DTSTAMP:20260423T111544
CREATED:20260421T142619Z
LAST-MODIFIED:20260421T142619Z
UID:10001482-1778491800-1778511600@www.transportforireland.ie
SUMMARY:Safe fun on our bikes - Private School Event
DESCRIPTION:PRIVATE SCHOOL EVENT \nWe will host events for all the children in the school including:\nInfant cycle ramp course.\nFirst &second cycle Smith O Briens\n3rd & 4th cycle Clarisford.\n5th & 6th cycle in Ballyhoura.
URL:https://www.transportforireland.ie/bikeweek-event/safe-fun-on-our-bikes-private-school-event/
LOCATION:Killaloe Boys NS\, Clare
CATEGORIES:Fun and Interactive
END:VEVENT
BEGIN:VEVENT
DTSTART;TZID=Europe/Dublin:20260511T093000
DTEND;TZID=Europe/Dublin:20260511T170000
DTSTAMP:20260423T111544
CREATED:20260417T104525Z
LAST-MODIFIED:20260421T144035Z
UID:10001472-1778491800-1778518800@www.transportforireland.ie
SUMMARY:Bicycle Checks and Maitanance Workshops
DESCRIPTION:Meitheal will come into the school and do bike checks on all bikes and have the older children do a workshop during this time so they are able to look after their own bikes.  Parents of children who cycle to school and wish to cycle to school will be invited to join also.
URL:https://www.transportforireland.ie/bikeweek-event/bicycle-checks-and-maintenance-workshops/
LOCATION:Gaelscoil Riada\, Athenry\, Co. Galway.
CATEGORIES:Awareness and Safety,Education and Training,Workshops and Maintenance
END:VEVENT
BEGIN:VEVENT
DTSTART;TZID=Europe/Dublin:20260511T093000
DTEND;TZID=Europe/Dublin:20260514T123000
DTSTAMP:20260423T111544
CREATED:20260421T142656Z
LAST-MODIFIED:20260421T142656Z
UID:10001616-1778491800-1778761800@www.transportforireland.ie
SUMMARY:Bike Week 2026- Our Lady's N.S
DESCRIPTION:Please note: this event is only open to primary school students at Our Lady’s N.S Nurney\, Co. Carlow.\nLearning to Cycle and Cycling Safely lessons
URL:https://www.transportforireland.ie/bikeweek-event/bike-week-2026-our-ladys-n-s/
LOCATION:Our Lady’s N.S\, Nurney\, Co. Carlow
CATEGORIES:Awareness and Safety,Education and Training,Fun and Interactive
ATTACH;FMTTYPE=image/png:https://www.transportforireland.ie/wp-content/uploads/2026/04/Active-Carlow-Drafts-Black-2-11.png
END:VEVENT
BEGIN:VEVENT
DTSTART;TZID=Europe/Dublin:20260511T093000
DTEND;TZID=Europe/Dublin:20260515T123000
DTSTAMP:20260423T111544
CREATED:20260421T132340Z
LAST-MODIFIED:20260421T132340Z
UID:10001652-1778491800-1778848200@www.transportforireland.ie
SUMMARY:Bike Week 2026 - Carlow National School
DESCRIPTION:Please note: this event is only open to primary school students at Carlow National School.\nBike Maintenance Workshop\nFull skills and obstacle courses\nCycle Safety Workshop
URL:https://www.transportforireland.ie/bikeweek-event/bike-week-2026-carlow-national-school/
LOCATION:Carlow National School\, Green Road\, Carlow
CATEGORIES:Awareness and Safety,Bike Festivals and Exhibitions,Education and Training
ATTACH;FMTTYPE=image/png:https://www.transportforireland.ie/wp-content/uploads/2026/04/Active-Carlow-Drafts-Black-2-21.png
END:VEVENT
BEGIN:VEVENT
DTSTART;TZID=Europe/Dublin:20260511T093000
DTEND;TZID=Europe/Dublin:20260515T143000
DTSTAMP:20260423T111544
CREATED:20260421T142712Z
LAST-MODIFIED:20260421T142712Z
UID:10001571-1778491800-1778855400@www.transportforireland.ie
SUMMARY:Move It Bike it/ St. Joseph’s Special School
DESCRIPTION:Bike Week maintenance workshop\, Fun cycle\, colouring competition\, treasure hunt\, all wheels count event and circus bike display.
URL:https://www.transportforireland.ie/bikeweek-event/move-it-bike-it-st-josephs-special-school/
LOCATION:St Joseph’s Special School
CATEGORIES:Bike Festivals and Exhibitions
END:VEVENT
BEGIN:VEVENT
DTSTART;TZID=Europe/Dublin:20260511T100000
DTEND;TZID=Europe/Dublin:20260511T120000
DTSTAMP:20260423T111544
CREATED:20260409T154026Z
LAST-MODIFIED:20260409T154026Z
UID:10001422-1778493600-1778500800@www.transportforireland.ie
SUMMARY:Active Older Adults Cycle Programme
DESCRIPTION:A 6 week Cycling Programme for over 50yr Active Adults
URL:https://www.transportforireland.ie/bikeweek-event/active-older-adults-cycle-programme/
LOCATION:Killykeen Forest Park\, Cavan\, Co Cavan\, H16 HC83\, Ireland
CATEGORIES:Leisure and Recreational
END:VEVENT
END:VCALENDAR