BEGIN:VCALENDAR
VERSION:2.0
PRODID:-//Transport for Ireland - ECPv6.15.20//NONSGML v1.0//EN
CALSCALE:GREGORIAN
METHOD:PUBLISH
X-ORIGINAL-URL:https://www.transportforireland.ie
X-WR-CALDESC:Events for Transport for Ireland
REFRESH-INTERVAL;VALUE=DURATION:PT1H
X-Robots-Tag:noindex
X-PUBLISHED-TTL:PT1H
BEGIN:VTIMEZONE
TZID:Europe/Dublin
BEGIN:STANDARD
TZOFFSETFROM:+0000
TZOFFSETTO:+0100
TZNAME:IST
DTSTART:20250330T010000
END:STANDARD
BEGIN:DAYLIGHT
TZOFFSETFROM:+0100
TZOFFSETTO:+0000
TZNAME:GMT
DTSTART:20251026T010000
END:DAYLIGHT
BEGIN:STANDARD
TZOFFSETFROM:+0000
TZOFFSETTO:+0100
TZNAME:IST
DTSTART:20260329T010000
END:STANDARD
BEGIN:DAYLIGHT
TZOFFSETFROM:+0100
TZOFFSETTO:+0000
TZNAME:GMT
DTSTART:20261025T010000
END:DAYLIGHT
BEGIN:STANDARD
TZOFFSETFROM:+0000
TZOFFSETTO:+0100
TZNAME:IST
DTSTART:20270328T010000
END:STANDARD
BEGIN:DAYLIGHT
TZOFFSETFROM:+0100
TZOFFSETTO:+0000
TZNAME:GMT
DTSTART:20271031T010000
END:DAYLIGHT
END:VTIMEZONE
BEGIN:VEVENT
DTSTART;TZID=Europe/Dublin:20260513T190000
DTEND;TZID=Europe/Dublin:20260513T203000
DTSTAMP:20260421T000242
CREATED:20260420T115956Z
LAST-MODIFIED:20260420T115956Z
UID:10001798-1778698800-1778704200@www.transportforireland.ie
SUMMARY:Drogheda Bike Maintenance / Nutrition Evening
DESCRIPTION:Drogheda Wheelers is happy to host a bike maintenance / nutrition evening providing insights on how to look after your bike and how to fuel for cycles.
URL:https://www.transportforireland.ie/bikeweek-event/drogheda-bike-maintenance-nutrition-evening/
LOCATION:The Thatch Bar\, Donore Rd\, Drogheda\, Drogheda
CATEGORIES:Awareness and Safety,Workshops and Maintenance
END:VEVENT
BEGIN:VEVENT
DTSTART;TZID=Europe/Dublin:20260513T190000
DTEND;TZID=Europe/Dublin:20260513T210000
DTSTAMP:20260421T000242
CREATED:20260409T141443Z
LAST-MODIFIED:20260409T141443Z
UID:10001418-1778698800-1778706000@www.transportforireland.ie
SUMMARY:Bike Maintenance Workshop
DESCRIPTION:A hands on Bike Maintenance Workshop for Kids on how to care for and maintain their bikes.
URL:https://www.transportforireland.ie/bikeweek-event/bike-maintenance-workshop/
LOCATION:Cavan Cycle Hub\, Drumalee\, Cavan\, Drumalle\, Co Cavan\, H16 NY32\, Ireland
CATEGORIES:Education and Training
END:VEVENT
BEGIN:VEVENT
DTSTART;TZID=Europe/Dublin:20260513T190000
DTEND;TZID=Europe/Dublin:20260513T210000
DTSTAMP:20260421T000242
CREATED:20260413T085221Z
LAST-MODIFIED:20260413T085221Z
UID:10001445-1778698800-1778706000@www.transportforireland.ie
SUMMARY:Ladies Only\, Strawberry and Cream Tour
DESCRIPTION:Cycle will start from The Lagoon Termon at 7.00\, 40km of cycle on a flat course\, with a nice break for strawberries & cream at the midway point. It will finish at The Lagoon Termon again with Tea and sandwiches for all participants.\nReally enjoyable cycle for women at a controlled pace\, and suitable for all abilities.
URL:https://www.transportforireland.ie/bikeweek-event/ladies-only-strawberry-and-cream-tour/
LOCATION:The Lagoon Termon\, The Lagoon Termon\, Co.Donegal\, Donegal\, F92R9KK
CATEGORIES:Leisure and Recreational
ORGANIZER;CN="Donegal County Council and Sports Partnership":MAILTO:@activedonegal.com
END:VEVENT
BEGIN:VEVENT
DTSTART;TZID=Europe/Dublin:20260513T190000
DTEND;TZID=Europe/Dublin:20260513T210000
DTSTAMP:20260421T000242
CREATED:20260417T092717Z
LAST-MODIFIED:20260417T092717Z
UID:10001628-1778698800-1778706000@www.transportforireland.ie
SUMMARY:Castletroy Cruise Cycle
DESCRIPTION:Get to Know Your Cycle Lanes \nAs part of Bike Week Limerick\, join the Castletroy Cruise\, a guided group cycle designed to help people get to know the cycle lanes and local routes in the Castletroy area\, and how they connect into the wider city network. Did you know there are over 115 km of cycle lanes across Limerick?\nThis is a relaxed and inclusive group ride\, led by experienced bike leaders and using cycle lanes as much as possible. The route is flat and loop based\, with short loops of up to 5km\, giving participants the choice to cycle as much or as little as they like. If you’re comfortable completing all of the loops\, the full distance is up to 16km.\nThe Castletroy Cruise is suitable for all ages and abilities and is about building confidence for everyday cycling.\nChildren must be accompanied by an adult. \nMeeting point: Castletroy Park\nStart and finish: Castletroy Park\nDuration: Approx. 2 hours
URL:https://www.transportforireland.ie/bikeweek-event/castletroy-cruise-cycle/
LOCATION:Castletroy Park\, 52.662299\, -8.539641
CATEGORIES:Awareness and Safety,Community Engagement,Leisure and Recreational
ATTACH;FMTTYPE=image/jpeg:https://www.transportforireland.ie/wp-content/uploads/2026/04/Castletroy-Cruise-Limerick-City-Bike-Week-Cycle-routes-2026.jpg
END:VEVENT
BEGIN:VEVENT
DTSTART;TZID=Europe/Dublin:20260513T190000
DTEND;TZID=Europe/Dublin:20260513T210000
DTSTAMP:20260421T000242
CREATED:20260417T094622Z
LAST-MODIFIED:20260417T094622Z
UID:10001447-1778698800-1778706000@www.transportforireland.ie
SUMMARY:Dublin to Drimarone Cycle Launch
DESCRIPTION:Join us on May 13th at 7:00pm for an enjoyable cycle departing from the Bluestack Centre\, taking in a scenic route around Lettertreane. After the ride\, stay for an engaging talk by John Grant on bicycle repairs\, followed by refreshments in a relaxed and friendly atmosphere
URL:https://www.transportforireland.ie/bikeweek-event/dublin-to-drimarone-cycle-launch/
LOCATION:Bluestack Centre\, Drimarone\, Donegal
CATEGORIES:Leisure and Recreational
ORGANIZER;CN="Donegal County Council and Sports Partnership":MAILTO:@activedonegal.com
END:VEVENT
BEGIN:VEVENT
DTSTART;TZID=Europe/Dublin:20260513T194500
DTEND;TZID=Europe/Dublin:20260513T210000
DTSTAMP:20260421T000242
CREATED:20260408T080222Z
LAST-MODIFIED:20260408T080222Z
UID:10001390-1778701500-1778706000@www.transportforireland.ie
SUMMARY:Sunset Cycle
DESCRIPTION:A 5km traffic-free\, family-friendly event with bike DJ in the Phoenix Park as the sun sets. Register now for a chilled summer evening! \nJoin Dublin City Council and Fingal County Council to celebrate Bike Week in the beautiful Phoenix Park for our Sunset Cycle. This is a traffic-free and family-friendly 5km in the park complete with bike DJ\, iBIKE Dublin\, making it a perfect way to spend a chilled evening with your family or friends. \nThis is a free event.
URL:https://www.transportforireland.ie/bikeweek-event/sunset-cycle-4/
LOCATION:Phoenix Park\, Phoenix Monument\, Phoenix Roundabout\, Dublin\, NA
CATEGORIES:Leisure and Recreational
ATTACH;FMTTYPE=image/jpeg:https://www.transportforireland.ie/wp-content/uploads/2026/04/phoenix_park_sunset_resized.jpg
END:VEVENT
BEGIN:VEVENT
DTSTART;TZID=Europe/Dublin:20260513T194500
DTEND;TZID=Europe/Dublin:20260513T210000
DTSTAMP:20260421T000242
CREATED:20260409T133540Z
LAST-MODIFIED:20260409T133540Z
UID:10001398-1778701500-1778706000@www.transportforireland.ie
SUMMARY:The Sunset Cycle
DESCRIPTION:On Wednesday 13th May\, we’ll be taking over the Phoenix Park for our Sunset Cycle\, ibike Dublin will be providing the tunes so grab your bike and come join us for a chilled 5km. Cycle around Dublin’s most iconic park. The meeting point is the Phoenix Monument on Chesterfield Avenue. The event is free but let us know you’re coming by signing up at https://www.eventbrite.ie/e/sunset-cycle-tickets-1986533835177
URL:https://www.transportforireland.ie/bikeweek-event/the-sunset-cycle-2/
LOCATION:the Phoenix Monument\, the Phoenix Monument on Chesterfield Avenue\, Dublin
CATEGORIES:Fun and Interactive
ATTACH;FMTTYPE=image/jpeg:https://www.transportforireland.ie/wp-content/uploads/2026/04/The-Sunset-Cycle-scaled.jpg
END:VEVENT
BEGIN:VEVENT
DTSTART;VALUE=DATE:20260514
DTEND;VALUE=DATE:20260515
DTSTAMP:20260421T000242
CREATED:20260417T113705Z
LAST-MODIFIED:20260417T113705Z
UID:10001555-1778716800-1778803199@www.transportforireland.ie
SUMMARY:Get on your Bike with No. 4/ Bike Repair Workshop
DESCRIPTION:Bike workshop facilitated by Meitheal Rothar – young people will have the opportunity to learn to maintain/ up-keep a bike and learn about bike safety.
URL:https://www.transportforireland.ie/bikeweek-event/get-on-your-bike-with-no-4-bike-repair-workshop/
LOCATION:No.4 Youth Service\, 4 St Augustine St\, Galway\, H91 H992
CATEGORIES:Workshops and Maintenance
END:VEVENT
BEGIN:VEVENT
DTSTART;TZID=Europe/Dublin:20260514T080000
DTEND;TZID=Europe/Dublin:20260514T170000
DTSTAMP:20260421T000242
CREATED:20260420T152732Z
LAST-MODIFIED:20260420T152732Z
UID:10001863-1778745600-1778778000@www.transportforireland.ie
SUMMARY:Family Cycle Bus
DESCRIPTION:A Bike Week community event bringing together pupils and their families to enjoy a group cycle in a fun and supportive atmosphere. In the days leading up to the event\, a bike technician will visit to service and check bikes\, ensuring everyone is ready to ride safely. \nOn the day\, participants will gather at a local park before setting off on a guided cycle led by the Gardaí along a planned route. The event will finish with a social gathering in the school hall\, where refreshments and raffle prizes will round off a great day for the whole community.
URL:https://www.transportforireland.ie/bikeweek-event/family-cycle-bus/
LOCATION:Holy Family NS\, Ballyshannon\, Donegal
CATEGORIES:Community Engagement
ORGANIZER;CN="Donegal County Council and Sports Partnership":MAILTO:@activedonegal.com
END:VEVENT
BEGIN:VEVENT
DTSTART;TZID=Europe/Dublin:20260514T090000
DTEND;TZID=Europe/Dublin:20260514T143000
DTSTAMP:20260421T000242
CREATED:20260420T115850Z
LAST-MODIFIED:20260420T115850Z
UID:10001750-1778749200-1778769000@www.transportforireland.ie
SUMMARY:Dalystown Bike to School Day
DESCRIPTION:To encourage pupils to cycle in a safe manner\, while improving their cycling skills.\nEvents will take place on the grounds of our school. Events will include a cycling obstacle course\, a slow cycle race and a talk on Cycle Safety and bicycle repair.
URL:https://www.transportforireland.ie/bikeweek-event/dalystown-bike-to-school-day/
LOCATION:Dalystown National School\, Dalystown Mullingar County Westmeath
CATEGORIES:Community Engagement,Education and Training,Fun and Interactive
ORGANIZER;CN="Westmeath County Council and Sports Partnership":MAILTO:info@westmeathsports.ie
END:VEVENT
BEGIN:VEVENT
DTSTART;TZID=Europe/Dublin:20260514T090000
DTEND;TZID=Europe/Dublin:20260514T150000
DTSTAMP:20260421T000242
CREATED:20260413T085202Z
LAST-MODIFIED:20260413T085202Z
UID:10001436-1778749200-1778770800@www.transportforireland.ie
SUMMARY:Daingean National School
DESCRIPTION:School cycle day for pupils along the Grand Canal Greenway
URL:https://www.transportforireland.ie/bikeweek-event/daingean-national-school/
LOCATION:Grand Canal Greenway\, Daingean
CATEGORIES:Leisure and Recreational
END:VEVENT
BEGIN:VEVENT
DTSTART;TZID=Europe/Dublin:20260514T100000
DTEND;TZID=Europe/Dublin:20260514T130000
DTSTAMP:20260421T000242
CREATED:20260409T141436Z
LAST-MODIFIED:20260409T141436Z
UID:10001401-1778752800-1778763600@www.transportforireland.ie
SUMMARY:Schools Visit
DESCRIPTION:Each year we take a cycling roadshow to the local senior school TY students\, with 2 bikes from opposite ends of the spectrum\, interactive quizzes and competitions\, a Q&A session and the now famous CO2 inflator and saddle height demos.
URL:https://www.transportforireland.ie/bikeweek-event/schools-visit/
LOCATION:St. Columba’s Comprehensive School\, Glenties\, Donegal
CATEGORIES:Awareness and Safety,Bike Festivals and Exhibitions,Challenges and Competitions,Community Engagement
ATTACH;FMTTYPE=image/jpeg:https://www.transportforireland.ie/wp-content/uploads/2026/04/FB_IMG_1775715268554.jpg
ORGANIZER;CN="Donegal County Council and Sports Partnership":MAILTO:@activedonegal.com
END:VEVENT
BEGIN:VEVENT
DTSTART;TZID=Europe/Dublin:20260514T100000
DTEND;TZID=Europe/Dublin:20260514T130000
DTSTAMP:20260421T000242
CREATED:20260420T113337Z
LAST-MODIFIED:20260420T113337Z
UID:10001791-1778752800-1778763600@www.transportforireland.ie
SUMMARY:Curragh Family Resource Centre Bike Repair Workshop
DESCRIPTION:Join us for a Bicycle Repair Workshop at the Curragh Family Resource Centre\, open to cyclists of all ages. \nBikes will receive a basic safety check\, with simple brake and gear adjustments where needed. Participants will also get practical advice on any additional repairs that may be required to keep bikes safe and road ready. Please note\, that this is not a full bike service\, but a helpful community session focused on safety and confidence for everyday cycling. \nBooking is essential so to secure a place please call 045 456883 \nSo come along to a relaxed and supportive bike week event to help keep everyone cycling safely in our community.
URL:https://www.transportforireland.ie/bikeweek-event/curragh-family-resource-centre-bike-repair-workshop/
LOCATION:Curragh Family Resource Centre\, Curragh Camp\, Kildare\, R56 EH93
CATEGORIES:Community Engagement,Fun and Interactive,Workshops and Maintenance
ATTACH;FMTTYPE=image/png:https://www.transportforireland.ie/wp-content/uploads/2026/04/Curragh-Family-Resource-Centre-Event-1.png
END:VEVENT
BEGIN:VEVENT
DTSTART;TZID=Europe/Dublin:20260514T100000
DTEND;TZID=Europe/Dublin:20260514T130000
DTSTAMP:20260421T000242
CREATED:20260420T114757Z
LAST-MODIFIED:20260420T114757Z
UID:10001764-1778752800-1778763600@www.transportforireland.ie
SUMMARY:Cycle to Succeed
DESCRIPTION:To encourage more pupils who live within 3km radius to cycle to school\nWe will start at the railway track on the greenway in Moate. Class will cycle to Garrycastle in different pace groups\, supported by class teachers.
URL:https://www.transportforireland.ie/bikeweek-event/cycle-to-succeed/
LOCATION:Moate Greenway\, St. Oliver Plunkett BNS\, Lake Rd\, Moate\, Co. Westmeath N37E303
CATEGORIES:Community Engagement,Education and Training,Fun and Interactive
ORGANIZER;CN="Westmeath County Council and Sports Partnership":MAILTO:info@westmeathsports.ie
END:VEVENT
BEGIN:VEVENT
DTSTART;TZID=Europe/Dublin:20260514T100000
DTEND;TZID=Europe/Dublin:20260514T170000
DTSTAMP:20260421T000242
CREATED:20260417T113241Z
LAST-MODIFIED:20260417T113241Z
UID:10001498-1778752800-1778778000@www.transportforireland.ie
SUMMARY:Five Ways to Wellbeing - On the Move
DESCRIPTION:Cara House will take 10 people out to Glenveagh National Park and rent bikes from Grass Roots Bikes (electric and hybrid). We will cycle up to the Castle and have some refreshments while listening to a talk on wellbeing\, before returning down to the car park and get the bus back to Cara House.
URL:https://www.transportforireland.ie/bikeweek-event/five-ways-to-wellbeing-on-the-move-2/
LOCATION:Glenveagh National Park
CATEGORIES:Leisure and Recreational
ORGANIZER;CN="Donegal County Council and Sports Partnership":MAILTO:@activedonegal.com
END:VEVENT
BEGIN:VEVENT
DTSTART;TZID=Europe/Dublin:20260514T110000
DTEND;TZID=Europe/Dublin:20260514T160000
DTSTAMP:20260421T000242
CREATED:20260417T104644Z
LAST-MODIFIED:20260417T104644Z
UID:10001470-1778756400-1778774400@www.transportforireland.ie
SUMMARY:Five Ways to Wellbeing - on the move.
DESCRIPTION:Cara House will take 10 people out to Glenveagh National Park and rent bikes from Grass Roots Bikes (electric and hybrid). We will cycle up to the Castle and have some refreshments while listening to a talk on wellbeing\, before returning down to the car park and get the bus back to Cara House.
URL:https://www.transportforireland.ie/bikeweek-event/five-ways-to-wellbeing-on-the-move/
LOCATION:Glenveagh National Park
CATEGORIES:Leisure and Recreational
ORGANIZER;CN="Donegal County Council and Sports Partnership":MAILTO:@activedonegal.com
END:VEVENT
BEGIN:VEVENT
DTSTART;TZID=Europe/Dublin:20260514T140000
DTEND;TZID=Europe/Dublin:20260514T160000
DTSTAMP:20260421T000242
CREATED:20260417T091722Z
LAST-MODIFIED:20260417T091722Z
UID:10001538-1778767200-1778774400@www.transportforireland.ie
SUMMARY:Burrito and Bikes – Greenway Spin to Mogeely
DESCRIPTION:Start your Bike Week the right way—with a tasty burrito and a scenic spin! Burrito & Bites invites you to kick things off at the Nachos Restaurant before heading out on a guided cycle along the Midleton–Youghal Greenway to Mogeely and back (approx. 16km return).
URL:https://www.transportforireland.ie/bikeweek-event/burrito-and-bikes-greenway-spin-to-mogeely/
LOCATION:Nachos Restaurant\, P25 EY23\, Nachos Restaurant\, P25 EY23\, P25 EY23
CATEGORIES:Leisure and Recreational
ATTACH;FMTTYPE=image/png:https://www.transportforireland.ie/wp-content/uploads/2026/04/Bike-Week-Image-24.png
END:VEVENT
BEGIN:VEVENT
DTSTART;TZID=Europe/Dublin:20260514T160000
DTEND;TZID=Europe/Dublin:20260514T190000
DTSTAMP:20260421T000242
CREATED:20260420T154313Z
LAST-MODIFIED:20260420T154313Z
UID:10001908-1778774400-1778785200@www.transportforireland.ie
SUMMARY:Wicklow Town Bike Week Festival
DESCRIPTION:Wicklow Sports & Recreation Partnership invites you to join us for an exciting evening of cycling-themed activities at the Wicklow Town Bike Week Festival on Thursday\, May 14. Taking place in the Murrough Carpark from 4pm to 7pm\, the event is free and open to all ages and abilities. Whether you’re an avid cyclist\, just learning to ride\, or simply looking for a fun and active evening with the family\, this festival has something for everyone. \nWhat’s On: \nStreet Velodrome\nExperience the thrill of Ireland’s only pop-up velodrome. Bikes and helmets are provided – just turn up and give it a go. Suitable for all ages.\nLearn to Cycle Taster Session\nA supportive space for beginners and those looking to build their confidence on two wheels.\nSpin Cycle Sessions\nJoin one of our two 30-minute outdoor spin classes\, designed to get your heart pumping and energy levels up.\nBike Maintenance Workshop\nDrop in for expert tips and advice from the team at the Sports Room. Bring your own bike for a free check-up and learn how to keep it in top condition.\nFamily-Friendly Entertainment Throughout the Event:\nFace painting\nUnicycle street performer\nBalance bike course for young children\nThis event is part of Bike Week 2026\, a national celebration of cycling. It’s a great opportunity to get outdoors\, try something new\, and connect with your community in a fun and active way.
URL:https://www.transportforireland.ie/bikeweek-event/wicklow-town-bike-week-festival-2/
LOCATION:Murrough Carpark\, https://wicklowlsp.ie/\, Wicklow Town\, Ireland
CATEGORIES:Bike Festivals and Exhibitions
ATTACH;FMTTYPE=image/png:https://www.transportforireland.ie/wp-content/uploads/2026/04/festival-3.png
ORGANIZER;CN="Wicklow County Council and Sports Partnership":MAILTO:wicklowlsp@wicklowcoco.ie
END:VEVENT
BEGIN:VEVENT
DTSTART;TZID=Europe/Dublin:20260514T170000
DTEND;TZID=Europe/Dublin:20260514T183000
DTSTAMP:20260421T000242
CREATED:20260416T144456Z
LAST-MODIFIED:20260416T144803Z
UID:10001683-1778778000-1778783400@www.transportforireland.ie
SUMMARY:Bike Accessary Giveaway (Dundrum Luas)
DESCRIPTION:Members of the Dublin Cycling Campaign and Dún Laoghaire-Rathdown County Council will be giving away free bike accessories to lucky commuters.
URL:https://www.transportforireland.ie/bikeweek-event/bike-accessary-giveaway-dundrum-luas/
LOCATION:Dundrum Luas
CATEGORIES:Awareness and Safety
END:VEVENT
BEGIN:VEVENT
DTSTART;TZID=Europe/Dublin:20260514T180000
DTEND;TZID=Europe/Dublin:20260514T200000
DTSTAMP:20260421T000242
CREATED:20260409T141249Z
LAST-MODIFIED:20260409T141249Z
UID:10001410-1778781600-1778788800@www.transportforireland.ie
SUMMARY:Donegal Bay Club League Race
DESCRIPTION:A round of our club racing league will take place this evening\, featuring a 10-mile time trial starting from Biddys of Barnes. This event regularly attracts strong participation from cyclists across surrounding clubs and promises a competitive and enjoyable evening of racing.
URL:https://www.transportforireland.ie/bikeweek-event/donegal-bay-club-league-race/
LOCATION:Biddys of Barnes\, Barnesmore Gap Barnesmore\,\, Donegal\, F94 HP22
CATEGORIES:Challenges and Competitions
ORGANIZER;CN="Donegal County Council and Sports Partnership":MAILTO:@activedonegal.com
END:VEVENT
BEGIN:VEVENT
DTSTART;TZID=Europe/Dublin:20260514T180000
DTEND;TZID=Europe/Dublin:20260514T200000
DTSTAMP:20260421T000242
CREATED:20260417T090149Z
LAST-MODIFIED:20260417T090149Z
UID:10001603-1778781600-1778788800@www.transportforireland.ie
SUMMARY:Bike Week: Classic Film Screening for Adults
DESCRIPTION:To celebrate the art of biking for Bike Week\, Leixlip Library will be screening The Flying Scotsman. \nGraeme Obree\, a bike shop owner facing financial difficulties\, embarks on a remarkable quest for glory in the world of competitive cycling. Driven by a fierce determination and supported by his family\, he designs and builds his own unique bicycle\, nicknamed “Old Faithful.” His journey is a compelling blend of personal triumph and perseverance\, as he battles mental health challenges and strives to overcome significant obstacles to achieve his dream of cycling success. \nWhether you’re a regular cyclist\, thinking of getting back on the bike\, or just enjoy a good story\, this screening is a great way to mark Bike Week and be inspired. \nBooking not required\, drop-in.
URL:https://www.transportforireland.ie/bikeweek-event/bike-week-classic-film-screening-for-adults/
LOCATION:Leixlip Library\, Captain's Hill\,Leixlip\, W23 WR96
CATEGORIES:Awareness and Safety,Challenges and Competitions,Community Engagement,Leisure and Recreational
ATTACH;FMTTYPE=image/jpeg:https://www.transportforireland.ie/wp-content/uploads/2026/04/Leixlip-Library-Event.jpeg
END:VEVENT
BEGIN:VEVENT
DTSTART;TZID=Europe/Dublin:20260514T180000
DTEND;TZID=Europe/Dublin:20260514T201500
DTSTAMP:20260421T000242
CREATED:20260409T141227Z
LAST-MODIFIED:20260409T141227Z
UID:10001420-1778781600-1778789700@www.transportforireland.ie
SUMMARY:Teenage Pump Track sessions
DESCRIPTION:Cycle Pump Track is a loop and consists of berms and rollers. Berms are the corners on the track & Rollers are the bumps. The “pump” part is the pushing-down and pulling up action performed by riders on the track. Pump tracks are designed so they can be ridden completely without pedalling. Pump tracks are great fun & helps improve bike skills.
URL:https://www.transportforireland.ie/bikeweek-event/teenage-pump-track-sessions/
LOCATION:Tanagh Outdoor Education and Training Centre\, Dartrey via Cootehill\, Co Monaghan\, H16 HC83
CATEGORIES:Challenges and Competitions
END:VEVENT
BEGIN:VEVENT
DTSTART;TZID=Europe/Dublin:20260514T183000
DTEND;TZID=Europe/Dublin:20260514T203000
DTSTAMP:20260421T000242
CREATED:20260319T160545Z
LAST-MODIFIED:20260401T080526Z
UID:10001378-1778783400-1778790600@www.transportforireland.ie
SUMMARY:LSW Ice-Cream Spin 2026
DESCRIPTION:Join us for a leisurely social spin along the Greenway.\nStopping in Ballinea Bridge for complimentary refreshments\, tea\, coffee and ice-cream.\nEveryone welcome.
URL:https://www.transportforireland.ie/bikeweek-event/lsw-ice-cream-spin-2026/
LOCATION:Old Rail Trail Greenway\, Old Rail Trail Greenway\, Mullingar\, Westmeath\, N91 KP26
CATEGORIES:Fun and Interactive,Leisure and Recreational
ATTACH;FMTTYPE=image/jpeg:https://www.transportforireland.ie/wp-content/uploads/2026/03/Picture1.jpg
END:VEVENT
BEGIN:VEVENT
DTSTART;TZID=Europe/Dublin:20260514T183000
DTEND;TZID=Europe/Dublin:20260514T203000
DTSTAMP:20260421T000242
CREATED:20260417T083835Z
LAST-MODIFIED:20260417T083835Z
UID:10001585-1778783400-1778790600@www.transportforireland.ie
SUMMARY:Bike - Beach - Yoga
DESCRIPTION:Cycle Dungarvan to Clonea \, Yoga on Clonea beach and cycle back to Dungarvan
URL:https://www.transportforireland.ie/bikeweek-event/bike-beach-yoga/
LOCATION:Walton Park\, Dungarvan\, Waterford
CATEGORIES:Leisure and Recreational
END:VEVENT
BEGIN:VEVENT
DTSTART;VALUE=DATE:20260515
DTEND;VALUE=DATE:20260516
DTSTAMP:20260421T000242
CREATED:20260409T141206Z
LAST-MODIFIED:20260409T141206Z
UID:10001414-1778803200-1778889599@www.transportforireland.ie
SUMMARY:School Cycle Celebration
DESCRIPTION:Scoil Chroí Naofa\, Carn Domhnach\, proposes to deliver a “Decorate Your Bike Parade” as part of National Bike Week 2026\, taking place in Barrack Hill Gardens & Play Park\, a safe\, traffic-free environment within close proximity to the school.\nThe event will promote participation in recreational cycling\, particularly among children and families\, in line with Bike Week objectives of inclusion\, accessibility\, and community engagement.\nParticipants will decorate their bikes or scooters and take part in a supervised\, non-competitive parade\, encouraging enjoyment of cycling regardless of ability. The event will specifically support new and occasional cyclists by providing a safe\, supportive environment to build confidence. Inclusive participation will be facilitated through alternative roles and adapted approaches where needed.
URL:https://www.transportforireland.ie/bikeweek-event/school-cycle-celebration/
LOCATION:Barrack Hill Gardens & Play Park\, Ballyloskey Rd\, Churchland Quarters\, Carndonagh\, Donegal
CATEGORIES:Fun and Interactive
ORGANIZER;CN="Donegal County Council and Sports Partnership":MAILTO:@activedonegal.com
END:VEVENT
BEGIN:VEVENT
DTSTART;VALUE=DATE:20260515
DTEND;VALUE=DATE:20260516
DTSTAMP:20260421T000242
CREATED:20260420T135605Z
LAST-MODIFIED:20260420T135605Z
UID:10001556-1778803200-1778889599@www.transportforireland.ie
SUMMARY:No. 4 Youth Service - Cycle Trip
DESCRIPTION:Cycle trip organised to take place in Westport on part of the greenway. Young people will have the opportunity to cycle in a safe and fun environment.
URL:https://www.transportforireland.ie/bikeweek-event/no-4-youth-service-cycle-trip/
LOCATION:No.4 Youth Service\, 4 St Augustine St\, Galway\, H91 H992
CATEGORIES:Fun and Interactive,Leisure and Recreational
END:VEVENT
BEGIN:VEVENT
DTSTART;TZID=Europe/Dublin:20260515T060000
DTEND;TZID=Europe/Dublin:20260515T073000
DTSTAMP:20260421T000242
CREATED:20260408T080323Z
LAST-MODIFIED:20260408T080323Z
UID:10001389-1778824800-1778830200@www.transportforireland.ie
SUMMARY:Sunrise Cycle
DESCRIPTION:Start the day the right way watching the sun rise over Dublin Bay on this relaxed 10km cycle.\nJoin us at the Sails Statue at the corner of Alfie Byrne Road and Clontarf Road for a relaxed cycle and coffee and chat afterwards. The event is open to all though under 18s must be accompanied by an adult. Please register for the event in advance.
URL:https://www.transportforireland.ie/bikeweek-event/sunrise-cycle-2/
LOCATION:Sunrise Cycle\, Sails Statue\, Clontarf Road\, Dublin\, NA
CATEGORIES:Leisure and Recreational
ATTACH;FMTTYPE=image/png:https://www.transportforireland.ie/wp-content/uploads/2026/04/wooden_bridge_resized.png
END:VEVENT
BEGIN:VEVENT
DTSTART;TZID=Europe/Dublin:20260515T080000
DTEND;TZID=Europe/Dublin:20260515T170000
DTSTAMP:20260421T000242
CREATED:20260420T114850Z
LAST-MODIFIED:20260420T114850Z
UID:10001633-1778832000-1778864400@www.transportforireland.ie
SUMMARY:Cycle to the Cinema
DESCRIPTION:Children from the local national school will take part in a week-long “Cycle to School” initiative\, encouraging active travel and healthy habits. Throughout the week\, students will cycle to and from school\, building confidence and enjoying time outdoors with their classmates. The initiative will conclude with a special trip to the local community centre\, where participants will relax and celebrate their efforts by watching a film together.
URL:https://www.transportforireland.ie/bikeweek-event/cycle-to-the-cinema/
LOCATION:The Forge Family Resource Centre\, Pettigo\, Donegal
CATEGORIES:Challenges and Competitions
ORGANIZER;CN="Donegal County Council and Sports Partnership":MAILTO:@activedonegal.com
END:VEVENT
BEGIN:VEVENT
DTSTART;TZID=Europe/Dublin:20260515T090000
DTEND;TZID=Europe/Dublin:20260515T090000
DTSTAMP:20260421T000242
CREATED:20260420T112025Z
LAST-MODIFIED:20260420T112025Z
UID:10001888-1778835600-1778835600@www.transportforireland.ie
SUMMARY:"On Your Bike"
DESCRIPTION:Please note: this event is only open to the primary school students at Tinryland N.S.\, Carlow\nBike Workshops for 1st- 6th class.\nBalance Bike Workshops for Junior & Senior Infants.\nLearn to Cycle session.\nPoster Competition.
URL:https://www.transportforireland.ie/bikeweek-event/on-your-bike/
LOCATION:Tinryland N.S\, Carlow
CATEGORIES:Awareness and Safety,Education and Training,Workshops and Maintenance
ATTACH;FMTTYPE=image/png:https://www.transportforireland.ie/wp-content/uploads/2026/04/Active-Carlow-Drafts-Black-2-2.png
END:VEVENT
BEGIN:VEVENT
DTSTART;TZID=Europe/Dublin:20260515T090000
DTEND;TZID=Europe/Dublin:20260515T100000
DTSTAMP:20260421T000242
CREATED:20260420T135710Z
LAST-MODIFIED:20260420T135710Z
UID:10001565-1778835600-1778839200@www.transportforireland.ie
SUMMARY:Pimp my Bike
DESCRIPTION:A school-only event where children can bling their bike for a day.
URL:https://www.transportforireland.ie/bikeweek-event/pimp-my-bike/
LOCATION:Gael Scoil Dara
CATEGORIES:Fun and Interactive
END:VEVENT
END:VCALENDAR