BEGIN:VCALENDAR
VERSION:2.0
PRODID:-//Transport for Ireland - ECPv6.15.20//NONSGML v1.0//EN
CALSCALE:GREGORIAN
METHOD:PUBLISH
X-ORIGINAL-URL:https://www.transportforireland.ie
X-WR-CALDESC:Events for Transport for Ireland
REFRESH-INTERVAL;VALUE=DURATION:PT1H
X-Robots-Tag:noindex
X-PUBLISHED-TTL:PT1H
BEGIN:VTIMEZONE
TZID:Europe/Dublin
BEGIN:STANDARD
TZOFFSETFROM:+0000
TZOFFSETTO:+0100
TZNAME:IST
DTSTART:20250330T010000
END:STANDARD
BEGIN:DAYLIGHT
TZOFFSETFROM:+0100
TZOFFSETTO:+0000
TZNAME:GMT
DTSTART:20251026T010000
END:DAYLIGHT
BEGIN:STANDARD
TZOFFSETFROM:+0000
TZOFFSETTO:+0100
TZNAME:IST
DTSTART:20260329T010000
END:STANDARD
BEGIN:DAYLIGHT
TZOFFSETFROM:+0100
TZOFFSETTO:+0000
TZNAME:GMT
DTSTART:20261025T010000
END:DAYLIGHT
BEGIN:STANDARD
TZOFFSETFROM:+0000
TZOFFSETTO:+0100
TZNAME:IST
DTSTART:20270328T010000
END:STANDARD
BEGIN:DAYLIGHT
TZOFFSETFROM:+0100
TZOFFSETTO:+0000
TZNAME:GMT
DTSTART:20271031T010000
END:DAYLIGHT
END:VTIMEZONE
BEGIN:VEVENT
DTSTART;TZID=Europe/Dublin:20260511T090000
DTEND;TZID=Europe/Dublin:20260515T160000
DTSTAMP:20260422T123453
CREATED:20260421T141742Z
LAST-MODIFIED:20260421T141742Z
UID:10001569-1778490000-1778860800@www.transportforireland.ie
SUMMARY:Bike Week 2026 – Scoil Chatríona Senior
DESCRIPTION:Cycle to School Day\, Road and cycle safety workshops provided by RSA. Design a bike activity\, Design a promotional poster for Bike week
URL:https://www.transportforireland.ie/bikeweek-event/bike-week-2026-scoil-chatriona-senior/
LOCATION:Scoil Chaitríona Senior\, Galway
CATEGORIES:Bike Festivals and Exhibitions,Fun and Interactive,Workshops and Maintenance
END:VEVENT
BEGIN:VEVENT
DTSTART;TZID=Europe/Dublin:20260511T090000
DTEND;TZID=Europe/Dublin:20260515T160000
DTSTAMP:20260422T123453
CREATED:20260422T081703Z
LAST-MODIFIED:20260422T081703Z
UID:10001936-1778490000-1778860800@www.transportforireland.ie
SUMMARY:Bike Week 2026 – Scoil Chatríona Senior
DESCRIPTION:Cycle to School Day\, Road and cycle safety workshops provided by RSA. Design a bike activity\, Design a promotional poster for Bike week
URL:https://www.transportforireland.ie/bikeweek-event/bike-week-2026-scoil-chatriona-senior-2/
LOCATION:Scoil Chaitríona Senior\, Galway
CATEGORIES:Bike Festivals and Exhibitions,Fun and Interactive,Workshops and Maintenance
END:VEVENT
END:VCALENDAR