BEGIN:VCALENDAR
VERSION:2.0
PRODID:-//Transport for Ireland - ECPv6.15.20//NONSGML v1.0//EN
CALSCALE:GREGORIAN
METHOD:PUBLISH
X-ORIGINAL-URL:https://www.transportforireland.ie
X-WR-CALDESC:Events for Transport for Ireland
REFRESH-INTERVAL;VALUE=DURATION:PT1H
X-Robots-Tag:noindex
X-PUBLISHED-TTL:PT1H
BEGIN:VTIMEZONE
TZID:Europe/Dublin
BEGIN:STANDARD
TZOFFSETFROM:+0000
TZOFFSETTO:+0100
TZNAME:IST
DTSTART:20250330T010000
END:STANDARD
BEGIN:DAYLIGHT
TZOFFSETFROM:+0100
TZOFFSETTO:+0000
TZNAME:GMT
DTSTART:20251026T010000
END:DAYLIGHT
BEGIN:STANDARD
TZOFFSETFROM:+0000
TZOFFSETTO:+0100
TZNAME:IST
DTSTART:20260329T010000
END:STANDARD
BEGIN:DAYLIGHT
TZOFFSETFROM:+0100
TZOFFSETTO:+0000
TZNAME:GMT
DTSTART:20261025T010000
END:DAYLIGHT
BEGIN:STANDARD
TZOFFSETFROM:+0000
TZOFFSETTO:+0100
TZNAME:IST
DTSTART:20270328T010000
END:STANDARD
BEGIN:DAYLIGHT
TZOFFSETFROM:+0100
TZOFFSETTO:+0000
TZNAME:GMT
DTSTART:20271031T010000
END:DAYLIGHT
END:VTIMEZONE
BEGIN:VEVENT
DTSTART;TZID=Europe/Dublin:20260517T080000
DTEND;TZID=Europe/Dublin:20260517T170000
DTSTAMP:20260421T201521
CREATED:20260421T144730Z
LAST-MODIFIED:20260421T144730Z
UID:10001947-1779004800-1779037200@www.transportforireland.ie
SUMMARY:Bike Fest Kilkenny City
DESCRIPTION:All welcome to join for a Slow Roll through Kilkenny City Streets\, meet at The Parade at 11am\, all ages welcome\, bring your own bike in good working order. \nOff-road track at County Hall from 12pm to 3pm.\nTry out Grass Track Racing\, Obstacle Courses. \nLearn to cycle available for younger children\, bikes available.
URL:https://www.transportforireland.ie/bikeweek-event/bike-fest-kilkenny-city/2026-05-17/1/
LOCATION:The Parade\, Kilkenny\, Kilkenny\, Kilkenny\, R95 YRK1\, Ireland
CATEGORIES:Bike Festivals and Exhibitions,Leisure and Recreational
ATTACH;FMTTYPE=image/png:https://www.transportforireland.ie/wp-content/uploads/2026/04/Bike-Fest-Kilkenny-Thumbnail.png
ORGANIZER;CN="Kilkenny County Council and Sports Partnership":MAILTO:caitriona.corr@kilkennycoco.ie
END:VEVENT
BEGIN:VEVENT
DTSTART;TZID=Europe/Dublin:20260517T110000
DTEND;TZID=Europe/Dublin:20260517T150000
DTSTAMP:20260421T201521
CREATED:20260421T144730Z
LAST-MODIFIED:20260421T144730Z
UID:10001907-1779015600-1779030000@www.transportforireland.ie
SUMMARY:Bike Fest Kilkenny City
DESCRIPTION:All welcome to join for a Slow Roll through Kilkenny City Streets\, meet at The Parade at 11am\, all ages welcome\, bring your own bike in good working order. \nOff-road track at County Hall from 12pm to 3pm.\nTry out Grass Track Racing\, Obstacle Courses. \nLearn to cycle available for younger children\, bikes available.
URL:https://www.transportforireland.ie/bikeweek-event/bike-fest-kilkenny-city/2026-05-17/2/
LOCATION:The Parade\, Kilkenny\, Kilkenny\, Kilkenny\, R95 YRK1\, Ireland
CATEGORIES:Bike Festivals and Exhibitions,Leisure and Recreational
ATTACH;FMTTYPE=image/png:https://www.transportforireland.ie/wp-content/uploads/2026/04/Bike-Fest-Kilkenny-Thumbnail.png
ORGANIZER;CN="Kilkenny County Council and Sports Partnership":MAILTO:caitriona.corr@kilkennycoco.ie
END:VEVENT
END:VCALENDAR