BEGIN:VCALENDAR
VERSION:2.0
PRODID:-//Transport for Ireland - ECPv6.15.20//NONSGML v1.0//EN
CALSCALE:GREGORIAN
METHOD:PUBLISH
X-WR-CALNAME:Transport for Ireland
X-ORIGINAL-URL:https://www.transportforireland.ie
X-WR-CALDESC:Events for Transport for Ireland
REFRESH-INTERVAL;VALUE=DURATION:PT1H
X-Robots-Tag:noindex
X-PUBLISHED-TTL:PT1H
BEGIN:VTIMEZONE
TZID:Europe/Dublin
BEGIN:STANDARD
TZOFFSETFROM:+0000
TZOFFSETTO:+0100
TZNAME:IST
DTSTART:20250330T010000
END:STANDARD
BEGIN:DAYLIGHT
TZOFFSETFROM:+0100
TZOFFSETTO:+0000
TZNAME:GMT
DTSTART:20251026T010000
END:DAYLIGHT
BEGIN:STANDARD
TZOFFSETFROM:+0000
TZOFFSETTO:+0100
TZNAME:IST
DTSTART:20260329T010000
END:STANDARD
BEGIN:DAYLIGHT
TZOFFSETFROM:+0100
TZOFFSETTO:+0000
TZNAME:GMT
DTSTART:20261025T010000
END:DAYLIGHT
BEGIN:STANDARD
TZOFFSETFROM:+0000
TZOFFSETTO:+0100
TZNAME:IST
DTSTART:20270328T010000
END:STANDARD
BEGIN:DAYLIGHT
TZOFFSETFROM:+0100
TZOFFSETTO:+0000
TZNAME:GMT
DTSTART:20271031T010000
END:DAYLIGHT
END:VTIMEZONE
BEGIN:VEVENT
DTSTART;TZID=Europe/Dublin:20260516T100000
DTEND;TZID=Europe/Dublin:20260516T140000
DTSTAMP:20260424T164759
CREATED:20260420T142033Z
LAST-MODIFIED:20260420T142033Z
UID:10001829-1778925600-1778940000@www.transportforireland.ie
SUMMARY:GBCC East Galway Heritage Cycle
DESCRIPTION:Cycling has been a part of rural life in Galway for decades. There were more bike on the roads than cars in the 1950s. While the roads may have changed to accommodate the cars\, the old roads\, the old routes and destinations can still be found. The Sunday cyclist of the 1940s or 50s would not have been thinking about PBs and local segment challenges\, but would have picked up information about crops\, stock\, and local gossip. \nGalway Bay Cycling Club (GBCC) wishes to bring its members and friends on a trip from the city around the old roads\, recreating the slow pace and incident. This event will re-create the cycling wandering of 1950’s leisure cyclist\, if she/he started in Claregalway\, a hill climb at Abbeyknockmoy (stopping at St. Patrick’s graveyard and 17th century carved stone) and on to Our lady’s Well\, Athenry for refreshments\, before returning to Claregalway. \nThe 55km cycle will be designed for new-to-bike participants\, but will include a hill to climb\, and a view to see. The commentary on the landscape and historical stops will be led by Colm Murray and Stephen O’Connell of GBCC\, with help from friends
URL:https://www.transportforireland.ie/bikeweek-event/gbcc-east-galway-heritage-cycle/
LOCATION:Claregalway Friary\, Claregalway\, Co Galway\, 53°12′17″N 8°33′50″W﻿ / ﻿53.2048°N 8.5640°W
CATEGORIES:Leisure and Recreational
ATTACH;FMTTYPE=image/jpeg:https://www.transportforireland.ie/wp-content/uploads/2026/04/WhatsApp-Image-2026-04-14-at-18.28.44.jpeg
END:VEVENT
BEGIN:VEVENT
DTSTART;TZID=Europe/Dublin:20260516T103000
DTEND;TZID=Europe/Dublin:20260516T123000
DTSTAMP:20260424T164759
CREATED:20260421T143921Z
LAST-MODIFIED:20260421T144027Z
UID:10001932-1778927400-1778934600@www.transportforireland.ie
SUMMARY:Ballina Cycle
DESCRIPTION:20k road cycle for beginners taking place in Ballina\, suitable for all levels.
URL:https://www.transportforireland.ie/bikeweek-event/ballina-cycle/
LOCATION:New White Bridge on the Moy beside Arts Centre.\, Ballina\, Mayo\, F26 NW83
CATEGORIES:Community Engagement,Fun and Interactive,Leisure and Recreational
ATTACH;FMTTYPE=image/png:https://www.transportforireland.ie/wp-content/uploads/2026/04/MSP-Bike-Events-Graphic-1-4.png
END:VEVENT
BEGIN:VEVENT
DTSTART;TZID=Europe/Dublin:20260516T110000
DTEND;TZID=Europe/Dublin:20260516T130000
DTSTAMP:20260424T164759
CREATED:20260417T090641Z
LAST-MODIFIED:20260417T090641Z
UID:10001659-1778929200-1778936400@www.transportforireland.ie
SUMMARY:Bikes\, Birds and Biosphere: Dublin Port to Bull Island Bike Ride
DESCRIPTION:Join Dublin City Council’s Biodiversity and Bikes team for an exciting guided cycle from the Tolka Greenway to the North Bull Island\, exploring the unique landscapes and wildlife of Dublin Bay UNESCO Biosphere along the way. \nWe’ll meet at the Sails Statue (corner of Alfie Byrne Road and Clontarf Prom) before cycling along the Dublin Port Tolka Greenway for a view of the Biosphere before continuing along the coastal cycle path to the Causeway road and the North Bull Island. Along the way\, you’ll have the chance to spot coastal birds and waders\, emerging wildflowers and learn about ongoing conservation efforts from dedicated volunteers and rangers. \nWe’ll finish with a relaxed picnic on Dollymount Beach. Please bring what you need for a comfortable 5km cycle along with some food to enjoy and share as we chat about biodiversity\, the biosphere and the importance of protecting these special habitats. \nDon’t miss out on this unique bike tour celebrating Bike Week and National Biodiversity Week!
URL:https://www.transportforireland.ie/bikeweek-event/bikes-birds-and-biosphere-dublin-port-to-bull-island-bike-ride/
LOCATION:Sails Statue\, Alfie Byrne Road/Clontarf Road\, Dublin 3\, Clontarf\,\, Dublin\, NA
CATEGORIES:Fun and Interactive,Leisure and Recreational
ATTACH;FMTTYPE=image/jpeg:https://www.transportforireland.ie/wp-content/uploads/2026/04/Pigeon-Towers.jpg
END:VEVENT
BEGIN:VEVENT
DTSTART;TZID=Europe/Dublin:20260516T110000
DTEND;TZID=Europe/Dublin:20260516T130000
DTSTAMP:20260424T164759
CREATED:20260417T092106Z
LAST-MODIFIED:20260417T092106Z
UID:10001607-1778929200-1778936400@www.transportforireland.ie
SUMMARY:Cargo & Folding Bike Street Demo
DESCRIPTION:Find out all you need to know about e-bikes and folding bikes! WexBUG (Wexford Bicycle Users Group) and The Bike Shop will demonstrate Cargo bikes\, e-bikes and folding bikes on Selskar Street\, Wexford (at the Nicky Rackard statue).
URL:https://www.transportforireland.ie/bikeweek-event/cargo-folding-bike-street-demo/
LOCATION:Nicky Rackard Statue\, Selskar Street\, Wexford Town\, Wexford\, N/A
CATEGORIES:Bike Festivals and Exhibitions
ATTACH;FMTTYPE=image/png:https://www.transportforireland.ie/wp-content/uploads/2026/04/cargo-bike-demo.png
END:VEVENT
BEGIN:VEVENT
DTSTART;TZID=Europe/Dublin:20260516T120000
DTEND;TZID=Europe/Dublin:20260516T160000
DTSTAMP:20260424T164759
CREATED:20260421T144239Z
LAST-MODIFIED:20260423T150938Z
UID:10001911-1778932800-1778947200@www.transportforireland.ie
SUMMARY:Try a Trishaw
DESCRIPTION:A chance for children and adults with additional physical and intellectual needs to try out a trishaw\, wheelchair bike or adapted cycle in a safe environment with Dodder Valley Cycling. \n#BikeWeekSouthDublin
URL:https://www.transportforireland.ie/bikeweek-event/try-a-trishaw-2/
LOCATION:Dodder Valley Park (Point B in carpark)\, Opposite Speaker Connelly\, Firhouse\, Dublin 24.
CATEGORIES:Access and Inclusion,Community Engagement,Fun and Interactive,Leisure and Recreational
END:VEVENT
BEGIN:VEVENT
DTSTART;TZID=Europe/Dublin:20260517T090000
DTEND;TZID=Europe/Dublin:20260517T120000
DTSTAMP:20260424T164759
CREATED:20260421T144654Z
LAST-MODIFIED:20260421T144654Z
UID:10001914-1779008400-1779019200@www.transportforireland.ie
SUMMARY:BBCC Bike Week Open Day
DESCRIPTION:Ballisodare Bay Cycling Club are hosting an Open Day for Bike Week in May. If you are new to cycling or returning to cycling\, you are invited to join us for a short spin at 9am on Sunday 17th May 2026. Over 18’s only. The distance of the cycle will be tailored to suit the ability of those taking part. You will cycle alongside existing club members. The cycle will stop for a social coffee break at some point during the cycle or at the end of the cycle.
URL:https://www.transportforireland.ie/bikeweek-event/bbcc-bike-week-open-day/
LOCATION:Ballisodare\, Ballisodare\, Sligo
CATEGORIES:Awareness and Safety,Community Engagement,Education and Training,Fun and Interactive,Leisure and Recreational
END:VEVENT
BEGIN:VEVENT
DTSTART;TZID=Europe/Dublin:20260517T090000
DTEND;TZID=Europe/Dublin:20260517T130000
DTSTAMP:20260424T164759
CREATED:20260409T134400Z
LAST-MODIFIED:20260413T094956Z
UID:10001399-1779008400-1779022800@www.transportforireland.ie
SUMMARY:Introduction to Mountain Biking
DESCRIPTION:Mountain Biking is a big part of the Tír Chonaill GAP scene\, and we have attracted many new members to the club through mountain biking\, either directly from Bike Week or from seeing the photos on social media.\nThe event will start and finish at McCafferty’s Bar in Lettermacaward and we will take beginner cyclists off road on gravel\, farm and mountain tracks. The scenery is spectacular\, the views even better\, and the terrain even even better.\nIf you’ve never ridden a mountain bike but fancy a crack at this off road fun\, this is the event for you. You will be joined by experienced cyclists who will help you manage the terrain.\nWe have a few bikes available to lend\, but these will be allocated on a first come first served basis\, so please let us know in advance if you need one.
URL:https://www.transportforireland.ie/bikeweek-event/introduction-to-mountain-biking-2/
LOCATION:McCafferty’s Bar\, Lettermacaward\, Donegal\, F94 KW89
CATEGORIES:Leisure and Recreational
ATTACH;FMTTYPE=image/jpeg:https://www.transportforireland.ie/wp-content/uploads/2026/04/WhatsApp-Image-2026-03-26-at-16.37.22.jpeg
ORGANIZER;CN="Donegal County Council and Sports Partnership":MAILTO:@activedonegal.com
END:VEVENT
BEGIN:VEVENT
DTSTART;TZID=Europe/Dublin:20260517T090000
DTEND;TZID=Europe/Dublin:20260517T170000
DTSTAMP:20260424T164759
CREATED:20260417T100831Z
LAST-MODIFIED:20260417T100831Z
UID:10001687-1779008400-1779037200@www.transportforireland.ie
SUMMARY:CRCU - Bluestack Cycle and Climb
DESCRIPTION:On Sunday 17th May at 9am\, CRCU will host a cycle and climb event at the Bluestack Mountains\, it will consist of a 30km cycle with an optional climb\, followed by a BBQ in the Reelin Bar after.
URL:https://www.transportforireland.ie/bikeweek-event/crcu-bluestack-cycle-and-climb/
LOCATION:Reelin Bar\, Glenfin\, Donegal
CATEGORIES:Leisure and Recreational
ORGANIZER;CN="Donegal County Council and Sports Partnership":MAILTO:@activedonegal.com
END:VEVENT
BEGIN:VEVENT
DTSTART;TZID=Europe/Dublin:20260517T093000
DTEND;TZID=Europe/Dublin:20260517T120000
DTSTAMP:20260424T164759
CREATED:20260416T160204Z
LAST-MODIFIED:20260416T160204Z
UID:10001712-1779010200-1779019200@www.transportforireland.ie
SUMMARY:Ballyhoura Bike Week - MTB for all
DESCRIPTION:Try-A-Bike for kids and teenagers. Family and Social Group Rides for all ages and abilities.
URL:https://www.transportforireland.ie/bikeweek-event/ballyhoura-bike-week-mtb-for-all-2/
LOCATION:Ballyhoura Mountain Bike Centre\, Ballyhoura Mountain Bike Centre
CATEGORIES:Fun and Interactive,Leisure and Recreational
ATTACH;FMTTYPE=image/png:https://www.transportforireland.ie/wp-content/uploads/2026/04/Add-a-heading-Facebook-Profile-Frame-Facebook-Profile-Picture-1-4.png
END:VEVENT
BEGIN:VEVENT
DTSTART;TZID=Europe/Dublin:20260517T100000
DTEND;TZID=Europe/Dublin:20260517T123000
DTSTAMP:20260424T164759
CREATED:20260420T114620Z
LAST-MODIFIED:20260420T114620Z
UID:10001852-1779012000-1779021000@www.transportforireland.ie
SUMMARY:Cycle to Sea Swim - Sea Point
DESCRIPTION:Kick your summer sea dipping off with our Cycle to Sea Dip in May! A leisurely group cycle followed by a sea swim at Seapoint. \nCycling and Sea Swimming at Seapoint! \nJoin us at 10am on Sunday morning\, 17 May for a guided cycle from Sandymount Green along the coast road to Sea Point for a high tide summer sea swim! \nThis event will bring together a leisurely group cycle of about 12km and a guided sea swim with like minded people. \nTake part in a guided open water swim at Seapoint\, suitable for both experienced swimmers and those who simply want to enjoy a sea dip. Participants will have the option to swim approximately 500 meters out to the buoy and back\, accompanied by an experienced swim guide. \nSwimmers are welcome to wear a wetsuit if they prefer. All participants will be required to use a tow float for visibility and safety. Bring a tow float if you have one\, a limited number will also be available to borrow on the day. \nIf you’d rather stay closer to shore\, you’re equally welcome to join for a shorter dip. With a focus on safety and enjoyment\, this session caters to a range of abilities in a relaxed\, social setting. \nBring your bike and your togs! Coffee and Pastries available post dip! \nMeeting point: Sandymount Green
URL:https://www.transportforireland.ie/bikeweek-event/cycle-to-sea-swim-sea-point/
LOCATION:Sandymount Green\, Dublin\, D04 FX77
CATEGORIES:Community Engagement,Fun and Interactive,Leisure and Recreational
ATTACH;FMTTYPE=image/png:https://www.transportforireland.ie/wp-content/uploads/2026/04/Cycle_to_Sea_Swim_-_Sea_Point-1.png
END:VEVENT
BEGIN:VEVENT
DTSTART;TZID=Europe/Dublin:20260517T100000
DTEND;TZID=Europe/Dublin:20260517T140000
DTSTAMP:20260424T164759
CREATED:20260416T115717Z
LAST-MODIFIED:20260423T145121Z
UID:10001488-1779012000-1779026400@www.transportforireland.ie
SUMMARY:Pedal & Pamper: Blessington Greenway Sauna Ride
DESCRIPTION:Celebrate Bike Week 2026 with a unique blend of activity and relaxation on the Pamper & Pedal: Blessington Greenway Sauna Ride — a self-led cycle followed by a free\, well-earned sauna session overlooking the lake. \nTake in the stunning scenery of the Blessington Greenway at your own pace\, then check in with our team to collect your token for a free 50-minute session in Tinteán Sauna. It’s the perfect reward for getting out on the bike. \n#BikeWeekWicklow
URL:https://www.transportforireland.ie/bikeweek-event/pedal-pamper-blessington-greenway-sauna-ride/
LOCATION:Tinteán Sauna\, https://wicklowlsp.ie/
CATEGORIES:Leisure and Recreational
ATTACH;FMTTYPE=image/png:https://www.transportforireland.ie/wp-content/uploads/2026/04/Pedal-Pamper-3.png
ORGANIZER;CN="Wicklow County Council and Sports Partnership":MAILTO:wicklowlsp@wicklowcoco.ie
END:VEVENT
BEGIN:VEVENT
DTSTART;TZID=Europe/Dublin:20260517T103000
DTEND;TZID=Europe/Dublin:20260517T140000
DTSTAMP:20260424T164759
CREATED:20260420T152255Z
LAST-MODIFIED:20260420T152255Z
UID:10001853-1779013800-1779026400@www.transportforireland.ie
SUMMARY:Family Fun Fancy Dress Cycle in Dodder Valley Park
DESCRIPTION:Get your brightest and craziest costumes ready (for you and your bike) and join us for a fun-filled family cycle in Dodder Valley Park!\nDress up in crazy colours\, hop on your bike\, and enjoy the beautiful surroundings with great company and music.\nEnjoy a tasty picnic after the cycle.\nSee you there!
URL:https://www.transportforireland.ie/bikeweek-event/family-fun-fancy-dress-cycle-in-dodder-valley-park/
LOCATION:Dodder Valley Park Sports Pavillion  – carpark opposite Ahernes Pub\, Old Bawn\, Tallaght\,\, Dublin 24.\, D22F663
CATEGORIES:Access and Inclusion,Community Engagement,Fun and Interactive,Leisure and Recreational
ATTACH;FMTTYPE=image/jpeg:https://www.transportforireland.ie/wp-content/uploads/2026/04/Picture3.jpg
END:VEVENT
BEGIN:VEVENT
DTSTART;TZID=Europe/Dublin:20260517T120000
DTEND;TZID=Europe/Dublin:20260517T140000
DTSTAMP:20260424T164759
CREATED:20260409T135049Z
LAST-MODIFIED:20260409T135049Z
UID:10001408-1779019200-1779026400@www.transportforireland.ie
SUMMARY:Teen Cycle
DESCRIPTION:Teen Cycle in Killykeen Forest Park
URL:https://www.transportforireland.ie/bikeweek-event/teen-cycle/
LOCATION:Killykeen Forest Park\, Cavan\, Co Cavan\, H16 HC83\, Ireland
CATEGORIES:Leisure and Recreational
END:VEVENT
BEGIN:VEVENT
DTSTART;TZID=Europe/Dublin:20260517T143000
DTEND;TZID=Europe/Dublin:20260517T163000
DTSTAMP:20260424T164759
CREATED:20260421T145047Z
LAST-MODIFIED:20260421T145047Z
UID:10001895-1779028200-1779035400@www.transportforireland.ie
SUMMARY:Cycle of Nature – Cloughjordan
DESCRIPTION:Cloughjordan Community Development Association will host Cycles of Nature\, a guided cycle through Emmel West along the Beara–Breifne National Cycle Route. The cycle will include a number of stops to explore and learn about the area’s natural heritage\, offering participants an opportunity to experience the landscape in an informative and relaxed way. Participants will meet at the Middle Country Café on Main Street at 2.30pm before setting off on the guided cycle.
URL:https://www.transportforireland.ie/bikeweek-event/cycle-of-nature-cloughjordan/
LOCATION:Main Street\, Cloughjordan\, Munster
CATEGORIES:Community Engagement,Leisure and Recreational
END:VEVENT
END:VCALENDAR