BEGIN:VCALENDAR
VERSION:2.0
PRODID:-//Transport for Ireland - ECPv6.15.20//NONSGML v1.0//EN
CALSCALE:GREGORIAN
METHOD:PUBLISH
X-ORIGINAL-URL:https://www.transportforireland.ie
X-WR-CALDESC:Events for Transport for Ireland
REFRESH-INTERVAL;VALUE=DURATION:PT1H
X-Robots-Tag:noindex
X-PUBLISHED-TTL:PT1H
BEGIN:VTIMEZONE
TZID:Europe/Dublin
BEGIN:STANDARD
TZOFFSETFROM:+0000
TZOFFSETTO:+0100
TZNAME:IST
DTSTART:20250330T010000
END:STANDARD
BEGIN:DAYLIGHT
TZOFFSETFROM:+0100
TZOFFSETTO:+0000
TZNAME:GMT
DTSTART:20251026T010000
END:DAYLIGHT
BEGIN:STANDARD
TZOFFSETFROM:+0000
TZOFFSETTO:+0100
TZNAME:IST
DTSTART:20260329T010000
END:STANDARD
BEGIN:DAYLIGHT
TZOFFSETFROM:+0100
TZOFFSETTO:+0000
TZNAME:GMT
DTSTART:20261025T010000
END:DAYLIGHT
BEGIN:STANDARD
TZOFFSETFROM:+0000
TZOFFSETTO:+0100
TZNAME:IST
DTSTART:20270328T010000
END:STANDARD
BEGIN:DAYLIGHT
TZOFFSETFROM:+0100
TZOFFSETTO:+0000
TZNAME:GMT
DTSTART:20271031T010000
END:DAYLIGHT
END:VTIMEZONE
BEGIN:VEVENT
DTSTART;TZID=Europe/Dublin:20260514T090000
DTEND;TZID=Europe/Dublin:20260514T160000
DTSTAMP:20260425T160339
CREATED:20260421T140905Z
LAST-MODIFIED:20260421T140905Z
UID:10001629-1778749200-1778774400@www.transportforireland.ie
SUMMARY:SN Mhín Tine Dé
DESCRIPTION:Senior classes will take part in a Cycle Skills session followed by a fun countryside cycle\, travelling to SN Mhín Tine Dé and returning to the school. This activity offers students the chance to build confidence on their bikes\, develop essential cycling skills\, and enjoy a safe and enjoyable ride through the local countryside. It promises to be a rewarding experience combining learning\, exercise\, and fresh air.
URL:https://www.transportforireland.ie/bikeweek-event/sn-mhin-tine-de/
LOCATION:Magh Ene College\, Bundoran\, Donegal
CATEGORIES:Education and Training
ORGANIZER;CN="Donegal County Council and Sports Partnership":MAILTO:@activedonegal.com
END:VEVENT
BEGIN:VEVENT
DTSTART;TZID=Europe/Dublin:20260514T100000
DTEND;TZID=Europe/Dublin:20260514T123000
DTSTAMP:20260425T160339
CREATED:20260421T141005Z
LAST-MODIFIED:20260421T141005Z
UID:10001807-1778752800-1778761800@www.transportforireland.ie
SUMMARY:Secondary Schools Royal Canal Greenway Cycle
DESCRIPTION:Our secondary school Royal Canal Greenway cycles take place right throughout bike week. School groups will get the opportunity to cycle along a scenic stretch of the Royal Canal Greenway in Longford. Each cycle will be guided by experienced cycling tutors. Safe cycling practice will be incorporated in to each cycle session. Our cycles on the 14th will take place along the Royal Canal Greenway from Clondra.
URL:https://www.transportforireland.ie/bikeweek-event/secondary-schools-royal-canal-greenway-cycle-3/
LOCATION:Richmond Harbour\, Clondra\, Co. Longford
CATEGORIES:Awareness and Safety,Education and Training,Leisure and Recreational
ATTACH;FMTTYPE=image/png:https://www.transportforireland.ie/wp-content/uploads/2026/04/Bike-Week-Longford-4.png
END:VEVENT
BEGIN:VEVENT
DTSTART;TZID=Europe/Dublin:20260514T100000
DTEND;TZID=Europe/Dublin:20260514T160000
DTSTAMP:20260425T160339
CREATED:20260421T140954Z
LAST-MODIFIED:20260421T140954Z
UID:10001638-1778752800-1778774400@www.transportforireland.ie
SUMMARY:Cycle skills and green way cycle
DESCRIPTION:The Green Schools (GS) Committee from Rosses Community School\, Dungloe will take part in a cycle skills session held in the school grounds\, where students will develop and practice essential cycling techniques in a safe environment. Following the training\, the group will head out for a guided cycle along the Greenway route from Dungloe to Glenties\, enjoying a scenic and rewarding journey while putting their new skills into practice.
URL:https://www.transportforireland.ie/bikeweek-event/cycle-skills-and-green-way-cycle/
LOCATION:Rosses Community School\, Dungloe\, Donegal
CATEGORIES:Education and Training
ORGANIZER;CN="Donegal County Council and Sports Partnership":MAILTO:@activedonegal.com
END:VEVENT
BEGIN:VEVENT
DTSTART;TZID=Europe/Dublin:20260514T130000
DTEND;TZID=Europe/Dublin:20260514T150000
DTSTAMP:20260425T160339
CREATED:20260423T080102Z
LAST-MODIFIED:20260423T080102Z
UID:10002058-1778763600-1778770800@www.transportforireland.ie
SUMMARY:Inclusive Cycling Workshop Rampark NS
DESCRIPTION:Inclusive bike skills workshop for children with Autism in the Autistic classes in the school. Deliver by Cycle Right tutor from Cylopath
URL:https://www.transportforireland.ie/bikeweek-event/inclusive-cycling-workshop-rampark-ns/
LOCATION:Rampark NS\, Lordship\, Lordship\, Louth\, na
CATEGORIES:Access and Inclusion,Fun and Interactive
ATTACH;FMTTYPE=image/jpeg:https://www.transportforireland.ie/wp-content/uploads/2026/04/bike-week-logo-18.jpg
END:VEVENT
BEGIN:VEVENT
DTSTART;VALUE=DATE:20260515
DTEND;VALUE=DATE:20260516
DTSTAMP:20260425T160339
CREATED:20260409T141206Z
LAST-MODIFIED:20260409T141206Z
UID:10001414-1778803200-1778889599@www.transportforireland.ie
SUMMARY:School Cycle Celebration
DESCRIPTION:Scoil Chroí Naofa\, Carn Domhnach\, proposes to deliver a “Decorate Your Bike Parade” as part of National Bike Week 2026\, taking place in Barrack Hill Gardens & Play Park\, a safe\, traffic-free environment within close proximity to the school.\nThe event will promote participation in recreational cycling\, particularly among children and families\, in line with Bike Week objectives of inclusion\, accessibility\, and community engagement.\nParticipants will decorate their bikes or scooters and take part in a supervised\, non-competitive parade\, encouraging enjoyment of cycling regardless of ability. The event will specifically support new and occasional cyclists by providing a safe\, supportive environment to build confidence. Inclusive participation will be facilitated through alternative roles and adapted approaches where needed.
URL:https://www.transportforireland.ie/bikeweek-event/school-cycle-celebration/
LOCATION:Barrack Hill Gardens & Play Park\, Ballyloskey Rd\, Churchland Quarters\, Carndonagh\, Donegal
CATEGORIES:Fun and Interactive
ORGANIZER;CN="Donegal County Council and Sports Partnership":MAILTO:@activedonegal.com
END:VEVENT
BEGIN:VEVENT
DTSTART;VALUE=DATE:20260515
DTEND;VALUE=DATE:20260516
DTSTAMP:20260425T160339
CREATED:20260421T142118Z
LAST-MODIFIED:20260421T142118Z
UID:10001786-1778803200-1778889599@www.transportforireland.ie
SUMMARY:Bike Stars
DESCRIPTION:To outline to pupils in our school safety while cycling on the road and the proper equipment to have when cycling.\nWe will organize for a representative to come to speak to the children in Bike Safety and the proper way to fasten a helmet and check that your bike is properly working. We will then get the children to independently carry out checks on their own bikes before putting on their helmets and cycling safely They will also go through safely cycling onto the road while demonstrating this.
URL:https://www.transportforireland.ie/bikeweek-event/bike-stars/
LOCATION:Drumraney NS\, Drumraney Athlone Westmeath\, Westmeath
CATEGORIES:Awareness and Safety,Challenges and Competitions,Education and Training
ORGANIZER;CN="Westmeath County Council and Sports Partnership":MAILTO:info@westmeathsports.ie
END:VEVENT
BEGIN:VEVENT
DTSTART;VALUE=DATE:20260515
DTEND;VALUE=DATE:20260516
DTSTAMP:20260425T160339
CREATED:20260422T075723Z
LAST-MODIFIED:20260422T075723Z
UID:10001617-1778803200-1778889599@www.transportforireland.ie
SUMMARY:St Flannan's College Bike Week Ride
DESCRIPTION:School Cycle on Friday 15th May
URL:https://www.transportforireland.ie/bikeweek-event/st-flannans-college-bike-week-ride/
LOCATION:St Flannan’s College Ennis\, Ennis\, Clare
CATEGORIES:Leisure and Recreational
END:VEVENT
BEGIN:VEVENT
DTSTART;VALUE=DATE:20260515
DTEND;VALUE=DATE:20260516
DTSTAMP:20260425T160339
CREATED:20260422T145633Z
LAST-MODIFIED:20260422T145633Z
UID:10002044-1778803200-1778889599@www.transportforireland.ie
SUMMARY:3rd-6th Class 6km Cycle
DESCRIPTION:Children from 3rd – 6th classes\, teachers\, volunteers and parents will cycle from the school\, through the town and out the golf links road.
URL:https://www.transportforireland.ie/bikeweek-event/3rd-6th-class-6km-cycle/
LOCATION:Scoil Chlann Naofa\, BALLINAMORE\, Co. Leitrim\, Co. Leitrim
CATEGORIES:Leisure and Recreational
END:VEVENT
BEGIN:VEVENT
DTSTART;TZID=Europe/Dublin:20260515T080000
DTEND;TZID=Europe/Dublin:20260515T170000
DTSTAMP:20260425T160339
CREATED:20260420T114850Z
LAST-MODIFIED:20260420T114850Z
UID:10001633-1778832000-1778864400@www.transportforireland.ie
SUMMARY:Cycle to the Cinema
DESCRIPTION:Children from the local national school will take part in a week-long “Cycle to School” initiative\, encouraging active travel and healthy habits. Throughout the week\, students will cycle to and from school\, building confidence and enjoying time outdoors with their classmates. The initiative will conclude with a special trip to the local community centre\, where participants will relax and celebrate their efforts by watching a film together.
URL:https://www.transportforireland.ie/bikeweek-event/cycle-to-the-cinema/
LOCATION:The Forge Family Resource Centre\, Pettigo\, Donegal
CATEGORIES:Challenges and Competitions
ORGANIZER;CN="Donegal County Council and Sports Partnership":MAILTO:@activedonegal.com
END:VEVENT
BEGIN:VEVENT
DTSTART;TZID=Europe/Dublin:20260515T080000
DTEND;TZID=Europe/Dublin:20260515T170000
DTSTAMP:20260425T160339
CREATED:20260421T142127Z
LAST-MODIFIED:20260421T142127Z
UID:10001685-1778832000-1778864400@www.transportforireland.ie
SUMMARY:Mulroy College - TY Cycle
DESCRIPTION:55 TY students from Mulroy College will enjoy a day of cycling in Glenveagh National Park
URL:https://www.transportforireland.ie/bikeweek-event/mulroy-college-ty-cycle/
LOCATION:Glenveagh National Park
CATEGORIES:Leisure and Recreational
ORGANIZER;CN="Donegal County Council and Sports Partnership":MAILTO:@activedonegal.com
END:VEVENT
BEGIN:VEVENT
DTSTART;TZID=Europe/Dublin:20260515T080000
DTEND;TZID=Europe/Dublin:20260515T170000
DTSTAMP:20260425T160339
CREATED:20260421T142142Z
LAST-MODIFIED:20260421T142142Z
UID:10001869-1778832000-1778864400@www.transportforireland.ie
SUMMARY:Cycling Around the Island
DESCRIPTION:Gairmscoil Mhic Diarmada on Arranmore Island will host a Bike Week event where students will rent bicycles and take part in a group cycle around the island. This activity will promote active travel\, fitness\, and an appreciation of the island’s unique landscape. \nThe event will provide a fun and social opportunity for students to build cycling confidence while enjoying the outdoors and strengthening connections within the school community.
URL:https://www.transportforireland.ie/bikeweek-event/cycling-around-the-island/
LOCATION:Gairmscoil Mhic Diarmada\, Arranmore Island\, Donegal
CATEGORIES:Leisure and Recreational
ORGANIZER;CN="Donegal County Council and Sports Partnership":MAILTO:@activedonegal.com
END:VEVENT
BEGIN:VEVENT
DTSTART;TZID=Europe/Dublin:20260515T090000
DTEND;TZID=Europe/Dublin:20260515T150000
DTSTAMP:20260425T160339
CREATED:20260413T085144Z
LAST-MODIFIED:20260413T085144Z
UID:10001437-1778835600-1778857200@www.transportforireland.ie
SUMMARY:Cloneyhurke National School
DESCRIPTION:School cycle day for pupils
URL:https://www.transportforireland.ie/bikeweek-event/cloneyhurke-national-school/
LOCATION:Lough Boora
CATEGORIES:Leisure and Recreational
END:VEVENT
BEGIN:VEVENT
DTSTART;TZID=Europe/Dublin:20260515T090000
DTEND;TZID=Europe/Dublin:20260515T150000
DTSTAMP:20260425T160339
CREATED:20260421T142954Z
LAST-MODIFIED:20260421T142954Z
UID:10001620-1778835600-1778857200@www.transportforireland.ie
SUMMARY:TY Cycling Day
DESCRIPTION:A group of 55 Transition Year students from Mulroy College will spend an enjoyable day cycling through the scenic surroundings of Glenveagh Castle. Taking in the breathtaking landscapes and fresh air\, the students will embrace the opportunity to explore the area while staying active. A perfect blend of recreation\, teamwork\, and appreciation of the natural beauty of the Glenveagh estate.
URL:https://www.transportforireland.ie/bikeweek-event/ty-cycling-day/
LOCATION:Glenveagh National Park
CATEGORIES:Leisure and Recreational
ORGANIZER;CN="Donegal County Council and Sports Partnership":MAILTO:@activedonegal.com
END:VEVENT
BEGIN:VEVENT
DTSTART;TZID=Europe/Dublin:20260515T090000
DTEND;TZID=Europe/Dublin:20260515T150000
DTSTAMP:20260425T160339
CREATED:20260421T143000Z
LAST-MODIFIED:20260421T143000Z
UID:10001663-1778835600-1778857200@www.transportforireland.ie
SUMMARY:Bike Fun Day
DESCRIPTION:Scoil Mhuire B&C is excited to host a special Bike Fun Day for pupils who cycle to school. Any child who cycles in will have the opportunity to take part in a range of fun and engaging cycling activities\, facilitated by Luke Cape and Ronan McLaughlin. \nOn the day\, children will get the chance to test their skills and confidence on obstacle courses\, road safety drills\, seesaw ramps\, slow bicycle races\, and roundabout challenges. The event is designed to promote safe cycling while encouraging fun and active travel to school. \nAs an added incentive\, prizes will be awarded to children who cycle to school throughout the week.
URL:https://www.transportforireland.ie/bikeweek-event/bike-fun-day-2/
LOCATION:Scoil Mhuire B&C\, Stranorlar\, Donegal
CATEGORIES:Challenges and Competitions
ORGANIZER;CN="Donegal County Council and Sports Partnership":MAILTO:@activedonegal.com
END:VEVENT
BEGIN:VEVENT
DTSTART;TZID=Europe/Dublin:20260515T090000
DTEND;TZID=Europe/Dublin:20260515T150000
DTSTAMP:20260425T160339
CREATED:20260421T143014Z
LAST-MODIFIED:20260421T143014Z
UID:10001678-1778835600-1778857200@www.transportforireland.ie
SUMMARY:Glenveagh Cycle
DESCRIPTION:During Bike Week\, we will be taking the students on a fun and engaging cycling trip through Glenveagh National Park. The children will cycle through the beautiful park grounds\, enjoying the natural surroundings as we make our way along the grave path towards the waterfall and back again. This activity will help build the children’s confidence in their cycling skills in a safe and supportive environment. Along the way\, they will have the opportunity to explore nature\, take in the scenery and develop their awareness of outdoor safety. Most importantly\, it will be a chance for the students to enjoy being active together\, have fun and create positive memories while cycling.
URL:https://www.transportforireland.ie/bikeweek-event/glenveagh-cycle-3/
LOCATION:Glenveagh National Park
CATEGORIES:Fun and Interactive
ORGANIZER;CN="Donegal County Council and Sports Partnership":MAILTO:@activedonegal.com
END:VEVENT
BEGIN:VEVENT
DTSTART;TZID=Europe/Dublin:20260515T090000
DTEND;TZID=Europe/Dublin:20260515T160000
DTSTAMP:20260425T160339
CREATED:20260422T145644Z
LAST-MODIFIED:20260422T145644Z
UID:10001497-1778835600-1778860800@www.transportforireland.ie
SUMMARY:Glenveagh Cycle
DESCRIPTION:During Bike Week\, we will be taking the students on a fun and engaging cycling trip through Glenveagh National Park. The children will cycle through the beautiful park grounds\, enjoying the natural surroundings as we make our way along the grave path towards the waterfall and back again. This activity will help build the children’s confidence in their cycling skills in a safe and supportive environment. Along the way\, they will have the opportunity to explore nature\, take in the scenery and develop their awareness of outdoor safety. Most importantly\, it will be a chance for the students to enjoy being active together\, have fun and create positive memories while cycling.
URL:https://www.transportforireland.ie/bikeweek-event/glenveagh-cycle-4/
LOCATION:Glenveagh National Park
CATEGORIES:Leisure and Recreational
ORGANIZER;CN="Donegal County Council and Sports Partnership":MAILTO:@activedonegal.com
END:VEVENT
BEGIN:VEVENT
DTSTART;TZID=Europe/Dublin:20260515T093000
DTEND;TZID=Europe/Dublin:20260515T123000
DTSTAMP:20260425T160339
CREATED:20260424T140736Z
LAST-MODIFIED:20260424T140736Z
UID:10002074-1778837400-1778848200@www.transportforireland.ie
SUMMARY:Bike Safety Demonstration St Josephs NS
DESCRIPTION:We delivered this programme to teach the children about the road safety through bike skills while cycling to school and the importance of wearing a helmet and checking your bike before cycling.
URL:https://www.transportforireland.ie/bikeweek-event/bike-safety-demonstration-st-josephs-ns/
LOCATION:St Josephs NS Dundalk\, Dundalk\, Louth\, n/a
CATEGORIES:Fun and Interactive
ATTACH;FMTTYPE=image/png:https://www.transportforireland.ie/wp-content/uploads/2026/04/Bike-week-poster-1-13.png
END:VEVENT
BEGIN:VEVENT
DTSTART;TZID=Europe/Dublin:20260515T100000
DTEND;TZID=Europe/Dublin:20260515T123000
DTSTAMP:20260425T160339
CREATED:20260421T143101Z
LAST-MODIFIED:20260421T143101Z
UID:10001808-1778839200-1778848200@www.transportforireland.ie
SUMMARY:Secondary Schools Royal Canal Greenway Cycle
DESCRIPTION:Our secondary school Royal Canal Greenway cycles take place right throughout bike week. School groups will get the opportunity to cycle along a scenic stretch of the Royal Canal Greenway in Longford. Each cycle will be guided by experienced cycling tutors. Safe cycling practice will be incorporated in to each cycle session. Our cycles on the 15th will take place along the Royal Canal Greenway from Clondra.
URL:https://www.transportforireland.ie/bikeweek-event/secondary-schools-royal-canal-greenway-cycle-5/
LOCATION:Richmond Harbour\, Clondra\, Co. Longford
CATEGORIES:Awareness and Safety,Education and Training,Leisure and Recreational
ATTACH;FMTTYPE=image/png:https://www.transportforireland.ie/wp-content/uploads/2026/04/Bike-Week-Longford-5.png
END:VEVENT
BEGIN:VEVENT
DTSTART;TZID=Europe/Dublin:20260515T100000
DTEND;TZID=Europe/Dublin:20260515T130000
DTSTAMP:20260425T160339
CREATED:20260413T085635Z
LAST-MODIFIED:20260413T085635Z
UID:10001440-1778839200-1778850000@www.transportforireland.ie
SUMMARY:Lynx Cycling Club - school cycle day
DESCRIPTION:Lynx Cycling Club – school cycle day
URL:https://www.transportforireland.ie/bikeweek-event/lynx-cycling-club-school-cycle-day/
LOCATION:Ferbane
CATEGORIES:Leisure and Recreational,Workshops and Maintenance
END:VEVENT
BEGIN:VEVENT
DTSTART;TZID=Europe/Dublin:20260515T183000
DTEND;TZID=Europe/Dublin:20260515T203000
DTSTAMP:20260425T160339
CREATED:20260408T080350Z
LAST-MODIFIED:20260408T080411Z
UID:10001386-1778869800-1778877000@www.transportforireland.ie
SUMMARY:Rock n Roll; Cycle & Climb
DESCRIPTION:Join us for a unique and exciting Bike Week event combining cycling and outdoor rock climbing in the beautiful surroundings of Coolaney!\nThe evening will begin with a guided group cycle from Coolaney Community Park\, led by Northwest Adventure Tours. The route will take approximately 30 minutes on public roads\, so participants should be comfortable cycling in a group and sharing the road with traffic.\nThe cycle will bring us to Scalp na gCapall\, where members of Sligo Climbing Club will introduce you to outdoor rock climbing. This session will focus on roped rock climbing (top-rope climbing)\, where participants are safely secured with harnesses and ropes\, allowing you to climb natural rock faces with guidance and support from experienced climbers. No previous climbing experience is needed!\nAfter the climbing session\, the group will cycle back to Coolaney Community Park to finish.
URL:https://www.transportforireland.ie/bikeweek-event/rock-n-roll-cycle-climb/
LOCATION:Coolaney Community Park\, Cafe Fia\, Sligo\, F56 NH10
CATEGORIES:Community Engagement,Fun and Interactive,Leisure and Recreational
ATTACH;FMTTYPE=image/png:https://www.transportforireland.ie/wp-content/uploads/2026/04/Rock-NRoll.png
END:VEVENT
BEGIN:VEVENT
DTSTART;TZID=Europe/Dublin:20260516T080000
DTEND;TZID=Europe/Dublin:20260516T170000
DTSTAMP:20260425T160340
CREATED:20260420T105551Z
LAST-MODIFIED:20260420T105551Z
UID:10001679-1778918400-1778950800@www.transportforireland.ie
SUMMARY:Trip to Glenveagh
DESCRIPTION:A day of cycling in the stunning surroundings of Glenveagh. Bikes will be hired for the day\, giving participants the chance to explore the area and enjoy its scenic routes at a relaxed pace. \nThis is a fun\, social outing suitable for all abilities\, offering an opportunity to experience one of Ireland’s most beautiful landscapes on two wheels. The focus is on enjoyment\, fresh air\, and spending time outdoors in good company.
URL:https://www.transportforireland.ie/bikeweek-event/trip-to-glenveagh/
LOCATION:Glenveagh\, Glenveagh National Park\, Donegal
CATEGORIES:Fun and Interactive
ORGANIZER;CN="Donegal County Council and Sports Partnership":MAILTO:@activedonegal.com
END:VEVENT
END:VCALENDAR