BEGIN:VCALENDAR
VERSION:2.0
PRODID:-//Transport for Ireland - ECPv6.15.20//NONSGML v1.0//EN
CALSCALE:GREGORIAN
METHOD:PUBLISH
X-WR-CALNAME:Transport for Ireland
X-ORIGINAL-URL:https://www.transportforireland.ie
X-WR-CALDESC:Events for Transport for Ireland
REFRESH-INTERVAL;VALUE=DURATION:PT1H
X-Robots-Tag:noindex
X-PUBLISHED-TTL:PT1H
BEGIN:VTIMEZONE
TZID:Europe/Dublin
BEGIN:STANDARD
TZOFFSETFROM:+0000
TZOFFSETTO:+0100
TZNAME:IST
DTSTART:20250330T010000
END:STANDARD
BEGIN:DAYLIGHT
TZOFFSETFROM:+0100
TZOFFSETTO:+0000
TZNAME:GMT
DTSTART:20251026T010000
END:DAYLIGHT
BEGIN:STANDARD
TZOFFSETFROM:+0000
TZOFFSETTO:+0100
TZNAME:IST
DTSTART:20260329T010000
END:STANDARD
BEGIN:DAYLIGHT
TZOFFSETFROM:+0100
TZOFFSETTO:+0000
TZNAME:GMT
DTSTART:20261025T010000
END:DAYLIGHT
BEGIN:STANDARD
TZOFFSETFROM:+0000
TZOFFSETTO:+0100
TZNAME:IST
DTSTART:20270328T010000
END:STANDARD
BEGIN:DAYLIGHT
TZOFFSETFROM:+0100
TZOFFSETTO:+0000
TZNAME:GMT
DTSTART:20271031T010000
END:DAYLIGHT
END:VTIMEZONE
BEGIN:VEVENT
DTSTART;TZID=Europe/Dublin:20260509T080000
DTEND;TZID=Europe/Dublin:20260517T170000
DTSTAMP:20260421T231238
CREATED:20260417T091531Z
LAST-MODIFIED:20260417T091531Z
UID:10001731-1778313600-1779037200@www.transportforireland.ie
SUMMARY:Tour de Cork Children's Art Competition
DESCRIPTION:Tour de Cork – Children’s Art Competition. Children around Cork County will be in with a chance to see their cycling themed art entry printed on a t-shirt. Go to your local library\, pick up an entry form and start drawing!
URL:https://www.transportforireland.ie/bikeweek-event/tour-de-cork-childrens-art-competition-2/
LOCATION:25 branch & 4 mobile libraries across Cork County\, Cork County\, Cork
CATEGORIES:Challenges and Competitions
ATTACH;FMTTYPE=image/png:https://www.transportforireland.ie/wp-content/uploads/2026/04/Add-a-heading-Facebook-Profile-Frame-Facebook-Profile-Picture-1.png
END:VEVENT
BEGIN:VEVENT
DTSTART;TZID=Europe/Dublin:20260509T090000
DTEND;TZID=Europe/Dublin:20260509T163000
DTSTAMP:20260421T231238
CREATED:20260420T150554Z
LAST-MODIFIED:20260420T150554Z
UID:10001480-1778317200-1778344200@www.transportforireland.ie
SUMMARY:Introduction to Cycling Course - primary school teachers
DESCRIPTION:Cycling Ireland will deliver a one day Introduction to Cycling Course for primary school teachers
URL:https://www.transportforireland.ie/bikeweek-event/introduction-to-cycling-course-primary-school-teachers/
LOCATION:Clare Sports Partnership\, C/o Clare Education Centre\, Government Buildings\, Kilrush Rd\, Clare\, V95 F782
CATEGORIES:Awareness and Safety,Education and Training,Fun and Interactive
END:VEVENT
BEGIN:VEVENT
DTSTART;TZID=Europe/Dublin:20260509T110000
DTEND;TZID=Europe/Dublin:20260509T130000
DTSTAMP:20260421T231239
CREATED:20260420T150129Z
LAST-MODIFIED:20260420T150129Z
UID:10001779-1778324400-1778331600@www.transportforireland.ie
SUMMARY:Vintage Bike Display
DESCRIPTION:Vintage Bike Display – Roscommon Town \nJoin us for a special Vintage Bike Display in the heart of Roscommon Town on Saturday\, 9th May 2026\, from 11:00am to 1:00pm at The Square. \nThis free community event will showcase a stunning collection of classic and vintage bicycles\, celebrating the craftsmanship\, history\, and timeless design of cycling from years gone by. Whether you’re a cycling enthusiast\, a collector\, or simply curious\, this is a great opportunity to get up close to beautifully restored bikes and meet fellow enthusiasts. \nBring family and friends along for a relaxed morning in the town centre\, enjoy the displays\, and take a step back in cycling history right in the heart of Roscommon. \nLocation: The Square\, Roscommon Town\nDate: 9th May 2026\nTime: 11:00am – 1:00pm\nAdmission: Free
URL:https://www.transportforireland.ie/bikeweek-event/vintage-bike-display-2/
LOCATION:The Square Roscommon Town\, Roscommon Town\, Roscommon
CATEGORIES:Bike Festivals and Exhibitions
ATTACH;FMTTYPE=image/png:https://www.transportforireland.ie/wp-content/uploads/2026/04/Vintage.png
END:VEVENT
BEGIN:VEVENT
DTSTART;TZID=Europe/Dublin:20260509T110000
DTEND;TZID=Europe/Dublin:20260510T160000
DTSTAMP:20260421T231239
CREATED:20260417T100649Z
LAST-MODIFIED:20260417T100649Z
UID:10001502-1778324400-1778428800@www.transportforireland.ie
SUMMARY:Ballyhoura Bike Week 2026
DESCRIPTION:Ballyhoura is celebrating Bike Week 2026 with a fun-filled weekend of mountain biking adventures\, skills sessions\, and family-friendly rides.\nBallyhoura CLG & Cycling Ireland are delighted to offer a host of different sessions across two days. \nBallyhoura Bike Week\nSaturday 9th May\nDrop-In Skills Area\n11:00am – 4:00pm\nNo booking required. \nCome and give mountain biking a go in our drop-in skills area. This supervised area will include flat-ground skills practice along with features such as ramps and an MTB Hopper to let riders try some fun skills in a controlled environment. Just bring your bike and join in at any stage during the day. \nTry MTB – Teens and Adults \nThese beginner-friendly sessions are ideal for anyone looking to try mountain biking for the first time. Each session will include bike set-up\, helmet checks\, and an introduction to basic skills such as braking\, gears\, and trail awareness\, followed by a ride on the green loop. \nSession Times: \n11:00am – 12:30pm\n1:00pm – 2:30pm\n2:30pm – 4:00pm\nPre-booking is strongly advised. If spaces remain\, limited on-the-day sign-up may be available. \nIntermediate Mountain Biking\nOwn bike required\nThese sessions are aimed at riders with some off-road experience who want to build confidence and develop their skills further. Groups will head out on the blue trail and descend selected red sections. \nSession Times: \n10:30am – 12:30pm\n1:00pm – 3:00pm\nPre-booking is strongly advised. If spaces remain\, limited on-the-day sign-up may be available. \nAdvanced Skills Sessions\nOwn bike essential\nThese focused sessions are for more experienced riders who want to work on specific technical skills. \nSession Options: \nTabletops / Introduction to Jumps — 10:30am – 12:00pm\nPump and Flow — 12:30pm – 2:00pm\nTechnical / Fast Cornering — 2:30pm – 4:00pm\nAdvance booking required. \nSunday 10th May\nGuided group rides will run with four staff in total\, with one leader at the front and one at the back of each group. \nGroup Ride – Blue Loop\n10:00am – 11:30am\nA relaxed group ride on the blue loop. Children are welcome when accompanied by a parent or guardian. \nGroup Ride – Longer Route\n9:30am – 12:00pm\nA longer group ride for teens and adults\, likely including some red trail sections. \nBallyhoura Bike Week Saturday 9th & 10th May – Saturday\, May
URL:https://www.transportforireland.ie/bikeweek-event/ballyhoura-bike-week-2026/
LOCATION:Ballyhoura Mountain Bike Trails\, Ardpatrick\, Kilmallock\, Limerick
CATEGORIES:Community Engagement,Education and Training,Leisure and Recreational
END:VEVENT
BEGIN:VEVENT
DTSTART;TZID=Europe/Dublin:20260509T140000
DTEND;TZID=Europe/Dublin:20260509T160000
DTSTAMP:20260421T231239
CREATED:20260420T145839Z
LAST-MODIFIED:20260420T145839Z
UID:10001695-1778335200-1778342400@www.transportforireland.ie
SUMMARY:Slaney Cycling - MTB Skills Sessions
DESCRIPTION:Slaney Cycling in association with Cycling Ireland are delighted to run a Mountain Bike skills sessions as part of Bike Week 2026.\nThis will be aimed at kids of all ages and will comprise hands-on training to improve rider confidence\, technical ability\, and safety. We will be focusing on essential techniques like body positioning\, optimal line choice\, braking efficiency\, and navigating features such as drops\, jumps\, and tight switchbacks. These sessions are aimed at Beginners or cyclists looking to take their biking off-road for the first time. \nThe MTB Skills Sessions will be held in the Showgrounds Enniscorthy (Y21 XP63) on Sunday the 9th May (TBC) between 2pm and 4pm. Please bring your own bike and a drink for the event. \nWe will also be doing some tutorials on bike maintenance and side of road fixes. \n#SlaneyCyclingClub #Bikeweek #Cyclingireland @cyclingireland
URL:https://www.transportforireland.ie/bikeweek-event/slaney-cycling-mtb-skills-sessions/
LOCATION:Enniscorthy Showgrounds\, Ross Road\, Enniscorthy\, Wexford\, Y21 XP63
CATEGORIES:Education and Training,Fun and Interactive,Workshops and Maintenance
ATTACH;FMTTYPE=image/png:https://www.transportforireland.ie/wp-content/uploads/2026/04/SCC-Logo-1.png
END:VEVENT
BEGIN:VEVENT
DTSTART;TZID=Europe/Dublin:20260509T150000
DTEND;TZID=Europe/Dublin:20260509T170000
DTSTAMP:20260421T231239
CREATED:20260420T151346Z
LAST-MODIFIED:20260420T151346Z
UID:10001896-1778338800-1778346000@www.transportforireland.ie
SUMMARY:Cycle Cross for Kids - Ballypatrick
DESCRIPTION:Slievenamon Cycling Club will host a cyclocross event for children\, aimed at promoting cycling in a fun and accessible way. The event will take place at Ballypatrick Sports Grounds and will see children under the age of 12 taking part in short races on a purpose‑built circuit around the facility. The event is designed to encourage participation\, develop basic bike skills\, and introduce young riders to cyclocross in a safe and enjoyable environment. It will run on May 9th from 3pm to 5pm.
URL:https://www.transportforireland.ie/bikeweek-event/cycle-cross-for-kids-ballypatrick/
LOCATION:Ballypatrick Sports Grounds\, Ballypatrick\, Tipperary\, Munster
CATEGORIES:Challenges and Competitions,Community Engagement,Fun and Interactive
END:VEVENT
END:VCALENDAR