BEGIN:VCALENDAR
VERSION:2.0
PRODID:-//Transport for Ireland - ECPv6.15.20//NONSGML v1.0//EN
CALSCALE:GREGORIAN
METHOD:PUBLISH
X-WR-CALNAME:Transport for Ireland
X-ORIGINAL-URL:https://www.transportforireland.ie
X-WR-CALDESC:Events for Transport for Ireland
REFRESH-INTERVAL;VALUE=DURATION:PT1H
X-Robots-Tag:noindex
X-PUBLISHED-TTL:PT1H
BEGIN:VTIMEZONE
TZID:Europe/Dublin
BEGIN:STANDARD
TZOFFSETFROM:+0000
TZOFFSETTO:+0100
TZNAME:IST
DTSTART:20250330T010000
END:STANDARD
BEGIN:DAYLIGHT
TZOFFSETFROM:+0100
TZOFFSETTO:+0000
TZNAME:GMT
DTSTART:20251026T010000
END:DAYLIGHT
BEGIN:STANDARD
TZOFFSETFROM:+0000
TZOFFSETTO:+0100
TZNAME:IST
DTSTART:20260329T010000
END:STANDARD
BEGIN:DAYLIGHT
TZOFFSETFROM:+0100
TZOFFSETTO:+0000
TZNAME:GMT
DTSTART:20261025T010000
END:DAYLIGHT
BEGIN:STANDARD
TZOFFSETFROM:+0000
TZOFFSETTO:+0100
TZNAME:IST
DTSTART:20270328T010000
END:STANDARD
BEGIN:DAYLIGHT
TZOFFSETFROM:+0100
TZOFFSETTO:+0000
TZNAME:GMT
DTSTART:20271031T010000
END:DAYLIGHT
END:VTIMEZONE
BEGIN:VEVENT
DTSTART;TZID=Europe/Dublin:20260509T080000
DTEND;TZID=Europe/Dublin:20260517T170000
DTSTAMP:20260422T004234
CREATED:20260417T091531Z
LAST-MODIFIED:20260417T091531Z
UID:10001731-1778313600-1779037200@www.transportforireland.ie
SUMMARY:Tour de Cork Children's Art Competition
DESCRIPTION:Tour de Cork – Children’s Art Competition. Children around Cork County will be in with a chance to see their cycling themed art entry printed on a t-shirt. Go to your local library\, pick up an entry form and start drawing!
URL:https://www.transportforireland.ie/bikeweek-event/tour-de-cork-childrens-art-competition-2/
LOCATION:25 branch & 4 mobile libraries across Cork County\, Cork County\, Cork
CATEGORIES:Challenges and Competitions
ATTACH;FMTTYPE=image/png:https://www.transportforireland.ie/wp-content/uploads/2026/04/Add-a-heading-Facebook-Profile-Frame-Facebook-Profile-Picture-1.png
END:VEVENT
BEGIN:VEVENT
DTSTART;TZID=Europe/Dublin:20260509T110000
DTEND;TZID=Europe/Dublin:20260510T160000
DTSTAMP:20260422T004234
CREATED:20260417T100649Z
LAST-MODIFIED:20260417T100649Z
UID:10001502-1778324400-1778428800@www.transportforireland.ie
SUMMARY:Ballyhoura Bike Week 2026
DESCRIPTION:Ballyhoura is celebrating Bike Week 2026 with a fun-filled weekend of mountain biking adventures\, skills sessions\, and family-friendly rides.\nBallyhoura CLG & Cycling Ireland are delighted to offer a host of different sessions across two days. \nBallyhoura Bike Week\nSaturday 9th May\nDrop-In Skills Area\n11:00am – 4:00pm\nNo booking required. \nCome and give mountain biking a go in our drop-in skills area. This supervised area will include flat-ground skills practice along with features such as ramps and an MTB Hopper to let riders try some fun skills in a controlled environment. Just bring your bike and join in at any stage during the day. \nTry MTB – Teens and Adults \nThese beginner-friendly sessions are ideal for anyone looking to try mountain biking for the first time. Each session will include bike set-up\, helmet checks\, and an introduction to basic skills such as braking\, gears\, and trail awareness\, followed by a ride on the green loop. \nSession Times: \n11:00am – 12:30pm\n1:00pm – 2:30pm\n2:30pm – 4:00pm\nPre-booking is strongly advised. If spaces remain\, limited on-the-day sign-up may be available. \nIntermediate Mountain Biking\nOwn bike required\nThese sessions are aimed at riders with some off-road experience who want to build confidence and develop their skills further. Groups will head out on the blue trail and descend selected red sections. \nSession Times: \n10:30am – 12:30pm\n1:00pm – 3:00pm\nPre-booking is strongly advised. If spaces remain\, limited on-the-day sign-up may be available. \nAdvanced Skills Sessions\nOwn bike essential\nThese focused sessions are for more experienced riders who want to work on specific technical skills. \nSession Options: \nTabletops / Introduction to Jumps — 10:30am – 12:00pm\nPump and Flow — 12:30pm – 2:00pm\nTechnical / Fast Cornering — 2:30pm – 4:00pm\nAdvance booking required. \nSunday 10th May\nGuided group rides will run with four staff in total\, with one leader at the front and one at the back of each group. \nGroup Ride – Blue Loop\n10:00am – 11:30am\nA relaxed group ride on the blue loop. Children are welcome when accompanied by a parent or guardian. \nGroup Ride – Longer Route\n9:30am – 12:00pm\nA longer group ride for teens and adults\, likely including some red trail sections. \nBallyhoura Bike Week Saturday 9th & 10th May – Saturday\, May
URL:https://www.transportforireland.ie/bikeweek-event/ballyhoura-bike-week-2026/
LOCATION:Ballyhoura Mountain Bike Trails\, Ardpatrick\, Kilmallock\, Limerick
CATEGORIES:Community Engagement,Education and Training,Leisure and Recreational
END:VEVENT
BEGIN:VEVENT
DTSTART;TZID=Europe/Dublin:20260510T100000
DTEND;TZID=Europe/Dublin:20260510T105000
DTSTAMP:20260422T004234
CREATED:20260408T075758Z
LAST-MODIFIED:20260408T075758Z
UID:10001387-1778407200-1778410200@www.transportforireland.ie
SUMMARY:Balance Bike Fun - Coolaney
DESCRIPTION:A balance bike is a lightweight\, pedal-less child’s bike which facilitates balance and propulsion. Children run along whilst seated\, push off the ground to create forward movement and use their feet to slow down and stop safely. Balance Bikes help children develop gross motor skills\, spatial awareness\, bilateral co-ordination and enhance their physical literacy.\nParent must stay on site for full lesson.
URL:https://www.transportforireland.ie/bikeweek-event/balance-bike-fun-coolaney/
LOCATION:Coolaney Community Park\, Cafe Fia\, Sligo\, F56 NH10
CATEGORIES:Access and Inclusion,Education and Training,Fun and Interactive
ATTACH;FMTTYPE=image/png:https://www.transportforireland.ie/wp-content/uploads/2026/04/Balance-Bike-Coolaney.png
END:VEVENT
BEGIN:VEVENT
DTSTART;TZID=Europe/Dublin:20260510T110000
DTEND;TZID=Europe/Dublin:20260510T130000
DTSTAMP:20260422T004234
CREATED:20260408T075833Z
LAST-MODIFIED:20260408T075833Z
UID:10001388-1778410800-1778418000@www.transportforireland.ie
SUMMARY:Bike Skills for Kids – Coolaney
DESCRIPTION:Fun\, safe\, and active cycling sessions helping kids build skills\, confidence\, and a love for being on the bike!\nBeginner / Nervous (5 to 10 years) – For children who are just starting on a pedal bike\, struggle with getting started\, or wobble a lot while cycling. This level focuses on improving balance and pedalling skills.\nImprover / Advanced (8 to 12 years) – For children who can start and stop independently and cycle in a straight line but need to improve their braking and cornering skills.\nChildren should bring their own bikes to get comfortable handling them\, but bikes are available if needed—these must be booked when registering. Please ensure that bike brakes are working properly\, and all children must wear a helmet for the entire session.
URL:https://www.transportforireland.ie/bikeweek-event/bike-skills-for-kids-coolaney/
LOCATION:Coolaney Community Park\, Cafe Fia\, Sligo\, F56 NH10
CATEGORIES:Community Engagement,Education and Training
ATTACH;FMTTYPE=image/png:https://www.transportforireland.ie/wp-content/uploads/2026/04/Skills-Coolaney.png
END:VEVENT
BEGIN:VEVENT
DTSTART;TZID=Europe/Dublin:20260510T120000
DTEND;TZID=Europe/Dublin:20260510T160000
DTSTAMP:20260422T004234
CREATED:20260420T160442Z
LAST-MODIFIED:20260420T160442Z
UID:10001651-1778414400-1778428800@www.transportforireland.ie
SUMMARY:Pedal Power
DESCRIPTION:Join Dublin City Council for its flagship Bike Week event at Pedal Power 2026! This is a family-friendly festival for all things bike. We will have BMX displays from Fire Ride\, challenges\, workshops\, a cycle school and much more.
URL:https://www.transportforireland.ie/bikeweek-event/pedal-power/
LOCATION:Eamonn Ceannt Park\, Clogher Road\, Crumlin\, Dublin 12\, Crumlin\, Dublin\, NA
CATEGORIES:Access and Inclusion,Bike Festivals and Exhibitions,Challenges and Competitions,Community Engagement,Fun and Interactive,Leisure and Recreational,Workshops and Maintenance
END:VEVENT
BEGIN:VEVENT
DTSTART;TZID=Europe/Dublin:20260510T123000
DTEND;TZID=Europe/Dublin:20260510T153000
DTSTAMP:20260422T004234
CREATED:20260420T145940Z
LAST-MODIFIED:20260420T145940Z
UID:10001880-1778416200-1778427000@www.transportforireland.ie
SUMMARY:Intro to Mountain Biking at Castlecomer Discovery Park
DESCRIPTION:Come and try mountain biking for free! Discover the joy of trail riding thanks to this free event funded by Kilkenny County Council as part of Bike Week 2026.\nAdults: 12.30-1.30pm bikes and helmets included\nTeens age 12-17: 1.30-2.30pm bikes and helmets included\nKids age 7-11: 2.30-3.30pm own bikes required\nTo book\, contact Aisling at 089 4750183 or aisling@trailbikebody.ie
URL:https://www.transportforireland.ie/bikeweek-event/intro-to-mountain-biking-at-castlecomer-discovery-park/
LOCATION:Castlecomer Discovery Park\, The Estate Yard\, Drumgoole\, Castlecomer\, Castlecomer\, Co. Kilkenny\, R95HY7X\, Ireland
CATEGORIES:Leisure and Recreational
ATTACH;FMTTYPE=image/jpeg:https://www.transportforireland.ie/wp-content/uploads/2026/04/Mountain-Biking-Castlecomer.jpg
ORGANIZER;CN="Kilkenny County Council and Sports Partnership":MAILTO:caitriona.corr@kilkennycoco.ie
END:VEVENT
END:VCALENDAR