BEGIN:VCALENDAR
VERSION:2.0
PRODID:-//Transport for Ireland - ECPv6.15.20//NONSGML v1.0//EN
CALSCALE:GREGORIAN
METHOD:PUBLISH
X-WR-CALNAME:Transport for Ireland
X-ORIGINAL-URL:https://www.transportforireland.ie
X-WR-CALDESC:Events for Transport for Ireland
REFRESH-INTERVAL;VALUE=DURATION:PT1H
X-Robots-Tag:noindex
X-PUBLISHED-TTL:PT1H
BEGIN:VTIMEZONE
TZID:Europe/Dublin
BEGIN:STANDARD
TZOFFSETFROM:+0000
TZOFFSETTO:+0100
TZNAME:IST
DTSTART:20250330T010000
END:STANDARD
BEGIN:DAYLIGHT
TZOFFSETFROM:+0100
TZOFFSETTO:+0000
TZNAME:GMT
DTSTART:20251026T010000
END:DAYLIGHT
BEGIN:STANDARD
TZOFFSETFROM:+0000
TZOFFSETTO:+0100
TZNAME:IST
DTSTART:20260329T010000
END:STANDARD
BEGIN:DAYLIGHT
TZOFFSETFROM:+0100
TZOFFSETTO:+0000
TZNAME:GMT
DTSTART:20261025T010000
END:DAYLIGHT
BEGIN:STANDARD
TZOFFSETFROM:+0000
TZOFFSETTO:+0100
TZNAME:IST
DTSTART:20270328T010000
END:STANDARD
BEGIN:DAYLIGHT
TZOFFSETFROM:+0100
TZOFFSETTO:+0000
TZNAME:GMT
DTSTART:20271031T010000
END:DAYLIGHT
END:VTIMEZONE
BEGIN:VEVENT
DTSTART;TZID=Europe/Dublin:20260509T080000
DTEND;TZID=Europe/Dublin:20260517T170000
DTSTAMP:20260422T102241
CREATED:20260417T091531Z
LAST-MODIFIED:20260417T091531Z
UID:10001731-1778313600-1779037200@www.transportforireland.ie
SUMMARY:Tour de Cork Children's Art Competition
DESCRIPTION:Tour de Cork – Children’s Art Competition. Children around Cork County will be in with a chance to see their cycling themed art entry printed on a t-shirt. Go to your local library\, pick up an entry form and start drawing!
URL:https://www.transportforireland.ie/bikeweek-event/tour-de-cork-childrens-art-competition-2/
LOCATION:25 branch & 4 mobile libraries across Cork County\, Cork County\, Cork
CATEGORIES:Challenges and Competitions
ATTACH;FMTTYPE=image/png:https://www.transportforireland.ie/wp-content/uploads/2026/04/Add-a-heading-Facebook-Profile-Frame-Facebook-Profile-Picture-1.png
END:VEVENT
BEGIN:VEVENT
DTSTART;TZID=Europe/Dublin:20260509T090000
DTEND;TZID=Europe/Dublin:20260517T150000
DTSTAMP:20260422T102241
CREATED:20260422T080408Z
LAST-MODIFIED:20260422T080408Z
UID:10001588-1778317200-1779030000@www.transportforireland.ie
SUMMARY:Lawrencetown Lets Get Active
DESCRIPTION:Community Event \nCycling Without Age – Trishaw Demo\nA short trishaw demonstration for older adults\, with spins around the village and expressions of interest taken for future participation. (13th May 10.00am – 10.30am) \nLawrencetown National School will host a range of school‑based cycling events throughout bike week\, promoting bike skills\, road safety and fun for pupils.
URL:https://www.transportforireland.ie/bikeweek-event/lawrencetown-lets-get-active/
LOCATION:Lawrencetown Community Hall\, Ballinasloe\, Co. Galway.
CATEGORIES:Awareness and Safety,Education and Training,Fun and Interactive,Leisure and Recreational
END:VEVENT
BEGIN:VEVENT
DTSTART;TZID=Europe/Dublin:20260516T080000
DTEND;TZID=Europe/Dublin:20260516T170000
DTSTAMP:20260422T102241
CREATED:20260420T140515Z
LAST-MODIFIED:20260420T140515Z
UID:10001702-1778918400-1778950800@www.transportforireland.ie
SUMMARY:Cycling Skills & Safety Talk in Primary Schools
DESCRIPTION:Safety talk & tips on how to cycle safely.\nCorrect bike size\, importance of helmets.\nPractical drills\, activities and obstacle course races.
URL:https://www.transportforireland.ie/bikeweek-event/cycling-skills-safety-talk-in-primary-schools/
LOCATION:Our Ladys Secondary School\, Laurel Hill\, Castleblayney\, Monaghan\, 64770M
CATEGORIES:Fun and Interactive
ATTACH;FMTTYPE=image/jpeg:https://www.transportforireland.ie/wp-content/uploads/2026/04/Primary-Schools-Cycle-1.jpg
ORGANIZER;CN="Monaghan County Council and Sports Partnership":MAILTO:lduffy2@monaghancoco.ie
END:VEVENT
BEGIN:VEVENT
DTSTART;TZID=Europe/Dublin:20260516T100000
DTEND;TZID=Europe/Dublin:20260516T140000
DTSTAMP:20260422T102241
CREATED:20260416T155209Z
LAST-MODIFIED:20260416T155209Z
UID:10001709-1778925600-1778940000@www.transportforireland.ie
SUMMARY:Ashbourne Bike Safety Event
DESCRIPTION:Bike Safety Event at Ashbourne Community School for all of the community. Bike safety demonstrations and information led by the Rediscover Centre and Ashbourne Wheelers CC
URL:https://www.transportforireland.ie/bikeweek-event/ashbourne-bike-safety-event/
LOCATION:Ashbourne Community School\, 1 Deerpark\, Ashbourne\, Co Meath
CATEGORIES:Community Engagement
END:VEVENT
BEGIN:VEVENT
DTSTART;TZID=Europe/Dublin:20260516T110000
DTEND;TZID=Europe/Dublin:20260516T130000
DTSTAMP:20260422T102241
CREATED:20260421T144225Z
LAST-MODIFIED:20260421T144225Z
UID:10001890-1778929200-1778936400@www.transportforireland.ie
SUMMARY:Clonmel Mountain Biking Club - Open Spin
DESCRIPTION:Clonmel Mountain Biking Club will host an open spin\, inviting anyone interested to come along and try mountain biking in a welcoming and supportive environment. Participants are encouraged to bring their own bikes and appropriate safety gear. The club will also have a small number of e‑mountain bikes available\, offering people the opportunity to try one out and experience off‑road cycling with extra assistance. This open spin is aimed at encouraging new riders\, promoting safe riding\, and giving people a chance to sample what the club has to offer.
URL:https://www.transportforireland.ie/bikeweek-event/clonmel-mountain-biking-club-open-spin/
LOCATION:Cannon Hill\, Careys Castle\, Clonmel\, Munster
CATEGORIES:Access and Inclusion,Fun and Interactive
END:VEVENT
END:VCALENDAR