BEGIN:VCALENDAR
VERSION:2.0
PRODID:-//Transport for Ireland - ECPv6.15.20//NONSGML v1.0//EN
CALSCALE:GREGORIAN
METHOD:PUBLISH
X-WR-CALNAME:Transport for Ireland
X-ORIGINAL-URL:https://www.transportforireland.ie/ga/
X-WR-CALDESC:Events for Transport for Ireland
REFRESH-INTERVAL;VALUE=DURATION:PT1H
X-Robots-Tag:noindex
X-PUBLISHED-TTL:PT1H
BEGIN:VTIMEZONE
TZID:Europe/Dublin
BEGIN:STANDARD
TZOFFSETFROM:+0000
TZOFFSETTO:+0100
TZNAME:IST
DTSTART:20250330T010000
END:STANDARD
BEGIN:DAYLIGHT
TZOFFSETFROM:+0100
TZOFFSETTO:+0000
TZNAME:GMT
DTSTART:20251026T010000
END:DAYLIGHT
BEGIN:STANDARD
TZOFFSETFROM:+0000
TZOFFSETTO:+0100
TZNAME:IST
DTSTART:20260329T010000
END:STANDARD
BEGIN:DAYLIGHT
TZOFFSETFROM:+0100
TZOFFSETTO:+0000
TZNAME:GMT
DTSTART:20261025T010000
END:DAYLIGHT
BEGIN:STANDARD
TZOFFSETFROM:+0000
TZOFFSETTO:+0100
TZNAME:IST
DTSTART:20270328T010000
END:STANDARD
BEGIN:DAYLIGHT
TZOFFSETFROM:+0100
TZOFFSETTO:+0000
TZNAME:GMT
DTSTART:20271031T010000
END:DAYLIGHT
END:VTIMEZONE
BEGIN:VEVENT
DTSTART;TZID=Europe/Dublin:20260514T120000
DTEND;TZID=Europe/Dublin:20260514T140000
DTSTAMP:20260425T142024
CREATED:20260422T115840Z
LAST-MODIFIED:20260422T132611Z
UID:10001959-1778760000-1778767200@www.transportforireland.ie
SUMMARY:Coffee & Cranks: Come and Show Off Your Wheels
DESCRIPTION:Come hang out and chat with other bike enthusiasts\, chat bike builds\, improvements and get to know each other
URL:https://www.transportforireland.ie/ga/bikeweek-event/coffee-cranks-come-and-show-off-your-wheels/
LOCATION:The Bike Circus\, The Bike Circus
CATEGORIES:Leisure and Recreational
ATTACH;FMTTYPE=image/png:https://www.transportforireland.ie/wp-content/uploads/2026/04/Bike-Week-Image-60.png
END:VEVENT
BEGIN:VEVENT
DTSTART;TZID=Europe/Dublin:20260514T120000
DTEND;TZID=Europe/Dublin:20260514T150000
DTSTAMP:20260425T142024
CREATED:20260421T141031Z
LAST-MODIFIED:20260421T141031Z
UID:10001539-1778760000-1778770800@www.transportforireland.ie
SUMMARY:Lunch Time Spins
DESCRIPTION:Take a break from the desk and pedal your way through Cork’s Greenway! This lunchtime cycle is a perfect mix of fresh air\, scenic views\, and gentle exercise—ideal for clearing your mind and boosting your afternoon energy.
URL:https://www.transportforireland.ie/ga/bikeweek-event/lunch-time-spins-2/
LOCATION:Marina Market Cork Bike Hire Depot\, Marina Market Cork Bike Hire Depot
CATEGORIES:Leisure and Recreational
ATTACH;FMTTYPE=image/png:https://www.transportforireland.ie/wp-content/uploads/2026/04/Bike-Week-Image-25.png
END:VEVENT
BEGIN:VEVENT
DTSTART;TZID=Europe/Dublin:20260514T120000
DTEND;TZID=Europe/Dublin:20260514T190000
DTSTAMP:20260425T142024
CREATED:20260422T115741Z
LAST-MODIFIED:20260422T115741Z
UID:10001969-1778760000-1778785200@www.transportforireland.ie
SUMMARY:Cobh & Great Island Cycle
DESCRIPTION:A cycle out to Great Island out the old railway greenway. Cross on the ferry before cycling around Great Island There will be a break for a picnic in Marlog before Cobh with panoramic views of Cork harbour and beginning the journey back to the city.
URL:https://www.transportforireland.ie/ga/bikeweek-event/cobh-great-island-cycle/
LOCATION:Meeting point Michael Coilin on a bike statue on the Grand Parade\, Meeting point Michael Coilin on a bike statue on the Grand Parade
CATEGORIES:Leisure and Recreational
ATTACH;FMTTYPE=image/png:https://www.transportforireland.ie/wp-content/uploads/2026/04/Bike-Week-Image-70.png
END:VEVENT
BEGIN:VEVENT
DTSTART;TZID=Europe/Dublin:20260514T140000
DTEND;TZID=Europe/Dublin:20260514T160000
DTSTAMP:20260425T142025
CREATED:20260417T091722Z
LAST-MODIFIED:20260417T091722Z
UID:10001538-1778767200-1778774400@www.transportforireland.ie
SUMMARY:Burrito and Bikes – Greenway Spin to Mogeely
DESCRIPTION:Start your Bike Week the right way—with a tasty burrito and a scenic spin! Burrito & Bites invites you to kick things off at the Nachos Restaurant before heading out on a guided cycle along the Midleton–Youghal Greenway to Mogeely and back (approx. 16km return).
URL:https://www.transportforireland.ie/ga/bikeweek-event/burrito-and-bikes-greenway-spin-to-mogeely/
LOCATION:Nachos Restaurant\, P25 EY23\, Nachos Restaurant\, P25 EY23\, P25 EY23
CATEGORIES:Leisure and Recreational
ATTACH;FMTTYPE=image/png:https://www.transportforireland.ie/wp-content/uploads/2026/04/Bike-Week-Image-24.png
END:VEVENT
BEGIN:VEVENT
DTSTART;TZID=Europe/Dublin:20260514T180000
DTEND;TZID=Europe/Dublin:20260514T200000
DTSTAMP:20260425T142025
CREATED:20260421T141847Z
LAST-MODIFIED:20260421T141847Z
UID:10001536-1778781600-1778788800@www.transportforireland.ie
SUMMARY:Rothaíocht agus Comhrá – Cycle & Conversation Through Irish
DESCRIPTION:Participants will meet on St Patrick’s Quay before setting out on a relaxed guided cycle along the Cork Harbour Greenway. The cycle will follow the riverside route towards Blackrock and Mahon using cycle lanes and greenways. The pace will be easy and there will be short stops along the way where participants can chat through Irish while hearing about the history and development of Cork Harbour. Bikes and helmets can be provided for anyone who needs them. Children should be 16+. Rothaigh ar an mbóthar glas i gCuan Chorcaí agus bain taitneamh as comhrá trí Ghaeilge agus tú ag foghlaim beagán faoi fhorbairt Chuan Chorcaí.
URL:https://www.transportforireland.ie/ga/bikeweek-event/rothaiocht-agus-comhra-cycle-conversation-through-irish/
LOCATION:Cork Harbour Greenway\, Cork Harbour Greenway
CATEGORIES:Leisure and Recreational
ATTACH;FMTTYPE=image/png:https://www.transportforireland.ie/wp-content/uploads/2026/04/Bike-Week-Image-22.png
END:VEVENT
BEGIN:VEVENT
DTSTART;TZID=Europe/Dublin:20260514T180000
DTEND;TZID=Europe/Dublin:20260514T200000
DTSTAMP:20260425T142025
CREATED:20260422T145535Z
LAST-MODIFIED:20260422T145535Z
UID:10001960-1778781600-1778788800@www.transportforireland.ie
SUMMARY:Cycle to overnight camping trip
DESCRIPTION:Cycle 10km from Clonakilty to our secret location at the farm of a cycling supporter. Bring all your gear to camp overnight on your bike. We will cycle back to Clonakilty for 11 am on the next day\, Friday 15th. Booking essential – ‘off grid’ camping – email for more details.
URL:https://www.transportforireland.ie/ga/bikeweek-event/cycle-to-overnight-camping-trip/
LOCATION:Cycle – 10 km starting in Clon\, Emmet Square
CATEGORIES:Leisure and Recreational
ATTACH;FMTTYPE=image/png:https://www.transportforireland.ie/wp-content/uploads/2026/04/Bike-Week-Image-61.png
END:VEVENT
BEGIN:VEVENT
DTSTART;TZID=Europe/Dublin:20260514T180000
DTEND;TZID=Europe/Dublin:20260514T210000
DTSTAMP:20260425T142025
CREATED:20260422T114813Z
LAST-MODIFIED:20260422T114813Z
UID:10001997-1778781600-1778792400@www.transportforireland.ie
SUMMARY:Galley Tour 6-9pm
DESCRIPTION:A relaxed social tour of a number of Cork City Galleries’ current exhibitions.\nCome join us for inspiring works of art\, cultured conversation\, sophisticated canopies\, and a lovely evening cycle.\nAll welcome free light refreshments included.\nWe are limited to 20 participants due to gallery capacity so please book your space to avoid disappointment.
URL:https://www.transportforireland.ie/ga/bikeweek-event/galley-tour-6-9pm-2/
LOCATION:Meeting point Michael Coilin on a bike statue on the Grand Parade\, Meeting point Michael Coilin on a bike statue on the Grand Parade
CATEGORIES:Leisure and Recreational
ATTACH;FMTTYPE=image/png:https://www.transportforireland.ie/wp-content/uploads/2026/04/Bike-Week-Image-92.png
END:VEVENT
BEGIN:VEVENT
DTSTART;TZID=Europe/Dublin:20260514T183000
DTEND;TZID=Europe/Dublin:20260514T200000
DTSTAMP:20260425T142025
CREATED:20260422T145606Z
LAST-MODIFIED:20260422T145606Z
UID:10002024-1778783400-1778788800@www.transportforireland.ie
SUMMARY:Fix Your Gears taster
DESCRIPTION:An intro session on gears\, giving a better understanding of how they should work. The focus will be on helping you to recognise the different types of problems\, and this may allow you to fix any issues that come up on your bike. Feel free to bring your bike along\, we will provide bikes for you to try out the repair work yourself. We will have materials and tools provided.
URL:https://www.transportforireland.ie/ga/bikeweek-event/fix-your-gears-taster-2/
LOCATION:Cork Community Bikes\, Cork Foyer\, Assumpton Road\, Blackpool\, Cork City. T23 FDT4\, Cork Community Bikes\, Cork Foyer\, Assumpton Road\, Blackpool\, Cork City. T23 FDT4\, T23 FDT4
CATEGORIES:Leisure and Recreational
ATTACH;FMTTYPE=image/png:https://www.transportforireland.ie/wp-content/uploads/2026/04/Bike-Week-Image-116.png
END:VEVENT
BEGIN:VEVENT
DTSTART;TZID=Europe/Dublin:20260514T190000
DTEND;TZID=Europe/Dublin:20260514T190000
DTSTAMP:20260425T142025
CREATED:20260421T141948Z
LAST-MODIFIED:20260421T141948Z
UID:10001937-1778785200-1778785200@www.transportforireland.ie
SUMMARY:Opera House Cycles
DESCRIPTION:Long and short cycle options. Approx 15km and 45km
URL:https://www.transportforireland.ie/ga/bikeweek-event/opera-house-cycles/
LOCATION:Opera House\, Opera House\, Ireland
CATEGORIES:Leisure and Recreational
ATTACH;FMTTYPE=image/png:https://www.transportforireland.ie/wp-content/uploads/2026/04/Bike-Week-Image-44.png
END:VEVENT
BEGIN:VEVENT
DTSTART;TZID=Europe/Dublin:20260514T190000
DTEND;TZID=Europe/Dublin:20260514T210000
DTSTAMP:20260425T142025
CREATED:20260421T142016Z
LAST-MODIFIED:20260421T142016Z
UID:10001846-1778785200-1778792400@www.transportforireland.ie
SUMMARY:Pedals on the Dance Floor
DESCRIPTION:Come join us for a fun filled cycle as we circle Skibbereen town and arrive at a secret location for a popup silent disco. Bling your bike with its disco flair and get your groove on. Children must be accompanied by an adult.
URL:https://www.transportforireland.ie/ga/bikeweek-event/pedals-on-the-dance-floor/
LOCATION:Skibbereen town\, Starting from the Skibbereen playground
CATEGORIES:Leisure and Recreational
ATTACH;FMTTYPE=image/png:https://www.transportforireland.ie/wp-content/uploads/2026/04/Bike-Week-Image-46.png
END:VEVENT
BEGIN:VEVENT
DTSTART;TZID=Europe/Dublin:20260514T203000
DTEND;TZID=Europe/Dublin:20260514T233000
DTSTAMP:20260425T142025
CREATED:20260422T142344Z
LAST-MODIFIED:20260422T142344Z
UID:10002006-1778790600-1778801400@www.transportforireland.ie
SUMMARY:Adult Collage Making Workshop
DESCRIPTION:A fun evening of bike-themed art!\nInternationally renowned collage artist Silvio will provide everything you need and some gentle guidance for you to create your own bike-themed masterwork celebrating the joy and freedom of cycling.\nAnd all free!
URL:https://www.transportforireland.ie/ga/bikeweek-event/adult-collage-making-workshop/
LOCATION:The Friary No.1 Shandon St.\, The Friary No.1 Shandon St.
CATEGORIES:Leisure and Recreational
ATTACH;FMTTYPE=image/png:https://www.transportforireland.ie/wp-content/uploads/2026/04/Bike-Week-Image-101.png
END:VEVENT
BEGIN:VEVENT
DTSTART;TZID=Europe/Dublin:20260515T093000
DTEND;TZID=Europe/Dublin:20260515T120000
DTSTAMP:20260425T142025
CREATED:20260417T114700Z
LAST-MODIFIED:20260417T114700Z
UID:10001540-1778837400-1778846400@www.transportforireland.ie
SUMMARY:Harbour Greenway E-Bike Ride
DESCRIPTION:Join us for an exciting e-bike ride along the Harbour Greenway\, where participants can enjoy a relaxed cycle through one of the area’s most scenic routes. This community focused event combines fitness\, fun\, and sustainability\, making it suitable for all over the age of 18.
URL:https://www.transportforireland.ie/ga/bikeweek-event/harbour-greenway-e-bike-ride/
LOCATION:Marina Market Cork Bike Hire Depot\, Marina Market Cork Bike Hire Depot
CATEGORIES:Leisure and Recreational
ATTACH;FMTTYPE=image/png:https://www.transportforireland.ie/wp-content/uploads/2026/04/Bike-Week-Image-26.png
END:VEVENT
BEGIN:VEVENT
DTSTART;TZID=Europe/Dublin:20260515T120000
DTEND;TZID=Europe/Dublin:20260515T140000
DTSTAMP:20260425T142025
CREATED:20260420T140124Z
LAST-MODIFIED:20260420T140124Z
UID:10001519-1778846400-1778853600@www.transportforireland.ie
SUMMARY:Cargo Bike Open Day
DESCRIPTION:This is a static event with cargo bike suppliers in attendance.
URL:https://www.transportforireland.ie/ga/bikeweek-event/cargo-bike-open-day/
LOCATION:Marina Park\, Red structure at Marina Park\, Cork City\, Ireland
CATEGORIES:Leisure and Recreational
ATTACH;FMTTYPE=image/png:https://www.transportforireland.ie/wp-content/uploads/2026/04/Bike-Week-Image-8.png
END:VEVENT
BEGIN:VEVENT
DTSTART;TZID=Europe/Dublin:20260515T120000
DTEND;TZID=Europe/Dublin:20260515T140000
DTSTAMP:20260425T142025
CREATED:20260422T132329Z
LAST-MODIFIED:20260422T132329Z
UID:10001961-1778846400-1778853600@www.transportforireland.ie
SUMMARY:Free Bike Clinic @ The Bike Circus
DESCRIPTION:Come get your bike looked at\, check the breaks and learn a few tops tips for keeping your bike running smoothly on the road! (pop in any day we are open this week for the same treatment!)
URL:https://www.transportforireland.ie/ga/bikeweek-event/free-bike-clinic-the-bike-circus/
LOCATION:The Bike Circus\, The Bike Circus
CATEGORIES:Leisure and Recreational
ATTACH;FMTTYPE=image/png:https://www.transportforireland.ie/wp-content/uploads/2026/04/Bike-Week-Image-62.png
END:VEVENT
BEGIN:VEVENT
DTSTART;TZID=Europe/Dublin:20260515T123000
DTEND;TZID=Europe/Dublin:20260515T133000
DTSTAMP:20260425T142025
CREATED:20260422T132744Z
LAST-MODIFIED:20260422T132744Z
UID:10002002-1778848200-1778851800@www.transportforireland.ie
SUMMARY:Bike Week Free Bike Doc Sessions (Friday)
DESCRIPTION:Learn how to check your bike\, spot problems before they are serious and fix simple problems like adjusting brakes\, changing brake pads or tubes.\nOr have me pump up your tyres\, adjust your gears and brakes\, oil everything and check everything is in safe working order.\nAnd all free!
URL:https://www.transportforireland.ie/ga/bikeweek-event/bike-week-free-bike-doc-sessions-friday/
LOCATION:Meeting point Michael Coilin on a bike statue on the Grand Parade\, Meeting point Michael Coilin on a bike statue on the Grand Parade
CATEGORIES:Leisure and Recreational
ATTACH;FMTTYPE=image/png:https://www.transportforireland.ie/wp-content/uploads/2026/04/Bike-Week-Image-96.png
END:VEVENT
BEGIN:VEVENT
DTSTART;TZID=Europe/Dublin:20260515T123000
DTEND;TZID=Europe/Dublin:20260515T140000
DTSTAMP:20260425T142025
CREATED:20260422T144554Z
LAST-MODIFIED:20260422T145709Z
UID:10002025-1778848200-1778853600@www.transportforireland.ie
SUMMARY:Bike Doctor @ UCC
DESCRIPTION:Mechanics from Cork Community Bikes will thoroughly check your bike and carry out any small repairs as needed. We’ll explain and give advice on looking after your bike.
URL:https://www.transportforireland.ie/ga/bikeweek-event/bike-doctor-ucc-3/
LOCATION:The Student Hub\, University College Cork\, College Road\, Cork City. T12 YF78\, The Student Hub\, University College Cork\, College Road\, Cork City. T12 YF78\, T12 YF78
CATEGORIES:Leisure and Recreational
ATTACH;FMTTYPE=image/png:https://www.transportforireland.ie/wp-content/uploads/2026/04/Bike-Week-Image-117.png
END:VEVENT
BEGIN:VEVENT
DTSTART;TZID=Europe/Dublin:20260515T133000
DTEND;TZID=Europe/Dublin:20260515T180000
DTSTAMP:20260425T142025
CREATED:20260423T080048Z
LAST-MODIFIED:20260423T080048Z
UID:10001976-1778851800-1778868000@www.transportforireland.ie
SUMMARY:Parks greenways & quiteways of Cork City
DESCRIPTION:A relaxed social cycle around the Southside of Cork City\nThe majority of this cycle will be off road and most of the rest on very quiet roads\, it will be slow and easy so is particularly suited to those who are less confident cyclists\nA Cycle out along the river to the Lee Fields\, then along the Greenway behind CIT to Curraheen\, though quite estate roads to the Greenway parallel to the N22 between the Bandon Road and Wilton\, though quite estate roads and across the Cycle/Pedestrian bridge to Togher cross to join the Greenway Parallel to the N22 into the Tramore Valley Park for a picnic stop\, leave the park via the Greenway Parallel to the N22 to Douglas Village\, through the village to the Park on to the Green way to Donnybrook\, back through Douglas village to the Green way behind Besskrook to Mahon Strand\, past Blackrock Castle and alone the Marine back to the city.
URL:https://www.transportforireland.ie/ga/bikeweek-event/parks-greenways-quiteways-of-cork-city-2/
LOCATION:Meeting point Michael Coilin on a bike statue on the Grand Parade\, Meeting point Michael Coilin on a bike statue on the Grand Parade
CATEGORIES:Leisure and Recreational
ATTACH;FMTTYPE=image/png:https://www.transportforireland.ie/wp-content/uploads/2026/04/Bike-Week-Image-74.png
END:VEVENT
BEGIN:VEVENT
DTSTART;TZID=Europe/Dublin:20260515T170000
DTEND;TZID=Europe/Dublin:20260515T190000
DTSTAMP:20260425T142025
CREATED:20260422T132421Z
LAST-MODIFIED:20260422T132421Z
UID:10001964-1778864400-1778871600@www.transportforireland.ie
SUMMARY:Kiddical Mass
DESCRIPTION:A kiddie friendly lap of the town to support safer streets. All welcome\, especially kids!!
URL:https://www.transportforireland.ie/ga/bikeweek-event/kiddical-mass/
LOCATION:Clon Streets\, Emmet Square
CATEGORIES:Leisure and Recreational
ATTACH;FMTTYPE=image/png:https://www.transportforireland.ie/wp-content/uploads/2026/04/Bike-Week-Image-65.png
END:VEVENT
BEGIN:VEVENT
DTSTART;TZID=Europe/Dublin:20260515T180000
DTEND;TZID=Europe/Dublin:20260515T200000
DTSTAMP:20260425T142025
CREATED:20260422T145336Z
LAST-MODIFIED:20260422T145336Z
UID:10002043-1778868000-1778875200@www.transportforireland.ie
SUMMARY:Clon Estuary Birdwatch Cycle
DESCRIPTION:A birdwatch (and listening!) cycle of the Inchydoney Estuary co hosted by Birdwatch Ireland – one of our most popular annual events!
URL:https://www.transportforireland.ie/ga/bikeweek-event/clon-estuary-birdwatch-cycle/
LOCATION:Clonakilty Estuary\, Emmet Square
CATEGORIES:Leisure and Recreational
ATTACH;FMTTYPE=image/png:https://www.transportforireland.ie/wp-content/uploads/2026/04/Bike-Week-Image-128.png
END:VEVENT
BEGIN:VEVENT
DTSTART;TZID=Europe/Dublin:20260515T183000
DTEND;TZID=Europe/Dublin:20260515T200000
DTSTAMP:20260425T142025
CREATED:20260422T145448Z
LAST-MODIFIED:20260422T145448Z
UID:10002040-1778869800-1778875200@www.transportforireland.ie
SUMMARY:Fix Your E-Bike Class
DESCRIPTION:An intro session on electric bikes\, this will give a better understanding of how they should work. The focus will be on helping you to recognise the different problems\, and this may allow you to fix issues on your e-bike. Feel free to bring your e-bike along\, we will provide bikes for you to try out the repair work yourself. Materials and tools provided.
URL:https://www.transportforireland.ie/ga/bikeweek-event/fix-your-e-bike-class/
LOCATION:Cork Community Bikes\, Cork Foyer\, Assumpton Road\, Blackpool\, Cork City. T23 FDT4\, Cork Community Bikes\, Cork Foyer\, Assumpton Road\, Blackpool\, Cork City. T23 FDT4\, T23 FDT4
CATEGORIES:Leisure and Recreational
ATTACH;FMTTYPE=image/png:https://www.transportforireland.ie/wp-content/uploads/2026/04/Bike-Week-Image-127.png
END:VEVENT
BEGIN:VEVENT
DTSTART;TZID=Europe/Dublin:20260515T190000
DTEND;TZID=Europe/Dublin:20260515T220000
DTSTAMP:20260425T142025
CREATED:20260422T145535Z
LAST-MODIFIED:20260422T145535Z
UID:10001986-1778871600-1778882400@www.transportforireland.ie
SUMMARY:Cycle Through Time
DESCRIPTION:A guided cycle through the first 20 Billion years of the universe from the big bang at St Patrick’s Bridge through the birth of the first stars. the birth of the Earth\, the evolution of life\, to today and on to the death of the sun and merger of our milky way galaxy with Andromeda at Blackrock Castle.\nThe Full Moon Cycle will follow from this cycle and begin at Blackrock Castle Observatory
URL:https://www.transportforireland.ie/ga/bikeweek-event/cycle-through-time-2/
LOCATION:Meeting point Michael Coilin on a bike statue on the Grand Parade\, Meeting point Michael Coilin on a bike statue on the Grand Parade
CATEGORIES:Leisure and Recreational
ATTACH;FMTTYPE=image/png:https://www.transportforireland.ie/wp-content/uploads/2026/04/Bike-Week-Image-83.png
END:VEVENT
BEGIN:VEVENT
DTSTART;TZID=Europe/Dublin:20260515T220000
DTEND;TZID=Europe/Dublin:20260615T020000
DTSTAMP:20260425T142025
CREATED:20260423T075956Z
LAST-MODIFIED:20260423T075956Z
UID:10002003-1778882400-1781488800@www.transportforireland.ie
SUMMARY:Moonlight\, Live Music\, Poetry\, Dance Cycle
DESCRIPTION:“Join us for an unforgettable journey into the night as we cycle from Blackrock Castle out around Mahon strand and back along the Old railway line.\nAlways one of our most popular and memorable cycles of the year.\nThe journey will be broken by unexpected sensory experiences\, which may include music\, poetry\, performance\, light and dark.\nThis event will follow on directly from the “”Bike Week Sunset Cycle Through the Planets”” to Blackrock Castle.\nCycle will finish back in the city centre”
URL:https://www.transportforireland.ie/ga/bikeweek-event/moonlight-live-music-poetry-dance-cycle/
LOCATION:Meeting point Blackrock Castle\, Meeting point Blackrock Castle
CATEGORIES:Leisure and Recreational
ATTACH;FMTTYPE=image/png:https://www.transportforireland.ie/wp-content/uploads/2026/04/Bike-Week-Image-97.png
END:VEVENT
BEGIN:VEVENT
DTSTART;TZID=Europe/Dublin:20260516T070000
DTEND;TZID=Europe/Dublin:20260516T090000
DTSTAMP:20260425T142025
CREATED:20260416T150051Z
LAST-MODIFIED:20260416T150051Z
UID:10001541-1778914800-1778922000@www.transportforireland.ie
SUMMARY:Women’s Early Morning Cycle & Sauna\, Garrettstown area
DESCRIPTION:Meet in Ballinspittle. Enjoy a group leisure cycle along the coast including Garrettstown beach plus the Old Head of Kinsale\, before a 30 minute sauna at the beach in Garrylucas. There will be 4 e-bikes available for use on the day\, plus pannier bags to carry towels etc. For women over 18 years old.
URL:https://www.transportforireland.ie/ga/bikeweek-event/womens-early-morning-cycle-sauna-garrettstown-area/
LOCATION:Ballinspittle/Garrettstown\, Ballinspittle/Garrettstown
CATEGORIES:Leisure and Recreational
ATTACH;FMTTYPE=image/png:https://www.transportforireland.ie/wp-content/uploads/2026/04/Bike-Week-Image-27.png
END:VEVENT
BEGIN:VEVENT
DTSTART;TZID=Europe/Dublin:20260516T093000
DTEND;TZID=Europe/Dublin:20260516T113000
DTSTAMP:20260425T142025
CREATED:20260416T160106Z
LAST-MODIFIED:20260416T160106Z
UID:10001542-1778923800-1778931000@www.transportforireland.ie
SUMMARY:Ballyhoura Bike Week - MTB for all
DESCRIPTION:Try-A-Bike for kids and teenagers / Family and Social Group Rides for all ages and abilities.
URL:https://www.transportforireland.ie/ga/bikeweek-event/ballyhoura-bike-week-mtb-for-all/
LOCATION:Ballyhoura Mountain Bike Centre\, Ballyhoura Mountain Bike Centre
CATEGORIES:Leisure and Recreational
ATTACH;FMTTYPE=image/png:https://www.transportforireland.ie/wp-content/uploads/2026/04/Bike-Week-Image-28.png
END:VEVENT
BEGIN:VEVENT
DTSTART;TZID=Europe/Dublin:20260516T100000
DTEND;TZID=Europe/Dublin:20260516T120000
DTSTAMP:20260425T142025
CREATED:20260417T113413Z
LAST-MODIFIED:20260417T113413Z
UID:10001543-1778925600-1778932800@www.transportforireland.ie
SUMMARY:Fountainstown Bike Doctor Workshop
DESCRIPTION:Bike Doctor Workshop
URL:https://www.transportforireland.ie/ga/bikeweek-event/fountainstown-bike-doctor-workshop/
LOCATION:Fountainstown\, Fountainstown Car Park
CATEGORIES:Leisure and Recreational
ATTACH;FMTTYPE=image/png:https://www.transportforireland.ie/wp-content/uploads/2026/04/Bike-Week-Image-29.png
END:VEVENT
BEGIN:VEVENT
DTSTART;TZID=Europe/Dublin:20260516T100000
DTEND;TZID=Europe/Dublin:20260516T120000
DTSTAMP:20260425T142025
CREATED:20260422T120011Z
LAST-MODIFIED:20260422T120011Z
UID:10001989-1778925600-1778932800@www.transportforireland.ie
SUMMARY:Otter Cycle
DESCRIPTION:Nothing is more magical than seeing an otter or seal in the heart of the city and you can see them most days if you know what you’re looking for.\nAnd while we are getting our eye in\, and waiting for the otters to appear\, we can see & hear the story of miniature natural wildernesses hidden in the cracks & hollows of the quay walls of Cork.\nLearn how nature finds a way and thrives even in the heart of the city.\nPart of Bike Week & Biodiversity Week.
URL:https://www.transportforireland.ie/ga/bikeweek-event/otter-cycle-2/
LOCATION:Meeting point Michael Coilin on a bike statue on the Grand Parade\, Meeting point Michael Coilin on a bike statue on the Grand Parade
CATEGORIES:Leisure and Recreational
ATTACH;FMTTYPE=image/png:https://www.transportforireland.ie/wp-content/uploads/2026/04/Bike-Week-Image-85.png
END:VEVENT
BEGIN:VEVENT
DTSTART;TZID=Europe/Dublin:20260516T103000
DTEND;TZID=Europe/Dublin:20260516T123000
DTSTAMP:20260425T142025
CREATED:20260420T151730Z
LAST-MODIFIED:20260420T151730Z
UID:10001544-1778927400-1778934600@www.transportforireland.ie
SUMMARY:Harbour Horizons: Guided eBike Tour from Cork to Passage West
DESCRIPTION:Hop on your bike and explore one of Cork’s most scenic and relaxing cycling routes\, the Cork to Passage West Greenway. Stretching from the heart of the city\, this easy 22 km (return) route follows the old Cork\, Blackrock and Passage Railway line\, offering smooth paths\, gentle gradients\, and stunning views along the River Lee and Cork Harbour.
URL:https://www.transportforireland.ie/ga/bikeweek-event/harbour-horizons-guided-ebike-tour-from-cork-to-passage-west/
LOCATION:Cork Bike Hire Marina Market Depot\, Cork Bike Hire Marina Market Depot
CATEGORIES:Leisure and Recreational
ATTACH;FMTTYPE=image/png:https://www.transportforireland.ie/wp-content/uploads/2026/04/Bike-Week-Image-30.png
END:VEVENT
BEGIN:VEVENT
DTSTART;TZID=Europe/Dublin:20260516T110000
DTEND;TZID=Europe/Dublin:20260516T120000
DTSTAMP:20260425T142025
CREATED:20260422T132557Z
LAST-MODIFIED:20260422T132557Z
UID:10001965-1778929200-1778932800@www.transportforireland.ie
SUMMARY:Coffee & Cranks: Bike Stories and Adventures
DESCRIPTION:Come meet ordinary humans who have had extraordinary cycle adventures! Come share your stories & have a bit of craic
URL:https://www.transportforireland.ie/ga/bikeweek-event/coffee-cranks-bike-stories-and-adventures/
LOCATION:The Bike Circus\, The Bike Circus
CATEGORIES:Leisure and Recreational
ATTACH;FMTTYPE=image/png:https://www.transportforireland.ie/wp-content/uploads/2026/04/Bike-Week-Image-66.png
END:VEVENT
BEGIN:VEVENT
DTSTART;TZID=Europe/Dublin:20260516T123000
DTEND;TZID=Europe/Dublin:20260516T140000
DTSTAMP:20260425T142025
CREATED:20260422T144505Z
LAST-MODIFIED:20260422T144505Z
UID:10002026-1778934600-1778940000@www.transportforireland.ie
SUMMARY:Bike Doctor @Togher Community Garden
DESCRIPTION:Mechanics from Cork Community Bikes will thoroughly check your bike and carry out any small repairs as needed. We’ll explain and give advice on looking after your bike.
URL:https://www.transportforireland.ie/ga/bikeweek-event/bike-doctor-togher-community-garden-2/
LOCATION:Togher Community Garden\, Clashduv Park\, Clashduv Road\, Togher\, Cork City. T12 YR71\, Togher Community Garden\, Clashduv Park\, Clashduv Road\, Togher\, Cork City. T12 YR71\, T12 YR71
CATEGORIES:Leisure and Recreational
ATTACH;FMTTYPE=image/png:https://www.transportforireland.ie/wp-content/uploads/2026/04/Bike-Week-Image-118.png
END:VEVENT
BEGIN:VEVENT
DTSTART;TZID=Europe/Dublin:20260516T140000
DTEND;TZID=Europe/Dublin:20260516T160000
DTSTAMP:20260425T142025
CREATED:20260421T144259Z
LAST-MODIFIED:20260421T144259Z
UID:10001840-1778940000-1778947200@www.transportforireland.ie
SUMMARY:Learn to Cycle for Adults
DESCRIPTION:Safe and supportive environment for adults who would like to learn to cycle.
URL:https://www.transportforireland.ie/ga/bikeweek-event/learn-to-cycle-for-adults-2/
LOCATION:Cycle Sense\, Skibbereen\, P81 FY79\, Cycle Sense\, Skibbereen\, P81 FY79\, P81 FY79
CATEGORIES:Leisure and Recreational
ATTACH;FMTTYPE=image/png:https://www.transportforireland.ie/wp-content/uploads/2026/04/Bike-Week-Image-41.png
END:VEVENT
END:VCALENDAR