BEGIN:VCALENDAR
VERSION:2.0
PRODID:-//Transport for Ireland - ECPv6.15.20//NONSGML v1.0//EN
CALSCALE:GREGORIAN
METHOD:PUBLISH
X-ORIGINAL-URL:https://www.transportforireland.ie/ga/
X-WR-CALDESC:Events for Transport for Ireland
REFRESH-INTERVAL;VALUE=DURATION:PT1H
X-Robots-Tag:noindex
X-PUBLISHED-TTL:PT1H
BEGIN:VTIMEZONE
TZID:Europe/Dublin
BEGIN:STANDARD
TZOFFSETFROM:+0000
TZOFFSETTO:+0100
TZNAME:IST
DTSTART:20250330T010000
END:STANDARD
BEGIN:DAYLIGHT
TZOFFSETFROM:+0100
TZOFFSETTO:+0000
TZNAME:GMT
DTSTART:20251026T010000
END:DAYLIGHT
BEGIN:STANDARD
TZOFFSETFROM:+0000
TZOFFSETTO:+0100
TZNAME:IST
DTSTART:20260329T010000
END:STANDARD
BEGIN:DAYLIGHT
TZOFFSETFROM:+0100
TZOFFSETTO:+0000
TZNAME:GMT
DTSTART:20261025T010000
END:DAYLIGHT
BEGIN:STANDARD
TZOFFSETFROM:+0000
TZOFFSETTO:+0100
TZNAME:IST
DTSTART:20270328T010000
END:STANDARD
BEGIN:DAYLIGHT
TZOFFSETFROM:+0100
TZOFFSETTO:+0000
TZNAME:GMT
DTSTART:20271031T010000
END:DAYLIGHT
END:VTIMEZONE
BEGIN:VEVENT
DTSTART;TZID=Europe/Dublin:20260510T100000
DTEND;TZID=Europe/Dublin:20260510T130000
DTSTAMP:20260420T173241
CREATED:20260420T155853Z
LAST-MODIFIED:20260420T155853Z
UID:10001820-1778407200-1778418000@www.transportforireland.ie
SUMMARY:Social Coffee Cycle
DESCRIPTION:Beginners Cycle for people wanting to getting involved with this local cycling group\, stopping a coffee and a chat approximately 20km. A good road worthy bike required and a cycling helmet.
URL:https://www.transportforireland.ie/ga/bikeweek-event/social-coffee-cycle/
LOCATION:Courtyard Coffee\, Merchants Quay\, Drogheda\, Drogheda\, Louth\, A92 YX7N
CATEGORIES:Leisure and Recreational
ATTACH;FMTTYPE=image/jpeg:https://www.transportforireland.ie/wp-content/uploads/2026/04/bike-week-logo-8.jpg
END:VEVENT
BEGIN:VEVENT
DTSTART;TZID=Europe/Dublin:20260510T100000
DTEND;TZID=Europe/Dublin:20260510T170000
DTSTAMP:20260420T173241
CREATED:20260420T155907Z
LAST-MODIFIED:20260420T155907Z
UID:10001649-1778407200-1778432400@www.transportforireland.ie
SUMMARY:Family Greenway Cycle
DESCRIPTION:Family FREE Cycle Event was in conjunction with a local cycling provider On Yer Bike who is based at the picturesque location of the Carlingford Greenway. All family members CYCLE for FREE\, the ethos was “No bike NO PROBLEM” for the weekend bikes\, helmets and bike safety instruction provided located at the Carlingford Greenway hosted by On Yer Bike
URL:https://www.transportforireland.ie/ga/bikeweek-event/family-greenway-cycle/
LOCATION:On Yer Bike Carlingford\, Carlingford Marina\, Louth\, na
CATEGORIES:Leisure and Recreational
ATTACH;FMTTYPE=image/jpeg:https://www.transportforireland.ie/wp-content/uploads/2026/04/Family-Cycle-Event-2026-scaled.jpg
END:VEVENT
BEGIN:VEVENT
DTSTART;TZID=Europe/Dublin:20260513T190000
DTEND;TZID=Europe/Dublin:20260513T203000
DTSTAMP:20260420T173241
CREATED:20260420T115956Z
LAST-MODIFIED:20260420T115956Z
UID:10001798-1778698800-1778704200@www.transportforireland.ie
SUMMARY:Drogheda Bike Maintenance / Nutrition Evening
DESCRIPTION:Drogheda Wheelers is happy to host a bike maintenance / nutrition evening providing insights on how to look after your bike and how to fuel for cycles.
URL:https://www.transportforireland.ie/ga/bikeweek-event/drogheda-bike-maintenance-nutrition-evening/
LOCATION:The Thatch Bar\, Donore Rd\, Drogheda\, Drogheda
CATEGORIES:Awareness and Safety,Workshops and Maintenance
END:VEVENT
BEGIN:VEVENT
DTSTART;TZID=Europe/Dublin:20260517T100000
DTEND;TZID=Europe/Dublin:20260517T130000
DTSTAMP:20260420T173241
CREATED:20260420T112144Z
LAST-MODIFIED:20260420T112144Z
UID:10001830-1779012000-1779022800@www.transportforireland.ie
SUMMARY:Family Fun Cycle
DESCRIPTION:Family Fun Cycle from Drogheda to Laytown and a nature walk\, get refreshments and cycle back to Drogheda. Parents are to accompany children\, must have road worthy bike and cycling helmet to participate.
URL:https://www.transportforireland.ie/ga/bikeweek-event/family-fun-cycle/
LOCATION:Courtyard Coffee\, Merchants Quay\, Drogheda\, Drogheda\, Louth\, A92 YX7N
CATEGORIES:Leisure and Recreational
ATTACH;FMTTYPE=image/jpeg:https://www.transportforireland.ie/wp-content/uploads/2026/04/bike-week-logo-9.jpg
END:VEVENT
END:VCALENDAR