BEGIN:VCALENDAR
VERSION:2.0
PRODID:-//Transport for Ireland - ECPv6.15.20//NONSGML v1.0//EN
CALSCALE:GREGORIAN
METHOD:PUBLISH
X-ORIGINAL-URL:https://www.transportforireland.ie/ga/
X-WR-CALDESC:Events for Transport for Ireland
REFRESH-INTERVAL;VALUE=DURATION:PT1H
X-Robots-Tag:noindex
X-PUBLISHED-TTL:PT1H
BEGIN:VTIMEZONE
TZID:Europe/Dublin
BEGIN:STANDARD
TZOFFSETFROM:+0000
TZOFFSETTO:+0100
TZNAME:IST
DTSTART:20250330T010000
END:STANDARD
BEGIN:DAYLIGHT
TZOFFSETFROM:+0100
TZOFFSETTO:+0000
TZNAME:GMT
DTSTART:20251026T010000
END:DAYLIGHT
BEGIN:STANDARD
TZOFFSETFROM:+0000
TZOFFSETTO:+0100
TZNAME:IST
DTSTART:20260329T010000
END:STANDARD
BEGIN:DAYLIGHT
TZOFFSETFROM:+0100
TZOFFSETTO:+0000
TZNAME:GMT
DTSTART:20261025T010000
END:DAYLIGHT
BEGIN:STANDARD
TZOFFSETFROM:+0000
TZOFFSETTO:+0100
TZNAME:IST
DTSTART:20270328T010000
END:STANDARD
BEGIN:DAYLIGHT
TZOFFSETFROM:+0100
TZOFFSETTO:+0000
TZNAME:GMT
DTSTART:20271031T010000
END:DAYLIGHT
END:VTIMEZONE
BEGIN:VEVENT
DTSTART;TZID=Europe/Dublin:20260509T110000
DTEND;TZID=Europe/Dublin:20260509T130000
DTSTAMP:20260420T154935
CREATED:20260420T105430Z
LAST-MODIFIED:20260420T105430Z
UID:10001826-1778324400-1778331600@www.transportforireland.ie
SUMMARY:Collinstown Inclusion Hub Cycling Event
DESCRIPTION:A fun day for people with and without disabilities who can learn and cycle and have fun together in a safe environment.\nFun day designed to make cycling accessible to everyone\, offering:\n✅ Free supervised access to mainstream bicycles\n✅ Wheelchair transporter bikes\n✅ A wide range of adapted mobility trikes for riders with mobility challenges
URL:https://www.transportforireland.ie/ga/bikeweek-event/collinstown-inclusion-hub-cycling-event/
LOCATION:Collinstown Park Sports Complex\,\, Neilstown Road\, Clondalkin\,\, Dublin 22.\, D22F663
CATEGORIES:Access and Inclusion,Education and Training,Fun and Interactive
ATTACH;FMTTYPE=image/jpeg:https://www.transportforireland.ie/wp-content/uploads/2026/04/Picture1.jpg
END:VEVENT
BEGIN:VEVENT
DTSTART;TZID=Europe/Dublin:20260510T103000
DTEND;TZID=Europe/Dublin:20260510T140000
DTSTAMP:20260420T154935
CREATED:20260420T133559Z
LAST-MODIFIED:20260420T133559Z
UID:10001834-1778409000-1778421600@www.transportforireland.ie
SUMMARY:Pedal Party Family Fun Cycle
DESCRIPTION:Get ready for a fun-filled day for everyone!\nGrab your bike and the whole crew and join us for a cycle in Griffeen Valley Park to enjoy the beautiful surroundings.\nMusic\, games and picnic on the day.\nSee you there!
URL:https://www.transportforireland.ie/ga/bikeweek-event/pedal-party-family-fun-cycle/
LOCATION:Griffeen Valley Carpark\, Haydens Lane\,\, Esker South\, Lucan\,\, Co. Dublin
CATEGORIES:Fun and Interactive,Leisure and Recreational
ATTACH;FMTTYPE=image/jpeg:https://www.transportforireland.ie/wp-content/uploads/2026/04/Picture2.jpg
END:VEVENT
BEGIN:VEVENT
DTSTART;TZID=Europe/Dublin:20260512T180000
DTEND;TZID=Europe/Dublin:20260512T200000
DTSTAMP:20260420T154935
CREATED:20260420T101101Z
LAST-MODIFIED:20260420T101101Z
UID:10001843-1778608800-1778616000@www.transportforireland.ie
SUMMARY:Adult Cycling Skills
DESCRIPTION:Don’t miss out on this great chance to pedal with others and improve your skills!\nJoin us whether you’re a beginner or just want to sharpen your technique\, this session is perfect for adults looking to cycle with more confidence.
URL:https://www.transportforireland.ie/ga/bikeweek-event/adult-cycling-skills/
LOCATION:Collinstown Sports Complex\,\, Neilstown Road\, Clondalkin\,\, Dublin 22.\, D22F663
CATEGORIES:Awareness and Safety,Education and Training
ATTACH;FMTTYPE=image/jpeg:https://www.transportforireland.ie/wp-content/uploads/2026/04/Picture1-1.jpg
END:VEVENT
END:VCALENDAR