BEGIN:VCALENDAR
VERSION:2.0
PRODID:-//Transport for Ireland - ECPv6.15.20//NONSGML v1.0//EN
CALSCALE:GREGORIAN
METHOD:PUBLISH
X-WR-CALNAME:Transport for Ireland
X-ORIGINAL-URL:https://www.transportforireland.ie/ga/
X-WR-CALDESC:Events for Transport for Ireland
REFRESH-INTERVAL;VALUE=DURATION:PT1H
X-Robots-Tag:noindex
X-PUBLISHED-TTL:PT1H
BEGIN:VTIMEZONE
TZID:Europe/Dublin
BEGIN:STANDARD
TZOFFSETFROM:+0000
TZOFFSETTO:+0100
TZNAME:IST
DTSTART:20250330T010000
END:STANDARD
BEGIN:DAYLIGHT
TZOFFSETFROM:+0100
TZOFFSETTO:+0000
TZNAME:GMT
DTSTART:20251026T010000
END:DAYLIGHT
BEGIN:STANDARD
TZOFFSETFROM:+0000
TZOFFSETTO:+0100
TZNAME:IST
DTSTART:20260329T010000
END:STANDARD
BEGIN:DAYLIGHT
TZOFFSETFROM:+0100
TZOFFSETTO:+0000
TZNAME:GMT
DTSTART:20261025T010000
END:DAYLIGHT
BEGIN:STANDARD
TZOFFSETFROM:+0000
TZOFFSETTO:+0100
TZNAME:IST
DTSTART:20270328T010000
END:STANDARD
BEGIN:DAYLIGHT
TZOFFSETFROM:+0100
TZOFFSETTO:+0000
TZNAME:GMT
DTSTART:20271031T010000
END:DAYLIGHT
END:VTIMEZONE
BEGIN:VEVENT
DTSTART;TZID=Europe/Dublin:20260512T080000
DTEND;TZID=Europe/Dublin:20260512T170000
DTSTAMP:20260422T134015
CREATED:20260421T144400Z
LAST-MODIFIED:20260421T144400Z
UID:10001870-1778572800-1778605200@www.transportforireland.ie
SUMMARY:Glenveagh Cycle - Royal and Prior
DESCRIPTION:The Royal and Prior School will take part in a Bike Week event for Transition Year students\, featuring a guided cycle through Glenveagh National Park. This outdoor experience will give students the opportunity to enjoy one of Donegal’s most scenic landscapes while promoting active travel and cycling skills. \nThe event will encourage physical activity\, wellbeing\, and environmental awareness\, providing students with a memorable and engaging learning experience outside the classroom.
URL:https://www.transportforireland.ie/ga/bikeweek-event/glenveagh-cycle-royal-and-prior/
LOCATION:Glenveagh National Park
CATEGORIES:Leisure and Recreational
ORGANIZER;CN="Donegal County Council and Sports Partnership":MAILTO:@activedonegal.com
END:VEVENT
BEGIN:VEVENT
DTSTART;TZID=Europe/Dublin:20260512T080000
DTEND;TZID=Europe/Dublin:20260512T170000
DTSTAMP:20260422T134015
CREATED:20260422T090112Z
LAST-MODIFIED:20260422T090112Z
UID:10001945-1778572800-1778605200@www.transportforireland.ie
SUMMARY:Glenveagh Cycle - Royal and Prior
DESCRIPTION:The Royal and Prior School will take part in a Bike Week event for Transition Year students\, featuring a guided cycle through Glenveagh National Park. This outdoor experience will give students the opportunity to enjoy one of Donegal’s most scenic landscapes while promoting active travel and cycling skills. \nThe event will encourage physical activity\, wellbeing\, and environmental awareness\, providing students with a memorable and engaging learning experience outside the classroom.
URL:https://www.transportforireland.ie/ga/bikeweek-event/glenveagh-cycle-royal-and-prior-2/
LOCATION:Glenveagh National Park
CATEGORIES:Leisure and Recreational
ORGANIZER;CN="Donegal County Council and Sports Partnership":MAILTO:@activedonegal.com
END:VEVENT
END:VCALENDAR